BEGIN:VCALENDAR
VERSION:2.0
PRODID:-//jEvents 2.0 for Joomla//EN
CALSCALE:GREGORIAN
METHOD:PUBLISH
BEGIN:VEVENT
UID:c79cbf8685b5fac2ce5d5bcb20805363
CATEGORIES:Polar Conferences, Meetings and Events
CREATED:20180104T142309
SUMMARY:IASSA Working Group "Gender in the Arctic"
LOCATION:Oulu\,Finland
DESCRIPTION:WORKSHOP\nThe new IASSA Working Group “Gender in the Arctic” got some fundi
 ng from IASC for doing a workshop this year.\n \nThis will take place as a 
 side event of the UArctic Congress in September 2018 in Oulu/Finland. (The 
 conference from 3-7th of September will be held in Oulu and in Helsinki (He
 lsinki is on the last day).\n \nThe theme and call for papers for this GiA 
 side event will be out early 2018 and will focus around eg. women, masculin
 ity and queer studies/cases in the Arctic etc. GiA understands gender as a 
 intersectional category in particular including the indigenous dimensions.\
 n \nFunding will be allocated to people who have no institutional back up s
 uch as gender activists and early career scholars.\n \n \nWEBSITE and NETWO
 RK\nWe would also like to invite you to contribute to the IASSA GiA WG webs
 ite https://gender-arctic.jimdo.com.\n \nWe have there space for making you
 r initiatives, networks, institutions, research, yourself as an activist or
  researcher etc visible.\nIn the ideal world our website should be a one-st
 op-shop for all who are interested in Gender in the Arcitc in order to easi
 ly look up relevant info and to get in touch with each other.\nREGISTER on 
 the mailing list/network: <a href="https://lists.univie.ac.at/mailman/listi
 nfo/gender-arctic">https://lists.univie.ac.at/mailman/listinfo/gender-arcti
 c</a>.\n
X-ALT-DESC;FMTTYPE=text/html:<p><strong>WORKSHOP</strong></p><p>The new IASSA Working Group “Gender in t
 he Arctic” got some funding from IASC for doing a workshop this year.<br />
  <br />This will take place as a side event of the UArctic Congress in Sept
 ember 2018 in Oulu/Finland. (The conference from 3-7th of September will be
  held in Oulu and in Helsinki (Helsinki is on the last day).<br /> <br />Th
 e theme and call for papers for this GiA side event will be out early 2018 
 and will focus around eg. women, masculinity and queer studies/cases in the
  Arctic etc. GiA understands gender as a intersectional category in particu
 lar including the indigenous dimensions.<br /> <br />Funding will be alloca
 ted to people who have no institutional back up such as gender activists an
 d early career scholars.<br /> <br /> <br /><strong>WEBSITE and NETWORK</st
 rong></p><p>We would also like to invite you to contribute to the IASSA GiA
  WG website <a href="https://gender-arctic.jimdo.com">https://gender-arctic
 .jimdo.com</a>.<br /> <br />We have there space for making your initiatives
 , networks, institutions, research, yourself as an activist or researcher e
 tc visible.<br />In the ideal world our website should be a one-stop-shop f
 or all who are interested in Gender in the Arcitc in order to easily look u
 p relevant info and to get in touch with each other.</p><p>REGISTER on the 
 mailing list/network: <a href="https://lists.univie.ac.at/mailman/listinfo/
 gender-arctic">https://lists.univie.ac.at/mailman/listinfo/gender-arctic</a
 >.</p>
DTSTAMP:20260424T023230Z
DTSTART;TZID=UTC;VALUE=DATE:20180903
DTEND;TZID=UTC;VALUE=DATE:20180908
SEQUENCE:0
TRANSP:OPAQUE
END:VEVENT
END:VCALENDAR