BEGIN:VCALENDAR
VERSION:2.0
PRODID:-//jEvents 2.0 for Joomla//EN
CALSCALE:GREGORIAN
METHOD:PUBLISH
BEGIN:VEVENT
UID:0bff5128b47e88a4434ef52afb004dca
CATEGORIES:Polar Conferences, Meetings and Events
CREATED:20171218T080415
SUMMARY:Arctic Observing Summit 2018
LOCATION:Davos\, Switzerland
DESCRIPTION:Organizers announce the 2018 Arctic Observing Summit (AOS) to be held 24-26
  June 2018, immediately following POLAR 2018, in Davos, Switzerland.\nThe t
 heme of this meeting is The Business Case for a pan-Arctic Observing System
  and will focus on the sub-themes of The Need for the Observing System, Imp
 lementing and Optimizing a Pan-Arctic Observing System, and Operating Obser
 ving Systems and Networks.\nThe AOS is a high-level biennial summit that ai
 ms to provide community-driven guidance for the design, implementation, coo
 rdination and sustained operation of an international network of Arctic obs
 erving systems. The AOS provides a platform to address urgent and broadly r
 ecognized needs of Arctic observing across all components of the Arctic sys
 tem. It fosters international communication on and coordination of long-ter
 m observations aimed at improving understanding of and response and adaptat
 ion to system-scale Arctic change. It is an international forum for optimiz
 ing resource allocation through coordination of and exchange among research
 ers, Indigenous organizations, the public, private and not-for profit secto
 rs and all others involved or interested in the Arctic. The AOS is a contri
 bution to the Sustaining Arctic Observing Networks (SAON) initiative.\nThis
  is the 4th Summit since inception in 2013. The AOS brings together a diver
 se community to continue to progress on the development, implementation and
  sustained support of a multi-purpose Arctic Observing System of Systems.\n
 For more information about the conference, go to: \nFor questions, contact:
 \nRavi Sankar\nEmail: This email address is being protected from spambots. 
 You need JavaScript enabled to view it.
				document.getElementById('cloakd
 562e5d8c58b0baf404f32fbb31f4cfa').innerHTML = '';
				var prefix = '&#109;a
 ' + 'i&#108;' + '&#116;o';
				var path = 'hr' + 'ef' + '=';
				var addyd5
 62e5d8c58b0baf404f32fbb31f4cfa = 'r&#97;v&#105;.s&#97;nk&#97;r' + '&#64;';

 				addyd562e5d8c58b0baf404f32fbb31f4cfa = addyd562e5d8c58b0baf404f32fbb31f
 4cfa + '&#117;c&#97;lg&#97;ry' + '&#46;' + 'c&#97;';
				var addy_textd562e
 5d8c58b0baf404f32fbb31f4cfa = 'r&#97;v&#105;.s&#97;nk&#97;r' + '&#64;' + '&
 #117;c&#97;lg&#97;ry' + '&#46;' + 'c&#97;';document.getElementById('cloakd5
 62e5d8c58b0baf404f32fbb31f4cfa').innerHTML += '<a ' + path + '\'' + prefix 
 + ':' + addyd562e5d8c58b0baf404f32fbb31f4cfa + '\'>'+addy_textd562e5d8c58b0
 baf404f32fbb31f4cfa+'';
		\nPhone: 403-220-5775\n
X-ALT-DESC;FMTTYPE=text/html:<p>Organizers announce the <strong>2018 Arctic Observing Summit (AOS)</stro
 ng> to be held <strong>24-26 June 2018</strong>, immediately following POLA
 R 2018, in <strong>Davos, Switzerland</strong>.</p><p>The theme of this mee
 ting is The Business Case for a pan-Arctic Observing System and will focus 
 on the sub-themes of The Need for the Observing System, Implementing and Op
 timizing a Pan-Arctic Observing System, and Operating Observing Systems and
  Networks.</p><p>The AOS is a high-level biennial summit that aims to provi
 de community-driven guidance for the design, implementation, coordination a
 nd sustained operation of an international network of Arctic observing syst
 ems. The AOS provides a platform to address urgent and broadly recognized n
 eeds of Arctic observing across all components of the Arctic system. It fos
 ters international communication on and coordination of long-term observati
 ons aimed at improving understanding of and response and adaptation to syst
 em-scale Arctic change. It is an international forum for optimizing resourc
 e allocation through coordination of and exchange among researchers, Indige
 nous organizations, the public, private and not-for profit sectors and all 
 others involved or interested in the Arctic. The AOS is a contribution to t
 he Sustaining Arctic Observing Networks (SAON) initiative.</p><p>This is th
 e 4th Summit since inception in 2013. The AOS brings together a diverse com
 munity to continue to progress on the development, implementation and susta
 ined support of a multi-purpose Arctic Observing System of Systems.</p><p>F
 or more information about the conference, go to: <a href="https://www.arcus
 .org/sites/all/modules/civicrm/extern/url.php?u=6369&amp;qid=728705" target
 ="_blank" rel="noopener">Arctic Observing Summit 2018 homepage</a></p><p>Fo
 r questions, contact:<br />Ravi Sankar<br />Email: <span id="cloakd562e5d8c
 58b0baf404f32fbb31f4cfa">This email address is being protected from spambot
 s. You need JavaScript enabled to view it.</span><script type='text/javascr
 ipt'>
				document.getElementById('cloakd562e5d8c58b0baf404f32fbb31f4cfa').
 innerHTML = '';
				var prefix = '&#109;a' + 'i&#108;' + '&#116;o';
				var
  path = 'hr' + 'ef' + '=';
				var addyd562e5d8c58b0baf404f32fbb31f4cfa = '
 r&#97;v&#105;.s&#97;nk&#97;r' + '&#64;';
				addyd562e5d8c58b0baf404f32fbb3
 1f4cfa = addyd562e5d8c58b0baf404f32fbb31f4cfa + '&#117;c&#97;lg&#97;ry' + '
 &#46;' + 'c&#97;';
				var addy_textd562e5d8c58b0baf404f32fbb31f4cfa = 'r&#
 97;v&#105;.s&#97;nk&#97;r' + '&#64;' + '&#117;c&#97;lg&#97;ry' + '&#46;' + 
 'c&#97;';document.getElementById('cloakd562e5d8c58b0baf404f32fbb31f4cfa').i
 nnerHTML += '<a ' + path + '\'' + prefix + ':' + addyd562e5d8c58b0baf404f32
 fbb31f4cfa + '\'>'+addy_textd562e5d8c58b0baf404f32fbb31f4cfa+'<\/a>';
		</s
 cript><br />Phone: 403-220-5775</p>
CONTACT:This email address is being protected from spambots. You need JavaScript enabled to view it.
				document.getElementById('cloak38054eaaf716aecdc5cb4245676d9775').innerHTML = '';
				var prefix = '&#109;a' + 'i&#108;' + '&#116;o';
				var path = 'hr' + 'ef' + '=';
				var addy38054eaaf716aecdc5cb4245676d9775 = 'r&#97;v&#105;.s&#97;nk&#97;r' + '&#64;';
				addy38054eaaf716aecdc5cb4245676d9775 = addy38054eaaf716aecdc5cb4245676d9775 + '&#117;c&#97;lg&#97;ry' + '&#46;' + 'c&#97;';
				var addy_text38054eaaf716aecdc5cb4245676d9775 = 'r&#97;v&#105;.s&#97;nk&#97;r' + '&#64;' + '&#117;c&#97;lg&#97;ry' + '&#46;' + 'c&#97;';document.getElementById('cloak38054eaaf716aecdc5cb4245676d9775').innerHTML += '<a ' + path + '\'' + prefix + ':' + addy38054eaaf716aecdc5cb4245676d9775 + '\'>'+addy_text38054eaaf716aecdc5cb4245676d9775+'';
		
DTSTAMP:20260423T234505Z
DTSTART;TZID=UTC;VALUE=DATE:20180624
DTEND;TZID=UTC;VALUE=DATE:20180627
SEQUENCE:0
TRANSP:OPAQUE
END:VEVENT
END:VCALENDAR