BEGIN:VCALENDAR
VERSION:2.0
PRODID:-//jEvents 2.0 for Joomla//EN
CALSCALE:GREGORIAN
METHOD:PUBLISH
BEGIN:VEVENT
UID:bc9711e1a6ca233d81f9f077969835a9
CATEGORIES:Polar Conferences, Meetings and Events
CREATED:20160418T215301
SUMMARY:XXXIV SCAR Meetings and Open Science Conference
LOCATION:Kuala Lumpur\, Malaysia
DESCRIPTION:The 2016 Open Science Conference will take place from 23 to 26 August. The 
 theme of the conference will be "Antarctica in the Global Earth System: Fro
 m the Poles to the Tropics".\nThe SCAR Delegates' Meeting will be held from
  29 to 31 August.\nWebsite: http://scar2016.com/\n
X-ALT-DESC;FMTTYPE=text/html:<p>The 2016 Open Science Conference will take place from 23 to 26 August. T
 he theme of the conference will be "Antarctica in the Global Earth System: 
 From the Poles to the Tropics".</p><p>The SCAR Delegates' Meeting will be h
 eld from 29 to 31 August.</p><p>Website: <a href="http://scar2016.com/">htt
 p://scar2016.com/</a></p>
DTSTAMP:20260424T073329Z
DTSTART;TZID=UTC;VALUE=DATE:20160820
DTEND;TZID=UTC;VALUE=DATE:20160831
SEQUENCE:0
TRANSP:OPAQUE
END:VEVENT
END:VCALENDAR