BEGIN:VCALENDAR
VERSION:2.0
PRODID:-//jEvents 2.0 for Joomla//EN
CALSCALE:GREGORIAN
METHOD:PUBLISH
BEGIN:VEVENT
UID:337d1df885af20371abc7b8e15e1afe7
CATEGORIES:APECS Events
CREATED:20170920T064708
SUMMARY:APECS International Polar Week September 2017
LOCATION:Online
DESCRIPTION:Find out what is happening on our  \n
X-ALT-DESC;FMTTYPE=text/html:<p>Find out what is happening on our <a href="index.php?option=com_content&
 amp;view=category&amp;layout=blog&amp;id=172&amp;Itemid=917">Polar Week Web
 site.</a>&nbsp;</p>
CONTACT:This email address is being protected from spambots. You need JavaScript enabled to view it.
				document.getElementById('cloaked462bd35bcbd65283df9d6608571dc4').innerHTML = '';
				var prefix = '&#109;a' + 'i&#108;' + '&#116;o';
				var path = 'hr' + 'ef' + '=';
				var addyed462bd35bcbd65283df9d6608571dc4 = '&#105;nf&#111;' + '&#64;';
				addyed462bd35bcbd65283df9d6608571dc4 = addyed462bd35bcbd65283df9d6608571dc4 + '&#97;p&#101;cs' + '&#46;' + '&#105;s';
				var addy_texted462bd35bcbd65283df9d6608571dc4 = '&#105;nf&#111;' + '&#64;' + '&#97;p&#101;cs' + '&#46;' + '&#105;s';document.getElementById('cloaked462bd35bcbd65283df9d6608571dc4').innerHTML += '<a ' + path + '\'' + prefix + ':' + addyed462bd35bcbd65283df9d6608571dc4 + '\'>'+addy_texted462bd35bcbd65283df9d6608571dc4+'';
		
DTSTAMP:20260424T100120Z
DTSTART;TZID=UTC;VALUE=DATE:20170918
DTEND;TZID=UTC;VALUE=DATE:20170925
SEQUENCE:0
TRANSP:OPAQUE
END:VEVENT
END:VCALENDAR