BEGIN:VCALENDAR
VERSION:2.0
PRODID:-//jEvents 2.0 for Joomla//EN
CALSCALE:GREGORIAN
METHOD:PUBLISH
BEGIN:VEVENT
UID:d25428a3c08835a77555ae4c2947afd0
CATEGORIES:Field and Summer Schools
CREATED:20170919T134912
SUMMARY:Fifth International Summer School in Glaciology
LOCATION:McCarthy\, central Alaska
DESCRIPTION:The Fifth International Summer School in Glaciology organized by the Univer
 sity of Alaska, Fairbanks (UAF), will be held in McCarthy, central Alaska, 
 from 5 to 15 June 2018.\nThe course will provide a comprehensive overview o
 f the physics of glaciers and current research frontiers in glaciology with
  focus on quantitative glaciology and remote sensing. The course is open to
  28 graduate students from around the world targeting primarily early stage
  PhD students who perform glacier-related research. It will be taught by fa
 culty of UAF’s glaciology group and several invited guest instructors from 
 outside Alaska.\nApplication deadline: 25 January 2018\nSee for further inf
 ormation: http://glaciers.gi.alaska.edu/courses/summer-school/2018\n
X-ALT-DESC;FMTTYPE=text/html:<p>The <strong>Fifth International Summer School in Glaciology</strong> org
 anized by the University of Alaska, Fairbanks (UAF), will be held in <stron
 g>McCarthy, central Alaska, from 5 to 15 June 2018</strong>.</p><p>The cour
 se will provide a comprehensive overview of the physics of glaciers and cur
 rent research frontiers in glaciology with focus on quantitative glaciology
  and remote sensing. The course is open to 28 graduate students from around
  the world targeting primarily early stage PhD students who perform glacier
 -related research. It will be taught by faculty of UAF’s glaciology group a
 nd several invited guest instructors from outside Alaska.</p><p><strong>App
 lication deadline: 25 January 2018</strong></p><p>See for further informati
 on: <a href="http://glaciers.gi.alaska.edu/courses/summer-school/2018">http
 ://glaciers.gi.alaska.edu/courses/summer-school/2018</a></p>
DTSTAMP:20260423T233032Z
DTSTART;TZID=UTC;VALUE=DATE:20180605
DTEND;TZID=UTC;VALUE=DATE:20180616
SEQUENCE:0
TRANSP:OPAQUE
END:VEVENT
END:VCALENDAR