BEGIN:VCALENDAR
VERSION:2.0
PRODID:-//jEvents 2.0 for Joomla//EN
CALSCALE:GREGORIAN
METHOD:PUBLISH
BEGIN:VEVENT
UID:eb005c6f60f50f439eb9a712e6c215ac
CATEGORIES:APECS Events
CREATED:20160426T161544
SUMMARY:USAPECS Webinar - Broadening Your Scientific Impact & Addressing NSF Funding Criteria with Polar-ICE
LOCATION:Online
DESCRIPTION:I'd like to call your attention to the outreach and science communication w
 ebinars that USAPECS is hosting throughout the month of May. There are 3 we
 binars geared towards outreach and science communication, including webinar
 s on outreach activities for all grade levels and resources for developing 
 more compelling activities that satisfy NSF's "Broader Impacts" proposal cr
 iterion. The webinar titles and registration links for are listed below.\nT
 hese webinars are part of larger series organized by USAPECS. Recordings fo
 r April's webinars on data visualization and tips for talking about your sc
 ience are posted on the USAPECS website (http://usapecs.wix.com/usapecs#!we
 binars/cdv7) along with more information on the upcoming webinars and other
  outreach and science communication resources.\nIf you're interested in con
 tributing a webinar or links to outreach and science communication resource
 s that you would like posted on the USAPECS website, please send me an emai
 l (This email address is being protected from spambots. You need JavaScript
  enabled to view it.
				document.getElementById('cloak03ae5c2675ea4e630b25
 b3b2929febca').innerHTML = '';
				var prefix = '&#109;a' + 'i&#108;' + '&#
 116;o';
				var path = 'hr' + 'ef' + '=';
				var addy03ae5c2675ea4e630b25b
 3b2929febca = '&#101;llyn.&#101;nd&#101;rl&#105;n' + '&#64;';
				addy03ae5
 c2675ea4e630b25b3b2929febca = addy03ae5c2675ea4e630b25b3b2929febca + 'gm&#9
 7;&#105;l' + '&#46;' + 'c&#111;m';
				var addy_text03ae5c2675ea4e630b25b3b
 2929febca = '&#101;llyn.&#101;nd&#101;rl&#105;n' + '&#64;' + 'gm&#97;&#105;
 l' + '&#46;' + 'c&#111;m';document.getElementById('cloak03ae5c2675ea4e630b2
 5b3b2929febca').innerHTML += '<a ' + path + '\'' + prefix + ':' + addy03ae5
 c2675ea4e630b25b3b2929febca + '\'>'+addy_text03ae5c2675ea4e630b25b3b2929feb
 ca+'';
		).\nEllyn\nUSAPECS co-chair\nMAY WEBINARS:\nMay 2nd @ 1pm EDT: Out
 reach from Afar: Follow-A-Researcher in the Field (https://attendee.gotoweb
 inar.com/register/9085528836679399938)\nMay 17 @ 2pm EDT: Building Bridges 
 &amp; Designing Activities with Teachers (https://attendee.gotowebinar.com/
 register/9103766436088789762)\nMay 31 @ 1pm EDT: Broadening Your Scientific
  Impact &amp; Addressing NSF Funding Criteria with Polar-ICE (<a href="http
 s://attendee.gotowebinar.com/register/8388229558075058436">https://attendee
 .gotowebinar.com/register/8388229558075058436</a>)\n
X-ALT-DESC;FMTTYPE=text/html:<p>I'd like to call your attention to the outreach and science communicatio
 n webinars that USAPECS is hosting throughout the month of May. There are 3
  webinars geared towards outreach and science communication, including webi
 nars on outreach activities for all grade levels and resources for developi
 ng more compelling activities that satisfy NSF's "Broader Impacts" proposal
  criterion. The webinar titles and registration links for are listed below.
 </p><p>These webinars are part of larger series organized by USAPECS. Recor
 dings for April's webinars on data visualization and tips for talking about
  your science are posted on the USAPECS website (<a href="http://usapecs.wi
 x.com/usapecs#!webinars/cdv7">http://usapecs.wix.com/usapecs#!webinars/cdv7
 </a>) along with more information on the upcoming webinars and other outrea
 ch and science communication resources.</p><p>If you're interested in contr
 ibuting a webinar or links to outreach and science communication resources 
 that you would like posted on the USAPECS website, please send me an email 
 (<span id="cloak03ae5c2675ea4e630b25b3b2929febca">This email address is bei
 ng protected from spambots. You need JavaScript enabled to view it.</span><
 script type='text/javascript'>
				document.getElementById('cloak03ae5c2675
 ea4e630b25b3b2929febca').innerHTML = '';
				var prefix = '&#109;a' + 'i&#1
 08;' + '&#116;o';
				var path = 'hr' + 'ef' + '=';
				var addy03ae5c2675e
 a4e630b25b3b2929febca = '&#101;llyn.&#101;nd&#101;rl&#105;n' + '&#64;';
			
 	addy03ae5c2675ea4e630b25b3b2929febca = addy03ae5c2675ea4e630b25b3b2929febc
 a + 'gm&#97;&#105;l' + '&#46;' + 'c&#111;m';
				var addy_text03ae5c2675ea4
 e630b25b3b2929febca = '&#101;llyn.&#101;nd&#101;rl&#105;n' + '&#64;' + 'gm&
 #97;&#105;l' + '&#46;' + 'c&#111;m';document.getElementById('cloak03ae5c267
 5ea4e630b25b3b2929febca').innerHTML += '<a ' + path + '\'' + prefix + ':' +
  addy03ae5c2675ea4e630b25b3b2929febca + '\'>'+addy_text03ae5c2675ea4e630b25
 b3b2929febca+'<\/a>';
		</script>).<br />Ellyn<br />USAPECS co-chair</p><p>
 MAY WEBINARS:<br />May 2nd @ 1pm EDT: Outreach from Afar: Follow-A-Research
 er in the Field (https://attendee.gotowebinar.com/register/9085528836679399
 938)</p><p>May 17 @ 2pm EDT: Building Bridges & Designing Activities with T
 eachers (https://attendee.gotowebinar.com/register/9103766436088789762)</p>
 <p><strong>May 31 @ 1pm EDT: Broadening Your Scientific Impact & Addressing
  NSF Funding Criteria with Polar-ICE (<a href="https://attendee.gotowebinar
 .com/register/8388229558075058436">https://attendee.gotowebinar.com/registe
 r/8388229558075058436</a>)</strong></p>
CONTACT:Ellyn Enderlin, This email address is being protected from spambots. You need JavaScript enabled to view it.
				document.getElementById('cloak4ef19c14c99cc6423839848b43ffb970').innerHTML = '';
				var prefix = '&#109;a' + 'i&#108;' + '&#116;o';
				var path = 'hr' + 'ef' + '=';
				var addy4ef19c14c99cc6423839848b43ffb970 = '&#101;llyn.&#101;nd&#101;rl&#105;n' + '&#64;';
				addy4ef19c14c99cc6423839848b43ffb970 = addy4ef19c14c99cc6423839848b43ffb970 + 'gm&#97;&#105;l' + '&#46;' + 'c&#111;m';
				var addy_text4ef19c14c99cc6423839848b43ffb970 = '&#101;llyn.&#101;nd&#101;rl&#105;n' + '&#64;' + 'gm&#97;&#105;l' + '&#46;' + 'c&#111;m';document.getElementById('cloak4ef19c14c99cc6423839848b43ffb970').innerHTML += '<a ' + path + '\'' + prefix + ':' + addy4ef19c14c99cc6423839848b43ffb970 + '\'>'+addy_text4ef19c14c99cc6423839848b43ffb970+'';
		
DTSTAMP:20260424T021957Z
DTSTART;TZID=UTC;VALUE=DATE:20160531
DTEND;TZID=UTC;VALUE=DATE:20160601
SEQUENCE:0
TRANSP:OPAQUE
END:VEVENT
END:VCALENDAR