BEGIN:VCALENDAR
VERSION:2.0
PRODID:-//jEvents 2.0 for Joomla//EN
CALSCALE:GREGORIAN
METHOD:PUBLISH
BEGIN:VEVENT
UID:9347195abbdb93a4746680a761d0700e
CATEGORIES:APECS Events
CREATED:20160426T161359
SUMMARY:USAPECS Webinar - Building Bridges & Designing Activities with Teachers
LOCATION:Online
DESCRIPTION:I'd like to call your attention to the outreach and science communication w
 ebinars that USAPECS is hosting throughout the month of May. There are 3 we
 binars geared towards outreach and science communication, including webinar
 s on outreach activities for all grade levels and resources for developing 
 more compelling activities that satisfy NSF's "Broader Impacts" proposal cr
 iterion. The webinar titles and registration links for are listed below.\nT
 hese webinars are part of larger series organized by USAPECS. Recordings fo
 r April's webinars on data visualization and tips for talking about your sc
 ience are posted on the USAPECS website (http://usapecs.wix.com/usapecs#!we
 binars/cdv7) along with more information on the upcoming webinars and other
  outreach and science communication resources.\nIf you're interested in con
 tributing a webinar or links to outreach and science communication resource
 s that you would like posted on the USAPECS website, please send me an emai
 l (This email address is being protected from spambots. You need JavaScript
  enabled to view it.
				document.getElementById('cloakd2817cbacffbdb25d603
 28179c532755').innerHTML = '';
				var prefix = '&#109;a' + 'i&#108;' + '&#
 116;o';
				var path = 'hr' + 'ef' + '=';
				var addyd2817cbacffbdb25d6032
 8179c532755 = '&#101;llyn.&#101;nd&#101;rl&#105;n' + '&#64;';
				addyd2817
 cbacffbdb25d60328179c532755 = addyd2817cbacffbdb25d60328179c532755 + 'gm&#9
 7;&#105;l' + '&#46;' + 'c&#111;m';
				var addy_textd2817cbacffbdb25d603281
 79c532755 = '&#101;llyn.&#101;nd&#101;rl&#105;n' + '&#64;' + 'gm&#97;&#105;
 l' + '&#46;' + 'c&#111;m';document.getElementById('cloakd2817cbacffbdb25d60
 328179c532755').innerHTML += '<a ' + path + '\'' + prefix + ':' + addyd2817
 cbacffbdb25d60328179c532755 + '\'>'+addy_textd2817cbacffbdb25d60328179c5327
 55+'';
		).\nEllyn\nUSAPECS co-chair\nMAY WEBINARS:\nMay 2nd @ 1pm EDT: Out
 reach from Afar: Follow-A-Researcher in the Field (https://attendee.gotoweb
 inar.com/register/9085528836679399938)\nMay 17 @ 2pm EDT: Building Bridges 
 &amp; Designing Activities with Teachers (<a href="https://attendee.gotoweb
 inar.com/register/9103766436088789762">https://attendee.gotowebinar.com/reg
 ister/9103766436088789762</a>)\nMay 31 @ 1pm EDT: Broadening Your Scientifi
 c Impact &amp; Addressing NSF Funding Criteria with Polar-ICE (https://atte
 ndee.gotowebinar.com/register/8388229558075058436)\n
X-ALT-DESC;FMTTYPE=text/html:<p>I'd like to call your attention to the outreach and science communicatio
 n webinars that USAPECS is hosting throughout the month of May. There are 3
  webinars geared towards outreach and science communication, including webi
 nars on outreach activities for all grade levels and resources for developi
 ng more compelling activities that satisfy NSF's "Broader Impacts" proposal
  criterion. The webinar titles and registration links for are listed below.
 </p><p>These webinars are part of larger series organized by USAPECS. Recor
 dings for April's webinars on data visualization and tips for talking about
  your science are posted on the USAPECS website (<a href="http://usapecs.wi
 x.com/usapecs#!webinars/cdv7">http://usapecs.wix.com/usapecs#!webinars/cdv7
 </a>) along with more information on the upcoming webinars and other outrea
 ch and science communication resources.</p><p>If you're interested in contr
 ibuting a webinar or links to outreach and science communication resources 
 that you would like posted on the USAPECS website, please send me an email 
 (<span id="cloakd2817cbacffbdb25d60328179c532755">This email address is bei
 ng protected from spambots. You need JavaScript enabled to view it.</span><
 script type='text/javascript'>
				document.getElementById('cloakd2817cbacf
 fbdb25d60328179c532755').innerHTML = '';
				var prefix = '&#109;a' + 'i&#1
 08;' + '&#116;o';
				var path = 'hr' + 'ef' + '=';
				var addyd2817cbacff
 bdb25d60328179c532755 = '&#101;llyn.&#101;nd&#101;rl&#105;n' + '&#64;';
			
 	addyd2817cbacffbdb25d60328179c532755 = addyd2817cbacffbdb25d60328179c53275
 5 + 'gm&#97;&#105;l' + '&#46;' + 'c&#111;m';
				var addy_textd2817cbacffbd
 b25d60328179c532755 = '&#101;llyn.&#101;nd&#101;rl&#105;n' + '&#64;' + 'gm&
 #97;&#105;l' + '&#46;' + 'c&#111;m';document.getElementById('cloakd2817cbac
 ffbdb25d60328179c532755').innerHTML += '<a ' + path + '\'' + prefix + ':' +
  addyd2817cbacffbdb25d60328179c532755 + '\'>'+addy_textd2817cbacffbdb25d603
 28179c532755+'<\/a>';
		</script>).<br />Ellyn<br />USAPECS co-chair</p><p>
 MAY WEBINARS:<br />May 2nd @ 1pm EDT: Outreach from Afar: Follow-A-Research
 er in the Field (https://attendee.gotowebinar.com/register/9085528836679399
 938)</p><p><strong>May 17 @ 2pm EDT: Building Bridges & Designing Activitie
 s with Teachers (<a href="https://attendee.gotowebinar.com/register/9103766
 436088789762">https://attendee.gotowebinar.com/register/9103766436088789762
 </a>)</strong></p><p>May 31 @ 1pm EDT: Broadening Your Scientific Impact & 
 Addressing NSF Funding Criteria with Polar-ICE (https://attendee.gotowebina
 r.com/register/8388229558075058436)</p>
CONTACT:Ellyn Enderlin, This email address is being protected from spambots. You need JavaScript enabled to view it.
				document.getElementById('cloakfd7686562540b0d34fbbdd0fab9710a7').innerHTML = '';
				var prefix = '&#109;a' + 'i&#108;' + '&#116;o';
				var path = 'hr' + 'ef' + '=';
				var addyfd7686562540b0d34fbbdd0fab9710a7 = '&#101;llyn.&#101;nd&#101;rl&#105;n' + '&#64;';
				addyfd7686562540b0d34fbbdd0fab9710a7 = addyfd7686562540b0d34fbbdd0fab9710a7 + 'gm&#97;&#105;l' + '&#46;' + 'c&#111;m';
				var addy_textfd7686562540b0d34fbbdd0fab9710a7 = '&#101;llyn.&#101;nd&#101;rl&#105;n' + '&#64;' + 'gm&#97;&#105;l' + '&#46;' + 'c&#111;m';document.getElementById('cloakfd7686562540b0d34fbbdd0fab9710a7').innerHTML += '<a ' + path + '\'' + prefix + ':' + addyfd7686562540b0d34fbbdd0fab9710a7 + '\'>'+addy_textfd7686562540b0d34fbbdd0fab9710a7+'';
		
DTSTAMP:20260424T021926Z
DTSTART;TZID=UTC;VALUE=DATE:20160517
DTEND;TZID=UTC;VALUE=DATE:20160518
SEQUENCE:0
TRANSP:OPAQUE
END:VEVENT
END:VCALENDAR