BEGIN:VCALENDAR
VERSION:2.0
PRODID:-//jEvents 2.0 for Joomla//EN
CALSCALE:GREGORIAN
METHOD:PUBLISH
BEGIN:VEVENT
UID:5f19a03fe97030783f7628d60be0a8b6
CATEGORIES:Polar Conferences, Meetings and Events
CREATED:20170828T081709
SUMMARY:17th International Congress on Circumpolar Health (ICCH17)
LOCATION:Copenhagen\, Denmark
DESCRIPTION:1st Announcement of the 17th International Congress on Circumpolar Health (
 ICCH17),\nAugust 12-15, 2018, Copenhagen, Denmark\n \nThe ICCH congresses a
 re held every third year in different locations in the circumpolar area and
  represent the largest scientific meetings worldwide on circumpolar health.
 \n \nThe ICCH congresses are organised by the International Union for Circu
 mpolar Health (IUCH), aided by a local organising committee.\n \nThe local 
 organising committee for the ICCH17 is the Danish Greenlandic Society for C
 ircumpolar Health.\n \nThe webiste of the congress is www.icch2018.com (htt
 p://www.icch2018.com).\n \nPlease disseminate this mail to all of your cont
 acts in the world of circumpolar health and anyone else interested, includi
 ng members of the national scientific societies of circumpolar health in th
 e USA, Canada, Nordic countries and Russian Federation.\n \nWe are looking 
 forward to seeing as many of you as possible in Copenhagen, August 2018.\n 
 \nPlease do not hesitate to contact us in case of questions.\n \nOn behalf 
 of the organisers,\n \nYours sinceley\n \nAnders Koch\nMD, PhD, MPH\nSpecia
 list in Infectious Diseases and Tropical Medicine\nProfessor in Infectious 
 Diseases, Ilisimatusarfik, University of Greenland\nPresident, the Internat
 ional Union for Circumpolar Health (IUCH)\nPresident, the Danish Greenlandi
 c Society for Circumpolar Health\n \n<a href="http://www.icch2018.com">www.
 icch2018.com</a>\nThis email address is being protected from spambots. You 
 need JavaScript enabled to view it.
				document.getElementById('cloak31890
 6211575ea6e187d810d92871506').innerHTML = '';
				var prefix = '&#109;a' + 
 'i&#108;' + '&#116;o';
				var path = 'hr' + 'ef' + '=';
				var addy318906
 211575ea6e187d810d92871506 = 'm&#97;&#105;l' + '&#64;';
				addy31890621157
 5ea6e187d810d92871506 = addy318906211575ea6e187d810d92871506 + '&#105;cch20
 18' + '&#46;' + 'c&#111;m';
				var addy_text318906211575ea6e187d810d928715
 06 = 'm&#97;&#105;l' + '&#64;' + '&#105;cch2018' + '&#46;' + 'c&#111;m';doc
 ument.getElementById('cloak318906211575ea6e187d810d92871506').innerHTML += 
 '<a ' + path + '\'' + prefix + ':' + addy318906211575ea6e187d810d92871506 +
  '\'>'+addy_text318906211575ea6e187d810d92871506+'';
		\n
X-ALT-DESC;FMTTYPE=text/html:<p style="text-align: center;"><strong>1st Announcement of the 17th Interna
 tional Congress on Circumpolar Health (ICCH17),<br />August 12-15, 2018,&nb
 sp;Copenhagen, Denmark</strong></p><p>&nbsp;</p><p>The ICCH congresses are 
 held every third year in different locations in the circumpolar area and re
 present the largest scientific meetings worldwide on circumpolar health.<br
  /> <br />The ICCH congresses are organised by the International Union for 
 Circumpolar Health (IUCH), aided by a local organising committee.<br /> <br
  />The local organising committee for the ICCH17 is the Danish Greenlandic 
 Society for Circumpolar Health.<br /> <br />The webiste of the congress is 
 <a href="http://www.icch2018.com">www.icch2018.com</a>.<br /> <br />Please 
 disseminate this mail to all of your contacts in the world of circumpolar h
 ealth and anyone else interested, including members of the national scienti
 fic societies of circumpolar health in the USA, Canada, Nordic countries an
 d Russian Federation.<br /> <br />We are looking forward to seeing as many 
 of you as possible in Copenhagen, August 2018.<br /> <br />Please do not he
 sitate to contact us in case of questions.<br /> <br />On behalf of the org
 anisers,<br /> <br />Yours sinceley<br /> <br />Anders Koch<br />MD, PhD, M
 PH<br />Specialist in Infectious Diseases and Tropical Medicine<br />Profes
 sor in Infectious Diseases, Ilisimatusarfik, University of Greenland<br />P
 resident, the International Union for Circumpolar Health (IUCH)<br />Presid
 ent, the Danish Greenlandic Society for Circumpolar Health<br /> <br /><a h
 ref="http://www.icch2018.com">www.icch2018.com</a><br /><span id="cloak3189
 06211575ea6e187d810d92871506">This email address is being protected from sp
 ambots. You need JavaScript enabled to view it.</span><script type='text/ja
 vascript'>
				document.getElementById('cloak318906211575ea6e187d810d928715
 06').innerHTML = '';
				var prefix = '&#109;a' + 'i&#108;' + '&#116;o';
		
 		var path = 'hr' + 'ef' + '=';
				var addy318906211575ea6e187d810d9287150
 6 = 'm&#97;&#105;l' + '&#64;';
				addy318906211575ea6e187d810d92871506 = a
 ddy318906211575ea6e187d810d92871506 + '&#105;cch2018' + '&#46;' + 'c&#111;m
 ';
				var addy_text318906211575ea6e187d810d92871506 = 'm&#97;&#105;l' + '&
 #64;' + '&#105;cch2018' + '&#46;' + 'c&#111;m';document.getElementById('clo
 ak318906211575ea6e187d810d92871506').innerHTML += '<a ' + path + '\'' + pre
 fix + ':' + addy318906211575ea6e187d810d92871506 + '\'>'+addy_text318906211
 575ea6e187d810d92871506+'<\/a>';
		</script></p>
CONTACT:This email address is being protected from spambots. You need JavaScript enabled to view it.
				document.getElementById('cloak14d42c6c06996e309d000324783b188c').innerHTML = '';
				var prefix = '&#109;a' + 'i&#108;' + '&#116;o';
				var path = 'hr' + 'ef' + '=';
				var addy14d42c6c06996e309d000324783b188c = 'm&#97;&#105;l' + '&#64;';
				addy14d42c6c06996e309d000324783b188c = addy14d42c6c06996e309d000324783b188c + '&#105;cch2018' + '&#46;' + 'c&#111;m';
				var addy_text14d42c6c06996e309d000324783b188c = 'm&#97;&#105;l' + '&#64;' + '&#105;cch2018' + '&#46;' + 'c&#111;m';document.getElementById('cloak14d42c6c06996e309d000324783b188c').innerHTML += '<a ' + path + '\'' + prefix + ':' + addy14d42c6c06996e309d000324783b188c + '\'>'+addy_text14d42c6c06996e309d000324783b188c+'';
		
DTSTAMP:20260423T233000Z
DTSTART;TZID=UTC;VALUE=DATE:20180812
DTEND;TZID=UTC;VALUE=DATE:20180816
SEQUENCE:0
TRANSP:OPAQUE
END:VEVENT
END:VCALENDAR