BEGIN:VCALENDAR
VERSION:2.0
PRODID:-//jEvents 2.0 for Joomla//EN
CALSCALE:GREGORIAN
METHOD:PUBLISH
BEGIN:VEVENT
UID:1c5a211ef407cf903890ada6acb254ee
CATEGORIES:APECS Events
CREATED:20160426T161132
SUMMARY:USAPECS Webinar - Outreach from Afar: Follow-A-Researcher in the Field
LOCATION:Online
DESCRIPTION:I'd like to call your attention to the outreach and science communication w
 ebinars that USAPECS is hosting throughout the month of May. There are 3 we
 binars geared towards outreach and science communication, including webinar
 s on outreach activities for all grade levels and resources for developing 
 more compelling activities that satisfy NSF's "Broader Impacts" proposal cr
 iterion. The webinar titles and registration links for are listed below.\nT
 hese webinars are part of larger series organized by USAPECS. Recordings fo
 r April's webinars on data visualization and tips for talking about your sc
 ience are posted on the USAPECS website (http://usapecs.wix.com/usapecs#!we
 binars/cdv7) along with more information on the upcoming webinars and other
  outreach and science communication resources.\nIf you're interested in con
 tributing a webinar or links to outreach and science communication resource
 s that you would like posted on the USAPECS website, please send me an emai
 l (This email address is being protected from spambots. You need JavaScript
  enabled to view it.
				document.getElementById('cloak1915fd4ededd7e1eb9e4
 3e030a258732').innerHTML = '';
				var prefix = '&#109;a' + 'i&#108;' + '&#
 116;o';
				var path = 'hr' + 'ef' + '=';
				var addy1915fd4ededd7e1eb9e43
 e030a258732 = '&#101;llyn.&#101;nd&#101;rl&#105;n' + '&#64;';
				addy1915f
 d4ededd7e1eb9e43e030a258732 = addy1915fd4ededd7e1eb9e43e030a258732 + 'gm&#9
 7;&#105;l' + '&#46;' + 'c&#111;m';
				var addy_text1915fd4ededd7e1eb9e43e0
 30a258732 = '&#101;llyn.&#101;nd&#101;rl&#105;n' + '&#64;' + 'gm&#97;&#105;
 l' + '&#46;' + 'c&#111;m';document.getElementById('cloak1915fd4ededd7e1eb9e
 43e030a258732').innerHTML += '<a ' + path + '\'' + prefix + ':' + addy1915f
 d4ededd7e1eb9e43e030a258732 + '\'>'+addy_text1915fd4ededd7e1eb9e43e030a2587
 32+'';
		).\nEllyn\nUSAPECS co-chair\nMAY WEBINARS:\nMay 2nd @ 1pm EDT: Out
 reach from Afar: Follow-A-Researcher in the Field (<a href="https://attende
 e.gotowebinar.com/register/9085528836679399938">https://attendee.gotowebina
 r.com/register/9085528836679399938</a>)\nMay 17 @ 2pm EDT: Building Bridges
  &amp; Designing Activities with Teachers (https://attendee.gotowebinar.com
 /register/9103766436088789762)\nMay 31 @ 1pm EDT: Broadening Your Scientifi
 c Impact &amp; Addressing NSF Funding Criteria with Polar-ICE (https://atte
 ndee.gotowebinar.com/register/8388229558075058436)\n
X-ALT-DESC;FMTTYPE=text/html:<p>I'd like to call your attention to the outreach and science communicatio
 n webinars that USAPECS is hosting throughout the month of May. There are 3
  webinars geared towards outreach and science communication, including webi
 nars on outreach activities for all grade levels and resources for developi
 ng more compelling activities that satisfy NSF's "Broader Impacts" proposal
  criterion. The webinar titles and registration links for are listed below.
 </p><p>These webinars are part of larger series organized by USAPECS. Recor
 dings for April's webinars on data visualization and tips for talking about
  your science are posted on the USAPECS website (<a href="http://usapecs.wi
 x.com/usapecs#!webinars/cdv7">http://usapecs.wix.com/usapecs#!webinars/cdv7
 </a>) along with more information on the upcoming webinars and other outrea
 ch and science communication resources.</p><p>If you're interested in contr
 ibuting a webinar or links to outreach and science communication resources 
 that you would like posted on the USAPECS website, please send me an email 
 (<span id="cloak1915fd4ededd7e1eb9e43e030a258732">This email address is bei
 ng protected from spambots. You need JavaScript enabled to view it.</span><
 script type='text/javascript'>
				document.getElementById('cloak1915fd4ede
 dd7e1eb9e43e030a258732').innerHTML = '';
				var prefix = '&#109;a' + 'i&#1
 08;' + '&#116;o';
				var path = 'hr' + 'ef' + '=';
				var addy1915fd4eded
 d7e1eb9e43e030a258732 = '&#101;llyn.&#101;nd&#101;rl&#105;n' + '&#64;';
			
 	addy1915fd4ededd7e1eb9e43e030a258732 = addy1915fd4ededd7e1eb9e43e030a25873
 2 + 'gm&#97;&#105;l' + '&#46;' + 'c&#111;m';
				var addy_text1915fd4ededd7
 e1eb9e43e030a258732 = '&#101;llyn.&#101;nd&#101;rl&#105;n' + '&#64;' + 'gm&
 #97;&#105;l' + '&#46;' + 'c&#111;m';document.getElementById('cloak1915fd4ed
 edd7e1eb9e43e030a258732').innerHTML += '<a ' + path + '\'' + prefix + ':' +
  addy1915fd4ededd7e1eb9e43e030a258732 + '\'>'+addy_text1915fd4ededd7e1eb9e4
 3e030a258732+'<\/a>';
		</script>).<br />Ellyn<br />USAPECS co-chair</p><p>
 MAY WEBINARS:<br /><strong>May 2nd @ 1pm EDT: Outreach from Afar: Follow-A-
 Researcher in the Field (<a href="https://attendee.gotowebinar.com/register
 /9085528836679399938">https://attendee.gotowebinar.com/register/90855288366
 79399938</a>)</strong></p><p>May 17 @ 2pm EDT: Building Bridges & Designing
  Activities with Teachers (https://attendee.gotowebinar.com/register/910376
 6436088789762)</p><p>May 31 @ 1pm EDT: Broadening Your Scientific Impact & 
 Addressing NSF Funding Criteria with Polar-ICE (https://attendee.gotowebina
 r.com/register/8388229558075058436)</p>
CONTACT:Ellyn Enderlin, This email address is being protected from spambots. You need JavaScript enabled to view it.
				document.getElementById('cloak6e5a855cf908f3b0d0b272a6bb1915c6').innerHTML = '';
				var prefix = '&#109;a' + 'i&#108;' + '&#116;o';
				var path = 'hr' + 'ef' + '=';
				var addy6e5a855cf908f3b0d0b272a6bb1915c6 = '&#101;llyn.&#101;nd&#101;rl&#105;n' + '&#64;';
				addy6e5a855cf908f3b0d0b272a6bb1915c6 = addy6e5a855cf908f3b0d0b272a6bb1915c6 + 'gm&#97;&#105;l' + '&#46;' + 'c&#111;m';
				var addy_text6e5a855cf908f3b0d0b272a6bb1915c6 = '&#101;llyn.&#101;nd&#101;rl&#105;n' + '&#64;' + 'gm&#97;&#105;l' + '&#46;' + 'c&#111;m';document.getElementById('cloak6e5a855cf908f3b0d0b272a6bb1915c6').innerHTML += '<a ' + path + '\'' + prefix + ':' + addy6e5a855cf908f3b0d0b272a6bb1915c6 + '\'>'+addy_text6e5a855cf908f3b0d0b272a6bb1915c6+'';
		
DTSTAMP:20260424T021948Z
DTSTART;TZID=UTC;VALUE=DATE:20160502
DTEND;TZID=UTC;VALUE=DATE:20160503
SEQUENCE:0
TRANSP:OPAQUE
END:VEVENT
END:VCALENDAR