BEGIN:VCALENDAR
VERSION:2.0
PRODID:-//jEvents 2.0 for Joomla//EN
CALSCALE:GREGORIAN
METHOD:PUBLISH
BEGIN:VEVENT
UID:6c92a643f3d46db99f8599be7953aed1
CATEGORIES:APECS Events
CREATED:20160426T092918
SUMMARY:Young Researchers Workshop at ICOP2016
LOCATION:Potsdam\, Germany
DESCRIPTION:A “Young Researchers Workshop” will take place at the XI. International Con
 ference on Permafrost (ICOP 2016). This workshop is organized as a joint ef
 fort of PYRN (Permafrost Young Researchers Network), APECS (Association of 
 Polar Early Career Scientists), the young researcher representatives of the
  USPA (United States Permafrost Association), and ADAPT (Arctic Development
  and Adaptation to Permafrost in Transition).\nThe workshop aims at providi
 ng opportunities to young researchers to learn and build interdisciplinary 
 knowledge:\n\n - how to get published in scientific journals (professional 
 trainer)\n - practical methods and\n - essential soft skills.For detailed i
 nformation on the Young Researchers Workshop visit http://icop2016.org/inde
 x.php/young-researcher-activities/young-researchers-workshop\nThe soft skil
 ls portion, presenting and sharing knowledge about the Arctic and Antarctic
  permafrost regions, will be a focus. To achieve this, the participants wil
 l enter into dialogue and exchange in thematic break-out sessions.\n
X-ALT-DESC;FMTTYPE=text/html:<p>A “Young Researchers Workshop” will take place at the XI. International 
 Conference on Permafrost (ICOP 2016). This workshop is organized as a joint
  effort of PYRN (Permafrost Young Researchers Network), APECS (Association 
 of Polar Early Career Scientists), the young researcher representatives of 
 the USPA (United States Permafrost Association), and ADAPT (Arctic Developm
 ent and Adaptation to Permafrost in Transition).</p><p>The workshop aims at
  providing opportunities to young researchers to learn and build interdisci
 plinary knowledge:</p><ul><li>how to get published in scientific journals (
 professional trainer)</li><li>practical methods and</li><li>essential soft 
 skills.</li></ul><p>For detailed information on the Young Researchers Works
 hop visit <a href="http://icop2016.org/index.php/young-researcher-activitie
 s/young-researchers-workshop">http://icop2016.org/index.php/young-researche
 r-activities/young-researchers-workshop</a></p><p>The soft skills portion, 
 presenting and sharing knowledge about the Arctic and Antarctic permafrost 
 regions, will be a focus. To achieve this, the participants will enter into
  dialogue and exchange in thematic break-out sessions.</p>
DTSTAMP:20260424T040638Z
DTSTART;TZID=UTC;VALUE=DATE:20160618
DTEND;TZID=UTC;VALUE=DATE:20160620
SEQUENCE:0
TRANSP:OPAQUE
END:VEVENT
END:VCALENDAR