BEGIN:VCALENDAR
VERSION:2.0
PRODID:-//jEvents 2.0 for Joomla//EN
CALSCALE:GREGORIAN
METHOD:PUBLISH
BEGIN:VEVENT
UID:3cc961259e81d11b951f53128f561ef0
CATEGORIES:Polar Conferences, Meetings and Events
CREATED:20170609T144117
SUMMARY:2nd MAR Regional Atmosphere Model Workshop
LOCATION:Grenoble\, France
DESCRIPTION:2nd MAR Regional Atmosphere Model Workshop\n13-15 September 2017, Grenoble,
  France\nOrganizers announce the 2nd Regional Atmosphere Model (MAR) worksh
 op. The workshop will convene 13-15 September 2017 in Grenoble, France.\nA 
 call for abstracts will be announced on the MAR website: .\nThe workshop wi
 ll consist of one day of courses about model use and two days of communicat
 ions and discussions about model results and development. The new MAR websi
 te will also be presented during the workshop.\nMAR is an atmosphere model 
 designed for meteorological and climatic research and is used for a wide ra
 nge of applications, from kilometer-scale process studies to continental-sc
 ale multi-decadal simulations. This model is known for its representation o
 f physical processes in polar regions and is one of the few models able to 
 simulate\nrealistic surface mass balance, air-snow interactions, and atmosp
 heric circulation over ice sheets, including katabatic winds. MAR has led t
 o significant advances in the understanding of the surface mass balance of 
 mid-latitude and tropical glaciers and has provided climate simulations ove
 r Europe and Africa.\nFor more information about the workshop, go to: <a hr
 ef="http://mar.cnrs.fr/index.php?option_smdi=actualite&amp;id=12">http://ma
 r.cnrs.fr/index.php?option_smdi=actualite&amp;id=12</a>.\nFor more informat
 ion about MAR, go to: http://mar.cnrs.fr/.\nFor questions, contact:\nHubert
  Gallee\nEmail: This email address is being protected from spambots. You ne
 ed JavaScript enabled to view it.
				document.getElementById('cloak875dcf3
 12649c77c896992c78a23f61d').innerHTML = '';
				var prefix = '&#109;a' + 'i
 &#108;' + '&#116;o';
				var path = 'hr' + 'ef' + '=';
				var addy875dcf31
 2649c77c896992c78a23f61d = 'h&#117;b&#101;rt.g&#97;ll&#101;&#101;' + '&#64;
 ';
				addy875dcf312649c77c896992c78a23f61d = addy875dcf312649c77c896992c78
 a23f61d + '&#117;n&#105;v-gr&#101;n&#111;bl&#101;-&#97;lp&#101;s' + '&#46;'
  + 'fr';
				var addy_text875dcf312649c77c896992c78a23f61d = 'h&#117;b&#101
 ;rt.g&#97;ll&#101;&#101;' + '&#64;' + '&#117;n&#105;v-gr&#101;n&#111;bl&#10
 1;-&#97;lp&#101;s' + '&#46;' + 'fr';document.getElementById('cloak875dcf312
 649c77c896992c78a23f61d').innerHTML += '<a ' + path + '\'' + prefix + ':' +
  addy875dcf312649c77c896992c78a23f61d + '\'>'+addy_text875dcf312649c77c8969
 92c78a23f61d+'';
		\n
X-ALT-DESC;FMTTYPE=text/html:<p style="text-align: center;"><strong>2nd MAR Regional Atmosphere Model Wo
 rkshop</strong><br /><strong>13-15 September 2017, Grenoble, France</strong
 ></p><p>Organizers announce the 2nd Regional Atmosphere Model (MAR) worksho
 p. The workshop will convene 13-15 September 2017 in Grenoble, France.</p><
 p>A call for abstracts will be announced on the MAR website: <a href="http:
 //mar.cnrs.fr/index.php?option_smdi=actualite&amp;id=12">http://mar.cnrs.fr
 /index.php?option_smdi=actualite&amp;id=12</a>.</p><p>The workshop will con
 sist of one day of courses about model use and two days of communications a
 nd discussions about model results and development. The new MAR website wil
 l also be presented during the workshop.</p><p>MAR is an atmosphere model d
 esigned for meteorological and climatic research and is used for a wide ran
 ge of applications, from kilometer-scale process studies to continental-sca
 le multi-decadal simulations. This model is known for its representation of
  physical processes in polar regions and is one of the few models able to s
 imulate<br />realistic surface mass balance, air-snow interactions, and atm
 ospheric circulation over ice sheets, including katabatic winds. MAR has le
 d to significant advances in the understanding of the surface mass balance 
 of mid-latitude and tropical glaciers and has provided climate simulations 
 over Europe and Africa.</p><p>For more information about the workshop, go t
 o: <a href="http://mar.cnrs.fr/index.php?option_smdi=actualite&amp;id=12">h
 ttp://mar.cnrs.fr/index.php?option_smdi=actualite&amp;id=12</a>.</p><p>For 
 more information about MAR, go to: <a href="http://mar.cnrs.fr/">http://mar
 .cnrs.fr/</a>.</p><p>For questions, contact:<br />Hubert Gallee<br />Email:
  <span id="cloak875dcf312649c77c896992c78a23f61d">This email address is bei
 ng protected from spambots. You need JavaScript enabled to view it.</span><
 script type='text/javascript'>
				document.getElementById('cloak875dcf3126
 49c77c896992c78a23f61d').innerHTML = '';
				var prefix = '&#109;a' + 'i&#1
 08;' + '&#116;o';
				var path = 'hr' + 'ef' + '=';
				var addy875dcf31264
 9c77c896992c78a23f61d = 'h&#117;b&#101;rt.g&#97;ll&#101;&#101;' + '&#64;';

 				addy875dcf312649c77c896992c78a23f61d = addy875dcf312649c77c896992c78a23
 f61d + '&#117;n&#105;v-gr&#101;n&#111;bl&#101;-&#97;lp&#101;s' + '&#46;' + 
 'fr';
				var addy_text875dcf312649c77c896992c78a23f61d = 'h&#117;b&#101;rt
 .g&#97;ll&#101;&#101;' + '&#64;' + '&#117;n&#105;v-gr&#101;n&#111;bl&#101;-
 &#97;lp&#101;s' + '&#46;' + 'fr';document.getElementById('cloak875dcf312649
 c77c896992c78a23f61d').innerHTML += '<a ' + path + '\'' + prefix + ':' + ad
 dy875dcf312649c77c896992c78a23f61d + '\'>'+addy_text875dcf312649c77c896992c
 78a23f61d+'<\/a>';
		</script></p>
CONTACT:This email address is being protected from spambots. You need JavaScript enabled to view it.
				document.getElementById('cloak819cfcddf49df176e83ea1d1535340e4').innerHTML = '';
				var prefix = '&#109;a' + 'i&#108;' + '&#116;o';
				var path = 'hr' + 'ef' + '=';
				var addy819cfcddf49df176e83ea1d1535340e4 = 'h&#117;b&#101;rt.g&#97;ll&#101;&#101;' + '&#64;';
				addy819cfcddf49df176e83ea1d1535340e4 = addy819cfcddf49df176e83ea1d1535340e4 + '&#117;n&#105;v-gr&#101;n&#111;bl&#101;-&#97;lp&#101;s' + '&#46;' + 'fr';
				var addy_text819cfcddf49df176e83ea1d1535340e4 = 'h&#117;b&#101;rt.g&#97;ll&#101;&#101;' + '&#64;' + '&#117;n&#105;v-gr&#101;n&#111;bl&#101;-&#97;lp&#101;s' + '&#46;' + 'fr';document.getElementById('cloak819cfcddf49df176e83ea1d1535340e4').innerHTML += '<a ' + path + '\'' + prefix + ':' + addy819cfcddf49df176e83ea1d1535340e4 + '\'>'+addy_text819cfcddf49df176e83ea1d1535340e4+'';
		
DTSTAMP:20260424T074927Z
DTSTART;TZID=UTC;VALUE=DATE:20170913
DTEND;TZID=UTC;VALUE=DATE:20170916
SEQUENCE:0
TRANSP:OPAQUE
END:VEVENT
END:VCALENDAR