BEGIN:VCALENDAR
VERSION:2.0
PRODID:-//jEvents 2.0 for Joomla//EN
CALSCALE:GREGORIAN
METHOD:PUBLISH
BEGIN:VEVENT
UID:b53f378e8fd630232a401ffe2f50433b
CATEGORIES:Polar Conferences, Meetings and Events
CREATED:20170508T130408
SUMMARY:Workshop on X-ray Micro-tomography of Porous Ice Media
LOCATION:Trondheim\, Norway
DESCRIPTION:Call for Abstracts: Workshop on X-ray Micro-tomography of Porous Ice Media\
 n22-23 June 2017, Trondheim, Norway\nThis workshop will include participati
 on from various research and industry fields that work with x-ray micro-tom
 ography to explore porous media containing ice and snow. The goal of the wo
 rkshop is to stimulate discussion on similarities between porous ice media 
 (snow and firn, sea ice, soil, rocks, building, food, etc.) and on challeng
 es that x-ray cryo-tomography of ice media involves.\nAbstract submission d
 eadline: 20 May 2017.\nThe workshop will include a visit to the Norwegian U
 niversity for Science and Technology, Institute for Civil and Environmental
  Engineering ice lab facilities and the Norwegian Centre for X-ray Diffract
 ion, Scattering and Imaging.\nNumerical modelling contributions related to 
 3D imaging of porous ice media are also welcome.\nThe workshop is limited t
 o 20-25 participants with most participants expected to give a 20- to 30-mi
 nute presentation. Limited travel support is available.\nAbstract submissio
 ns must include:\n- Title and a short abstract (100 words),\n- Arrival and 
 departure information and whether discounted lodging is requested; and\n- A
 pproximate travel costs refund requested.\nAbstracts must be submitted via 
 email to This email address is being protected from spambots. You need Java
 Script enabled to view it.
				document.getElementById('cloak222d010c558c9c
 417f66c4dff4300336').innerHTML = '';
				var prefix = '&#109;a' + 'i&#108;'
  + '&#116;o';
				var path = 'hr' + 'ef' + '=';
				var addy222d010c558c9c4
 17f66c4dff4300336 = 's&#111;nk&#101;.m&#97;&#117;s' + '&#64;';
				addy222d
 010c558c9c417f66c4dff4300336 = addy222d010c558c9c417f66c4dff4300336 + 'ntn&
 #117;' + '&#46;' + 'n&#111;';
				var addy_text222d010c558c9c417f66c4dff430
 0336 = 's&#111;nk&#101;.m&#97;&#117;s' + '&#64;' + 'ntn&#117;' + '&#46;' + 
 'n&#111;';document.getElementById('cloak222d010c558c9c417f66c4dff4300336').
 innerHTML += '<a ' + path + '\'' + prefix + ':' + addy222d010c558c9c417f66c
 4dff4300336 + '\'>'+addy_text222d010c558c9c417f66c4dff4300336+'';
		.\nMore
  information about the workshop, abstract guidelines, and travel support is
  available at: http://folk.ntnu.no/sonkem/porousicemedia_trondheim062017.pd
 f.\nFor questions, contact: Sonke Maus\nEmail: This email address is being 
 protected from spambots. You need JavaScript enabled to view it.
				docume
 nt.getElementById('cloak918853fd90f8e8833739e231fd8755f3').innerHTML = '';

 				var prefix = '&#109;a' + 'i&#108;' + '&#116;o';
				var path = 'hr' + '
 ef' + '=';
				var addy918853fd90f8e8833739e231fd8755f3 = 's&#111;nk&#101;.
 m&#97;&#117;s' + '&#64;';
				addy918853fd90f8e8833739e231fd8755f3 = addy91
 8853fd90f8e8833739e231fd8755f3 + 'ntn&#117;' + '&#46;' + 'n&#111;';
				var
  addy_text918853fd90f8e8833739e231fd8755f3 = 's&#111;nk&#101;.m&#97;&#117;s
 ' + '&#64;' + 'ntn&#117;' + '&#46;' + 'n&#111;';document.getElementById('cl
 oak918853fd90f8e8833739e231fd8755f3').innerHTML += '<a ' + path + '\'' + pr
 efix + ':' + addy918853fd90f8e8833739e231fd8755f3 + '\'>'+addy_text918853fd
 90f8e8833739e231fd8755f3+'';
		\nPhone: +47 73 59 47 13\n
X-ALT-DESC;FMTTYPE=text/html:<p><strong>Call for Abstracts: Workshop on X-ray Micro-tomography of Porous
  Ice Media</strong><br /><strong>22-23 June 2017, Trondheim, Norway</strong
 ></p><p>This workshop will include participation from various research and 
 industry fields that work with x-ray micro-tomography to explore porous med
 ia containing ice and snow. The goal of the workshop is to stimulate discus
 sion on similarities between porous ice media (snow and firn, sea ice, soil
 , rocks, building, food, etc.) and on challenges that x-ray cryo-tomography
  of ice media involves.</p><p><strong>Abstract submission deadline: 20 May 
 2017.</strong></p><p>The workshop will include a visit to the Norwegian Uni
 versity for Science and Technology, Institute for Civil and Environmental E
 ngineering ice lab facilities and the Norwegian Centre for X-ray Diffractio
 n, Scattering and Imaging.</p><p>Numerical modelling contributions related 
 to 3D imaging of porous ice media are also welcome.</p><p>The workshop is l
 imited to 20-25 participants with most participants expected to give a 20- 
 to 30-minute presentation. Limited travel support is available.</p><p>Abstr
 act submissions must include:</p><p>- Title and a short abstract (100 words
 ),<br />- Arrival and departure information and whether discounted lodging 
 is requested; and<br />- Approximate travel costs refund requested.</p><p>A
 bstracts must be submitted via email to <span id="cloak222d010c558c9c417f66
 c4dff4300336">This email address is being protected from spambots. You need
  JavaScript enabled to view it.</span><script type='text/javascript'>
				d
 ocument.getElementById('cloak222d010c558c9c417f66c4dff4300336').innerHTML =
  '';
				var prefix = '&#109;a' + 'i&#108;' + '&#116;o';
				var path = 'hr
 ' + 'ef' + '=';
				var addy222d010c558c9c417f66c4dff4300336 = 's&#111;nk&#
 101;.m&#97;&#117;s' + '&#64;';
				addy222d010c558c9c417f66c4dff4300336 = a
 ddy222d010c558c9c417f66c4dff4300336 + 'ntn&#117;' + '&#46;' + 'n&#111;';
		
 		var addy_text222d010c558c9c417f66c4dff4300336 = 's&#111;nk&#101;.m&#97;&#
 117;s' + '&#64;' + 'ntn&#117;' + '&#46;' + 'n&#111;';document.getElementByI
 d('cloak222d010c558c9c417f66c4dff4300336').innerHTML += '<a ' + path + '\''
  + prefix + ':' + addy222d010c558c9c417f66c4dff4300336 + '\'>'+addy_text222
 d010c558c9c417f66c4dff4300336+'<\/a>';
		</script>.</p><p>More information 
 about the workshop, abstract guidelines, and travel support is available at
 : <a href="http://folk.ntnu.no/sonkem/porousicemedia_trondheim062017.pdf">h
 ttp://folk.ntnu.no/sonkem/porousicemedia_trondheim062017.pdf</a>.</p><p>For
  questions, contact: Sonke Maus<br />Email: <span id="cloak918853fd90f8e883
 3739e231fd8755f3">This email address is being protected from spambots. You 
 need JavaScript enabled to view it.</span><script type='text/javascript'>
	
 			document.getElementById('cloak918853fd90f8e8833739e231fd8755f3').innerHT
 ML = '';
				var prefix = '&#109;a' + 'i&#108;' + '&#116;o';
				var path =
  'hr' + 'ef' + '=';
				var addy918853fd90f8e8833739e231fd8755f3 = 's&#111;
 nk&#101;.m&#97;&#117;s' + '&#64;';
				addy918853fd90f8e8833739e231fd8755f3
  = addy918853fd90f8e8833739e231fd8755f3 + 'ntn&#117;' + '&#46;' + 'n&#111;'
 ;
				var addy_text918853fd90f8e8833739e231fd8755f3 = 's&#111;nk&#101;.m&#9
 7;&#117;s' + '&#64;' + 'ntn&#117;' + '&#46;' + 'n&#111;';document.getElemen
 tById('cloak918853fd90f8e8833739e231fd8755f3').innerHTML += '<a ' + path + 
 '\'' + prefix + ':' + addy918853fd90f8e8833739e231fd8755f3 + '\'>'+addy_tex
 t918853fd90f8e8833739e231fd8755f3+'<\/a>';
		</script><br />Phone: +47 73 5
 9 47 13</p>
CONTACT:This email address is being protected from spambots. You need JavaScript enabled to view it.
				document.getElementById('cloakc95d885c438d2236afe946892a76efe3').innerHTML = '';
				var prefix = '&#109;a' + 'i&#108;' + '&#116;o';
				var path = 'hr' + 'ef' + '=';
				var addyc95d885c438d2236afe946892a76efe3 = 's&#111;nk&#101;.m&#97;&#117;s' + '&#64;';
				addyc95d885c438d2236afe946892a76efe3 = addyc95d885c438d2236afe946892a76efe3 + 'ntn&#117;' + '&#46;' + 'n&#111;';
				var addy_textc95d885c438d2236afe946892a76efe3 = 's&#111;nk&#101;.m&#97;&#117;s' + '&#64;' + 'ntn&#117;' + '&#46;' + 'n&#111;';document.getElementById('cloakc95d885c438d2236afe946892a76efe3').innerHTML += '<a ' + path + '\'' + prefix + ':' + addyc95d885c438d2236afe946892a76efe3 + '\'>'+addy_textc95d885c438d2236afe946892a76efe3+'';
		
DTSTAMP:20260424T022033Z
DTSTART;TZID=UTC;VALUE=DATE:20170622
DTEND;TZID=UTC;VALUE=DATE:20170624
SEQUENCE:0
TRANSP:OPAQUE
END:VEVENT
END:VCALENDAR