BEGIN:VCALENDAR
VERSION:2.0
PRODID:-//jEvents 2.0 for Joomla//EN
CALSCALE:GREGORIAN
METHOD:PUBLISH
BEGIN:VEVENT
UID:59ebfc6c0ece25745062bacd1414b866
CATEGORIES:APECS Events
CREATED:20170426T123620
SUMMARY:APECS-EGU Cryosphere Polar Science Career Panel
LOCATION:Vienna\, Austria
DESCRIPTION:At the EGU 2017: Not sure which path your career might take? Join the Polar
  Science Career Panel coorganized by the Cryosphere Devision ECS and APECS 
 on Thursday (27.04, Session SC66/CL6.05/CR6.14), where our five panellists 
 will engage in discussions around experiences, career paths and choices.\nM
 ore info: http://meetingorganizer.copernicus.org/EGU2017/session/25675\n
X-ALT-DESC;FMTTYPE=text/html:<p>At the EGU 2017: Not sure which path your career might take? Join the Po
 lar Science Career Panel coorganized by the Cryosphere Devision ECS and APE
 CS on Thursday (27.04, Session SC66/CL6.05/CR6.14), where our five panellis
 ts will engage in discussions around experiences, career paths and choices.
 </p><p>More info: <a href="http://meetingorganizer.copernicus.org/EGU2017/s
 ession/25675">http://meetingorganizer.copernicus.org/EGU2017/session/25675<
 /a></p>
DTSTAMP:20260424T021901Z
DTSTART;TZID=UTC;VALUE=DATE:20170427
DTEND;TZID=UTC;VALUE=DATE:20170428
SEQUENCE:0
TRANSP:OPAQUE
END:VEVENT
END:VCALENDAR