BEGIN:VCALENDAR
VERSION:2.0
PRODID:-//jEvents 2.0 for Joomla//EN
CALSCALE:GREGORIAN
METHOD:PUBLISH
BEGIN:VEVENT
UID:4163932b9292d81fe1121f36231cf56a
CATEGORIES:Field and Summer Schools
CREATED:20170425T085230
SUMMARY:Science Communication Summer Institute
LOCATION:Seneca@York Campus\, Toronto\, Canada
DESCRIPTION:Seneca@York in Toronto is planning to run a Science Communication Summer In
 stitute (images/Heike/Science_Communications-8.5x11-3.pdf) this May aimed a
 t graduate (and senior) science students.\nIt features 10 days of classes a
 t the Seneca@York Campus in Toronto (May 8-19, 2017), followed by 4 weeks o
 f online instruction in 2 courses.\nStudents will earn a Seneca College Cer
 tificate in Science Communication.\nFor more information, please go here:<a
  href="http://www.senecacollege.ca/scicomm"> http://www.senecacollege.ca/sc
 icomm.</a>\n
X-ALT-DESC;FMTTYPE=text/html:<p><strong>Seneca@York</strong> in Toronto is planning to run a <a href="im
 ages/Heike/Science_Communications-8.5x11-3.pdf" target="_blank" rel="noopen
 er noreferrer"><strong>Science Communication Summer Institute</strong></a> 
 this May aimed at graduate (and senior) science students.<br />It features 
 <strong>10 days of classes at the Seneca@York Campus in Toronto (May 8-19, 
 2017), followed by 4 weeks of online instruction in 2 courses</strong>.</p>
 <p>Students will earn a Seneca College Certificate in Science Communication
 .</p><p>For more information, please go here:<a href="http://www.senecacoll
 ege.ca/scicomm"> http://www.senecacollege.ca/scicomm.</a></p>
CONTACT:Burke Cullen: This email address is being protected from spambots. You need JavaScript enabled to view it.
				document.getElementById('cloaka31e2d6bb5ed227ef0e00498542ab504').innerHTML = '';
				var prefix = '&#109;a' + 'i&#108;' + '&#116;o';
				var path = 'hr' + 'ef' + '=';
				var addya31e2d6bb5ed227ef0e00498542ab504 = 'b&#117;rk&#101;.c&#117;ll&#101;n' + '&#64;';
				addya31e2d6bb5ed227ef0e00498542ab504 = addya31e2d6bb5ed227ef0e00498542ab504 + 's&#101;n&#101;c&#97;c&#111;ll&#101;g&#101;' + '&#46;' + 'c&#97;';
				var addy_texta31e2d6bb5ed227ef0e00498542ab504 = 'b&#117;rk&#101;.c&#117;ll&#101;n' + '&#64;' + 's&#101;n&#101;c&#97;c&#111;ll&#101;g&#101;' + '&#46;' + 'c&#97;';document.getElementById('cloaka31e2d6bb5ed227ef0e00498542ab504').innerHTML += '<a ' + path + '\'' + prefix + ':' + addya31e2d6bb5ed227ef0e00498542ab504 + '\'>'+addy_texta31e2d6bb5ed227ef0e00498542ab504+'';
		
DTSTAMP:20260424T023206Z
DTSTART;TZID=UTC;VALUE=DATE:20170508
DTEND;TZID=UTC;VALUE=DATE:20170520
SEQUENCE:0
TRANSP:OPAQUE
END:VEVENT
END:VCALENDAR