BEGIN:VCALENDAR
VERSION:2.0
PRODID:-//jEvents 2.0 for Joomla//EN
CALSCALE:GREGORIAN
METHOD:PUBLISH
BEGIN:VEVENT
UID:6af9548da46fa62037823d7122dc78c6
CATEGORIES:APECS Events
CREATED:20170420T200341
SUMMARY:APECS Webinar: Snow, Ice, Rivers, and Earthquakes: Himalayan Research and Life in Nepal
LOCATION:Online
DESCRIPTION:APECS is hosting a webinar titled Snow, Ice, Rivers, and Earthquakes: Himal
 ayan Research and Life in Nepal, presented by Dr. Joseph Shea (University o
 f Saskatchewan) on April 25, 2017 at 9:00 AM MDT (15:00 GMT).\nSummary: Fro
 m 2012-2016 Joe spent four years as a Research Scientist based in Kathmandu
 , Nepal, working in the "Third Pole". This talk will broadly cover the Hima
 layan research program that he contributed to, which includes high mountain
  hydrological and meteorological monitoring, UAVs, glacier modelling, and a
  major earthquake. Joe will also try to provide some insights into taking u
 p positions in foreign countries, working and living as an expatriate/emigr
 ant, and deviating from the traditional academic path.\nPlease register her
 e: https://attendee.gotowebinar.com/register/3109116899014571779.\nAfter re
 gistering, you will receive a confirmation email containing information abo
 ut joining the webinar.\n
X-ALT-DESC;FMTTYPE=text/html:<p>APECS is hosting a <strong>webinar</strong> titled <strong>Snow, Ice, Ri
 vers, and Earthquakes: Himalayan Research and Life in Nepal</strong>, prese
 nted by <strong>Dr. Joseph Shea</strong> (University of Saskatchewan) <stro
 ng>on April 25, 2017 at 9:00 AM MDT (15:00 GMT)</strong>.</p><p>Summary: Fr
 om 2012-2016 Joe spent four years as a Research Scientist based in Kathmand
 u, Nepal, working in the "Third Pole". This talk will broadly cover the Him
 alayan research program that he contributed to, which includes high mountai
 n hydrological and meteorological monitoring, UAVs, glacier modelling, and 
 a major earthquake. Joe will also try to provide some insights into taking 
 up positions in foreign countries, working and living as an expatriate/emig
 rant, and deviating from the traditional academic path.</p><p>Please regist
 er here: <a href="https://attendee.gotowebinar.com/register/310911689901457
 1779">https://attendee.gotowebinar.com/register/3109116899014571779</a>.</p
 ><p>After registering, you will receive a confirmation email containing inf
 ormation about joining the webinar.</p>
DTSTAMP:20260424T021943Z
DTSTART;TZID=UTC;VALUE=DATE:20170425
DTEND;TZID=UTC;VALUE=DATE:20170426
SEQUENCE:0
TRANSP:OPAQUE
END:VEVENT
END:VCALENDAR