BEGIN:VCALENDAR
VERSION:2.0
PRODID:-//jEvents 2.0 for Joomla//EN
CALSCALE:GREGORIAN
METHOD:PUBLISH
BEGIN:VEVENT
UID:be8daefd1ce74480af25d1d1ea8cec3f
CATEGORIES:Polar Conferences, Meetings and Events
CREATED:20170418T112542
SUMMARY:1st International Workshop on Antarctic permafrost, periglacial processes and soils (ANTPAS) “
DESCRIPTION:In the attachement you can find the circular (images/Heike/circular_SCAR-AN
 TPAS--workshop.pdf) with all the information about the 1st SCAR ANTPAS work
 shop, Varese (Italy), 4-5 October 2016.\nThe deadline for abstract submissi
 on is the 1st June 2017 while the deadline for the payment is 1st of Septem
 ber.\n
X-ALT-DESC;FMTTYPE=text/html:<p>In the attachement you can find the <a href="images/Heike/circular_SCAR-
 ANTPAS--workshop.pdf" target="_blank" rel="noopener noreferrer"><strong>cir
 cular</strong></a> with all the information about the <strong>1st SCAR ANTP
 AS workshop, Varese (Italy), 4-5 October 2016</strong>.</p><p>The <strong>d
 eadline for abstract submission is the 1st June 2017</strong> while the dea
 dline for the <strong>payment is 1st of September</strong>.</p>
DTSTAMP:20260424T072823Z
DTSTART;TZID=UTC;VALUE=DATE:20171004
DTEND;TZID=UTC;VALUE=DATE:20171006
SEQUENCE:0
TRANSP:OPAQUE
END:VEVENT
END:VCALENDAR