BEGIN:VCALENDAR
VERSION:2.0
PRODID:-//jEvents 2.0 for Joomla//EN
CALSCALE:GREGORIAN
METHOD:PUBLISH
BEGIN:VEVENT
UID:21e25c410def7e362ad73ee7dc148056
CATEGORIES:Polar Conferences, Meetings and Events
CREATED:20170412T140135
SUMMARY:Arctic Change – Global Challenge: Workshop for Emerging Leaders
LOCATION:University of Lapland’s Arctic Centre\, Rovaniemi\, Finland
DESCRIPTION:Rovaniemi, Finland, 30-31 August 2017\nNavigating the combined challenges o
 f climate change, globalization, and a shifting geopolitical landscape requ
 ires leadership at all levels and in all sectors of society. The rapidly ch
 anging Arctic illustrates the complexity of the task, with issues ranging f
 rom safeguarding human security in the Arctic and globally to managing a tr
 ansition to a post-petroleum future. Central to the challenge are the close
  links between Arctic change and global processes. Navigating them will req
 uire insights about these connections, along with leadership skills and net
 works for working together across national and cultural contexts.\nThe aim 
 of this workshop is to increase the capacity of individuals who may become 
 the next generation global leaders to understand and act on the new securit
 y and governance challenges that are developing in the context of global en
 vironmental change. It will bring together a small group of young professio
 nals with leadership aspirations with the specific task of using Arctic cha
 nge as a starting point for defining what global security and governance mi
 ght entail in the next 20-30 years and to explore their own roles in addres
 sing them.\n\nThe workshop will take place 30-31 August 2017, hosted by Uni
 versity of Lapland’s Arctic Centre, Rovaniemi, Finland. It is supported by 
 the Swedish Foundation for Strategic Environmental Research (Mistra), the G
 erman Marshall Fund of the United States (GMFUS), the University of Lapland
 ’s Arctic Center, and the project Arctic Governance and the Question of Fit
  in a Globalized World funded by the Swedish Research Council Formas. Conve
 ner is Dr. Annika E. Nilsson, Mistra-Arctic Fellow at GMFUS and Senior Rese
 arch Fellow at Stockholm Environment Institute.\n\nWe invite young professi
 onals (age 20-35) with aspirations for leadership roles in relation to poli
 tics, community development, or research to apply to the workshop. The work
 shop is free of charge and local costs are covered by the organizers. Some 
 funding is available for travel support, but we also encourage participants
  to look for other ways to cover travel costs. If you need support for trav
 el costs, please provide motivation and a budget. We aim for a final select
 ion of participants that will reflect a diversity of experiences and perspe
 ctives from within and outside the Arctic.\nThe application should include:
 \n\n - Cover letter with Short presentation of yourself\n - Motivation: How
  you and others would benefit from your participation\n - Some words about 
 how you see global-local interactions in your area of interest\n - Some wor
 ds about where you see yourself as a leader in five to ten years from now\n
  - Optional: Request for travel support with budget\n - CV\nApplication dea
 dline: 20 April 2017\nFor further information, please contact: This email a
 ddress is being protected from spambots. You need JavaScript enabled to vie
 w it.
				document.getElementById('cloaka3eedc89e8737da3ab0b71d94547106c').
 innerHTML = '';
				var prefix = '&#109;a' + 'i&#108;' + '&#116;o';
				var
  path = 'hr' + 'ef' + '=';
				var addya3eedc89e8737da3ab0b71d94547106c = '
 &#97;nn&#105;k&#97;.n&#105;lss&#111;n' + '&#64;';
				addya3eedc89e8737da3a
 b0b71d94547106c = addya3eedc89e8737da3ab0b71d94547106c + 's&#101;&#105;-&#1
 05;nt&#101;rn&#97;t&#105;&#111;n&#97;l' + '&#46;' + '&#111;rg';
				var add
 y_texta3eedc89e8737da3ab0b71d94547106c = '&#97;nn&#105;k&#97;.n&#105;lss&#1
 11;n' + '&#64;' + 's&#101;&#105;-&#105;nt&#101;rn&#97;t&#105;&#111;n&#97;l'
  + '&#46;' + '&#111;rg';document.getElementById('cloaka3eedc89e8737da3ab0b7
 1d94547106c').innerHTML += '<a ' + path + '\'' + prefix + ':' + addya3eedc8
 9e8737da3ab0b71d94547106c + '\'>'+addy_texta3eedc89e8737da3ab0b71d94547106c
 +'';
		\n
X-ALT-DESC;FMTTYPE=text/html:<p><strong>Rovaniemi, Finland, 30-31 August 2017</strong></p><p>Navigating 
 the combined challenges of climate change, globalization, and a shifting ge
 opolitical landscape requires leadership at all levels and in all sectors o
 f society. The rapidly changing Arctic illustrates the complexity of the ta
 sk, with issues ranging from safeguarding human security in the Arctic and 
 globally to managing a transition to a post-petroleum future. Central to th
 e challenge are the close links between Arctic change and global processes.
  Navigating them will require insights about these connections, along with 
 leadership skills and networks for working together across national and cul
 tural contexts.<br />The aim of this workshop is to increase the capacity o
 f individuals who may become the next generation global leaders to understa
 nd and act on the new security and governance challenges that are developin
 g in the context of global environmental change. It will bring together a s
 mall group of young professionals with leadership aspirations with the spec
 ific task of using Arctic change as a starting point for defining what glob
 al security and governance might entail in the next 20-30 years and to expl
 ore their own roles in addressing them.</p><p><br />The workshop will take 
 place <strong>30-31 August 2017</strong>, hosted by <strong>University of L
 apland’s Arctic Centre, Rovaniemi, Finland</strong>. It is supported by the
  Swedish Foundation for Strategic Environmental Research (Mistra), the Germ
 an Marshall Fund of the United States (GMFUS), the University of Lapland’s 
 Arctic Center, and the project Arctic Governance and the Question of Fit in
  a Globalized World funded by the Swedish Research Council Formas. Convener
  is Dr. Annika E. Nilsson, Mistra-Arctic Fellow at GMFUS and Senior Researc
 h Fellow at Stockholm Environment Institute.</p><p><br />We invite young pr
 ofessionals (age 20-35) with aspirations for leadership roles in relation t
 o politics, community development, or research to apply to the workshop. Th
 e workshop is free of charge and local costs are covered by the organizers.
  Some funding is available for travel support, but we also encourage partic
 ipants to look for other ways to cover travel costs. If you need support fo
 r travel costs, please provide motivation and a budget. We aim for a final 
 selection of participants that will reflect a diversity of experiences and 
 perspectives from within and outside the Arctic.</p><p>The application shou
 ld include:</p><ul><li>Cover letter with Short presentation of yourself</li
 ><li>Motivation: How you and others would benefit from your participation</
 li><li>Some words about how you see global-local interactions in your area 
 of interest</li><li>Some words about where you see yourself as a leader in 
 five to ten years from now</li><li>Optional: Request for travel support wit
 h budget</li><li>CV</li></ul><p><a href="https://emea3.recruitmentplatform.
 com/appproc/index.cfm?event=createSessionAfterSessionClear&ID=P50FK026203F3
 VBQB79V48MD8&jobboard=0&nPTID=1070&bSessionClear=true&nProfileIdFoundInAGP=
 " target="_blank" rel="noopener noreferrer">APPLY HERE</a></p><p><strong>Ap
 plication deadline: 20 April 2017</strong></p><p>For further information, p
 lease contact: <span id="cloaka3eedc89e8737da3ab0b71d94547106c">This email 
 address is being protected from spambots. You need JavaScript enabled to vi
 ew it.</span><script type='text/javascript'>
				document.getElementById('c
 loaka3eedc89e8737da3ab0b71d94547106c').innerHTML = '';
				var prefix = '&#
 109;a' + 'i&#108;' + '&#116;o';
				var path = 'hr' + 'ef' + '=';
				var a
 ddya3eedc89e8737da3ab0b71d94547106c = '&#97;nn&#105;k&#97;.n&#105;lss&#111;
 n' + '&#64;';
				addya3eedc89e8737da3ab0b71d94547106c = addya3eedc89e8737d
 a3ab0b71d94547106c + 's&#101;&#105;-&#105;nt&#101;rn&#97;t&#105;&#111;n&#97
 ;l' + '&#46;' + '&#111;rg';
				var addy_texta3eedc89e8737da3ab0b71d9454710
 6c = '&#97;nn&#105;k&#97;.n&#105;lss&#111;n' + '&#64;' + 's&#101;&#105;-&#1
 05;nt&#101;rn&#97;t&#105;&#111;n&#97;l' + '&#46;' + '&#111;rg';document.get
 ElementById('cloaka3eedc89e8737da3ab0b71d94547106c').innerHTML += '<a ' + p
 ath + '\'' + prefix + ':' + addya3eedc89e8737da3ab0b71d94547106c + '\'>'+ad
 dy_texta3eedc89e8737da3ab0b71d94547106c+'<\/a>';
		</script></p>
CONTACT:This email address is being protected from spambots. You need JavaScript enabled to view it.
				document.getElementById('cloakfea35f300af2c14ae895f62e938ce468').innerHTML = '';
				var prefix = '&#109;a' + 'i&#108;' + '&#116;o';
				var path = 'hr' + 'ef' + '=';
				var addyfea35f300af2c14ae895f62e938ce468 = '&#97;nn&#105;k&#97;.n&#105;lss&#111;n' + '&#64;';
				addyfea35f300af2c14ae895f62e938ce468 = addyfea35f300af2c14ae895f62e938ce468 + 's&#101;&#105;-&#105;nt&#101;rn&#97;t&#105;&#111;n&#97;l' + '&#46;' + '&#111;rg';
				var addy_textfea35f300af2c14ae895f62e938ce468 = '&#97;nn&#105;k&#97;.n&#105;lss&#111;n' + '&#64;' + 's&#101;&#105;-&#105;nt&#101;rn&#97;t&#105;&#111;n&#97;l' + '&#46;' + '&#111;rg';document.getElementById('cloakfea35f300af2c14ae895f62e938ce468').innerHTML += '<a ' + path + '\'' + prefix + ':' + addyfea35f300af2c14ae895f62e938ce468 + '\'>'+addy_textfea35f300af2c14ae895f62e938ce468+'';
		
DTSTAMP:20260424T190734Z
DTSTART;TZID=UTC;VALUE=DATE:20170830
DTEND;TZID=UTC;VALUE=DATE:20170901
SEQUENCE:0
TRANSP:OPAQUE
END:VEVENT
END:VCALENDAR