BEGIN:VCALENDAR
VERSION:2.0
PRODID:-//jEvents 2.0 for Joomla//EN
CALSCALE:GREGORIAN
METHOD:PUBLISH
BEGIN:VEVENT
UID:9d771f29f52690bf4c0a493cd8bc69cd
CATEGORIES:Polar Conferences, Meetings and Events
CREATED:20170412T135330
SUMMARY:IGS British Branch 2017, ECR Training Event: Environmental Data Science for Polar Scientists
LOCATION:Lancaster Post-graduate Statistics Centre
DESCRIPTION:Lancaster Data Science Institute are hosting a one-day training course on T
 uesday September 5th in conjunction with the International Glaciological So
 ciety British Branch 2017 meeting. Quantitative analysis relies on numerica
 l methods, however methodological developments in the ‘data sciences’ (e.g.
  maths/computing) are not often brought directly into polar research. This 
 training event aims to encourage the adoption of cutting-edge data science 
 methods by polar researchers. The day will provide an overview of statistic
 al and computational methods which can be employed by polar scientists and 
 will deliver in-depth practical sessions on the application of changepoint 
 analysis and extreme value theory to polar data. There will also be an oppo
 rtunity to develop ideas around the application of data science techniques 
 to your own data with feedback given by Lancaster's experts in Environmenta
 l Data Science. The course also offers the opportunity to develop skills in
  analysis using R, and working in a cloud-based environment, through the pr
 actical components of the course.\nThe workshop will be held from 09:00 – 1
 7:45 on Tuesday 5th September in Lancaster Post-graduate Statistics Centre.
  Note that this is the day preceding the British Branch 2017 meeting.\nRegi
 stration is free via the eventbrite link below, but places are limited; pri
 ority will be given to PhD students but other early career researchers are 
 encouraged to apply. For those arriving the day before (Monday 4th Septembe
 r), on-campus en-suite B and B accommodation has been reserved at a cost of
  £38.50 per night.\nPrior knowledge of R is not required, but attendees sho
 uld have a basic statistical awareness, for example an understanding of lin
 ear regression and the concept of a probability distribution. If you have a
 ny questions please contact Amber on This email address is being protected 
 from spambots. You need JavaScript enabled to view it.
				document.getElem
 entById('cloak2ec73df50aa7a9c018249fe63933cd63').innerHTML = '';
				var pr
 efix = '&#109;a' + 'i&#108;' + '&#116;o';
				var path = 'hr' + 'ef' + '=';
 
				var addy2ec73df50aa7a9c018249fe63933cd63 = '&#97;.l&#101;&#101;s&#111;
 n' + '&#64;';
				addy2ec73df50aa7a9c018249fe63933cd63 = addy2ec73df50aa7a9
 c018249fe63933cd63 + 'l&#97;nc&#97;st&#101;r' + '&#46;' + '&#97;c' + '&#46;
 ' + '&#117;k';
				var addy_text2ec73df50aa7a9c018249fe63933cd63 = '&#97;.l
 &#101;&#101;s&#111;n' + '&#64;' + 'l&#97;nc&#97;st&#101;r' + '&#46;' + '&#9
 7;c' + '&#46;' + '&#117;k';document.getElementById('cloak2ec73df50aa7a9c018
 249fe63933cd63').innerHTML += '<a ' + path + '\'' + prefix + ':' + addy2ec7
 3df50aa7a9c018249fe63933cd63 + '\'>'+addy_text2ec73df50aa7a9c018249fe63933c
 d63+'';
		.\nEventbrite link to register for the course: https://www.eventb
 rite.co.uk/e/ecr-training-event-environmental-data-science-for-polar-scient
 ists-tickets-32822960358\nIGS British Branch 2017 local website (registrati
 on and abstract submission is now open!): <a href="http://wp.lancs.ac.uk/ig
 s-bb/">http://wp.lancs.ac.uk/igs-bb/</a> \n
X-ALT-DESC;FMTTYPE=text/html:<p>Lancaster Data Science Institute are hosting a <strong>one-day training 
 course</strong> on <strong>Tuesday September 5th</strong> in conjunction wi
 th the International Glaciological Society British Branch 2017 meeting. Qua
 ntitative analysis relies on numerical methods, however methodological deve
 lopments in the ‘data sciences’ (e.g. maths/computing) are not often brough
 t directly into polar research. This training event aims to encourage the a
 doption of cutting-edge data science methods by polar researchers. The day 
 will provide an overview of statistical and computational methods which can
  be employed by polar scientists and will deliver in-depth practical sessio
 ns on the application of changepoint analysis and extreme value theory to p
 olar data. There will also be an opportunity to develop ideas around the ap
 plication of data science techniques to your own data with feedback given b
 y Lancaster's experts in Environmental Data Science. The course also offers
  the opportunity to develop skills in analysis using R, and working in a cl
 oud-based environment, through the practical components of the course.</p><
 p><strong>The workshop will be held from 09:00 – 17:45 on Tuesday 5th Septe
 mber in Lancaster Post-graduate Statistics Centre</strong>. Note that this 
 is the day preceding the British Branch 2017 meeting.</p><p><strong>Registr
 ation is free via the eventbrite link below, but places are limited</strong
 >; priority will be given to PhD students but other early career researcher
 s are encouraged to apply. For those arriving the day before (Monday 4th Se
 ptember), on-campus en-suite B and B accommodation has been reserved at a c
 ost of £38.50 per night.</p><p>Prior knowledge of R is not required, but at
 tendees should have a basic statistical awareness, for example an understan
 ding of linear regression and the concept of a probability distribution. If
  you have any questions please contact Amber on <span id="cloak2ec73df50aa7
 a9c018249fe63933cd63">This email address is being protected from spambots. 
 You need JavaScript enabled to view it.</span><script type='text/javascript
 '>
				document.getElementById('cloak2ec73df50aa7a9c018249fe63933cd63').inn
 erHTML = '';
				var prefix = '&#109;a' + 'i&#108;' + '&#116;o';
				var pa
 th = 'hr' + 'ef' + '=';
				var addy2ec73df50aa7a9c018249fe63933cd63 = '&#9
 7;.l&#101;&#101;s&#111;n' + '&#64;';
				addy2ec73df50aa7a9c018249fe63933cd
 63 = addy2ec73df50aa7a9c018249fe63933cd63 + 'l&#97;nc&#97;st&#101;r' + '&#4
 6;' + '&#97;c' + '&#46;' + '&#117;k';
				var addy_text2ec73df50aa7a9c01824
 9fe63933cd63 = '&#97;.l&#101;&#101;s&#111;n' + '&#64;' + 'l&#97;nc&#97;st&#
 101;r' + '&#46;' + '&#97;c' + '&#46;' + '&#117;k';document.getElementById('
 cloak2ec73df50aa7a9c018249fe63933cd63').innerHTML += '<a ' + path + '\'' + 
 prefix + ':' + addy2ec73df50aa7a9c018249fe63933cd63 + '\'>'+addy_text2ec73d
 f50aa7a9c018249fe63933cd63+'<\/a>';
		</script>.</p><p><strong>Eventbrite l
 ink to register for the course:</strong> <a href="https://www.eventbrite.co
 .uk/e/ecr-training-event-environmental-data-science-for-polar-scientists-ti
 ckets-32822960358">https://www.eventbrite.co.uk/e/ecr-training-event-enviro
 nmental-data-science-for-polar-scientists-tickets-32822960358</a><br />IGS 
 British Branch 2017 local website (r<em>egistration and abstract submission
  is now open!</em>): <a href="http://wp.lancs.ac.uk/igs-bb/">http://wp.lanc
 s.ac.uk/igs-bb/</a> </p>
CONTACT:This email address is being protected from spambots. You need JavaScript enabled to view it.
				document.getElementById('cloake85b828e668f5165956509cb343d022d').innerHTML = '';
				var prefix = '&#109;a' + 'i&#108;' + '&#116;o';
				var path = 'hr' + 'ef' + '=';
				var addye85b828e668f5165956509cb343d022d = '&#97;.l&#101;&#101;s&#111;n' + '&#64;';
				addye85b828e668f5165956509cb343d022d = addye85b828e668f5165956509cb343d022d + 'l&#97;nc&#97;st&#101;r' + '&#46;' + '&#97;c' + '&#46;' + '&#117;k';
				var addy_texte85b828e668f5165956509cb343d022d = '&#97;.l&#101;&#101;s&#111;n' + '&#64;' + 'l&#97;nc&#97;st&#101;r' + '&#46;' + '&#97;c' + '&#46;' + '&#117;k';document.getElementById('cloake85b828e668f5165956509cb343d022d').innerHTML += '<a ' + path + '\'' + prefix + ':' + addye85b828e668f5165956509cb343d022d + '\'>'+addy_texte85b828e668f5165956509cb343d022d+'';
		
DTSTAMP:20260424T191051Z
DTSTART;TZID=UTC:20170905T090000
DTEND;TZID=UTC:20170905T174500
SEQUENCE:0
TRANSP:OPAQUE
END:VEVENT
END:VCALENDAR