BEGIN:VCALENDAR
VERSION:2.0
PRODID:-//jEvents 2.0 for Joomla//EN
CALSCALE:GREGORIAN
METHOD:PUBLISH
BEGIN:VEVENT
UID:936c9315f6e91bb09db5f7931f1cdad0
CATEGORIES:APECS Events
CREATED:20160422T150016
SUMMARY:APECS Workshop at SCAR2016
LOCATION:Kuala Lumpur\, Malaysia
DESCRIPTION:More information is available here http://www.apecs.is/events/upcoming-even
 t-highlights/scar-2016.html\n
X-ALT-DESC;FMTTYPE=text/html:<p>More information is available here http://www.apecs.is/events/upcoming-e
 vent-highlights/scar-2016.html</p>
CONTACT:This email address is being protected from spambots. You need JavaScript enabled to view it.
				document.getElementById('cloakbb679702f4123a8f931de4c6a59b28b6').innerHTML = '';
				var prefix = '&#109;a' + 'i&#108;' + '&#116;o';
				var path = 'hr' + 'ef' + '=';
				var addybb679702f4123a8f931de4c6a59b28b6 = '&#105;nf&#111;' + '&#64;';
				addybb679702f4123a8f931de4c6a59b28b6 = addybb679702f4123a8f931de4c6a59b28b6 + '&#97;p&#101;cs' + '&#46;' + '&#105;s';
				var addy_textbb679702f4123a8f931de4c6a59b28b6 = '&#105;nf&#111;' + '&#64;' + '&#97;p&#101;cs' + '&#46;' + '&#105;s';document.getElementById('cloakbb679702f4123a8f931de4c6a59b28b6').innerHTML += '<a ' + path + '\'' + prefix + ':' + addybb679702f4123a8f931de4c6a59b28b6 + '\'>'+addy_textbb679702f4123a8f931de4c6a59b28b6+'';
		
DTSTAMP:20260424T080512Z
DTSTART;TZID=UTC;VALUE=DATE:20160821
DTEND;TZID=UTC;VALUE=DATE:20160822
SEQUENCE:0
TRANSP:OPAQUE
END:VEVENT
END:VCALENDAR