BEGIN:VCALENDAR
VERSION:2.0
PRODID:-//jEvents 2.0 for Joomla//EN
CALSCALE:GREGORIAN
METHOD:PUBLISH
BEGIN:VEVENT
UID:b10387b8837227ea27e6311a9886e685
CATEGORIES:Polar Conferences, Meetings and Events
CREATED:20170321T123306
SUMMARY:International Workshop on  Cryospheric Change and Sustainable Development
LOCATION:State Key Laboratory of Cryospheric Science\, Northwest Institute of Eco-En
 vironment and Resources
DESCRIPTION:We invite you to the International Workshop on Cryospheric Change and Susta
 inable Development, Lanzhou, China, 1-2 August, 2017.\nPlease submit your a
 bstract (in Microsoft Word format) and application form by Email to This em
 ail address is being protected from spambots. You need JavaScript enabled t
 o view it.
				document.getElementById('cloak01d418cc8909b946f75fd93b6872ff
 6d').innerHTML = '';
				var prefix = '&#109;a' + 'i&#108;' + '&#116;o';
		
 		var path = 'hr' + 'ef' + '=';
				var addy01d418cc8909b946f75fd93b6872ff6
 d = 'w&#97;ngf&#101;&#105;t&#101;ng' + '&#64;';
				addy01d418cc8909b946f75
 fd93b6872ff6d = addy01d418cc8909b946f75fd93b6872ff6d + 'lzb' + '&#46;' + '&
 #97;c' + '&#46;' + 'cn';
				var addy_text01d418cc8909b946f75fd93b6872ff6d 
 = 'w&#97;ngf&#101;&#105;t&#101;ng' + '&#64;' + 'lzb' + '&#46;' + '&#97;c' +
  '&#46;' + 'cn';document.getElementById('cloak01d418cc8909b946f75fd93b6872f
 f6d').innerHTML += '<a ' + path + '\'' + prefix + ':' + addy01d418cc8909b94
 6f75fd93b6872ff6d + '\'>'+addy_text01d418cc8909b946f75fd93b6872ff6d+'';
		 
 by June 1, 2017.\nPlease find here the 2nd circular (images/Articles/Files/
 lanzhou_workshop_second_circular_03_16.pdf).\n
X-ALT-DESC;FMTTYPE=text/html:<p>We invite you to the <strong>International Workshop on Cryospheric Chang
 e and Sustainable Development, Lanzhou, China, 1-2 August, 2017</strong>.</
 p><p>Please submit your abstract (in Microsoft Word format) and application
  form by Email to <span id="cloak01d418cc8909b946f75fd93b6872ff6d">This ema
 il address is being protected from spambots. You need JavaScript enabled to
  view it.</span><script type='text/javascript'>
				document.getElementById
 ('cloak01d418cc8909b946f75fd93b6872ff6d').innerHTML = '';
				var prefix = 
 '&#109;a' + 'i&#108;' + '&#116;o';
				var path = 'hr' + 'ef' + '=';
				va
 r addy01d418cc8909b946f75fd93b6872ff6d = 'w&#97;ngf&#101;&#105;t&#101;ng' +
  '&#64;';
				addy01d418cc8909b946f75fd93b6872ff6d = addy01d418cc8909b946f7
 5fd93b6872ff6d + 'lzb' + '&#46;' + '&#97;c' + '&#46;' + 'cn';
				var addy_
 text01d418cc8909b946f75fd93b6872ff6d = 'w&#97;ngf&#101;&#105;t&#101;ng' + '
 &#64;' + 'lzb' + '&#46;' + '&#97;c' + '&#46;' + 'cn';document.getElementByI
 d('cloak01d418cc8909b946f75fd93b6872ff6d').innerHTML += '<a ' + path + '\''
  + prefix + ':' + addy01d418cc8909b946f75fd93b6872ff6d + '\'>'+addy_text01d
 418cc8909b946f75fd93b6872ff6d+'<\/a>';
		</script> by June 1, 2017.</p><p>P
 lease find here the <a href="images/Articles/Files/lanzhou_workshop_second_
 circular_03_16.pdf" target="_blank" rel="noopener noreferrer"><strong>2nd c
 ircular</strong></a>.</p>
CONTACT:This email address is being protected from spambots. You need JavaScript enabled to view it.
				document.getElementById('cloak9c90c2b1278f2b9f5758b023354f95b5').innerHTML = '';
				var prefix = '&#109;a' + 'i&#108;' + '&#116;o';
				var path = 'hr' + 'ef' + '=';
				var addy9c90c2b1278f2b9f5758b023354f95b5 = 'w&#97;ngf&#101;&#105;t&#101;ng' + '&#64;';
				addy9c90c2b1278f2b9f5758b023354f95b5 = addy9c90c2b1278f2b9f5758b023354f95b5 + 'lzb' + '&#46;' + '&#97;c' + '&#46;' + 'cn';
				var addy_text9c90c2b1278f2b9f5758b023354f95b5 = 'w&#97;ngf&#101;&#105;t&#101;ng' + '&#64;' + 'lzb' + '&#46;' + '&#97;c' + '&#46;' + 'cn';document.getElementById('cloak9c90c2b1278f2b9f5758b023354f95b5').innerHTML += '<a ' + path + '\'' + prefix + ':' + addy9c90c2b1278f2b9f5758b023354f95b5 + '\'>'+addy_text9c90c2b1278f2b9f5758b023354f95b5+'';
		
DTSTAMP:20260424T073427Z
DTSTART;TZID=UTC:20170801T080000
DTEND;TZID=UTC:20170802T080000
SEQUENCE:0
TRANSP:OPAQUE
END:VEVENT
END:VCALENDAR