BEGIN:VCALENDAR
VERSION:2.0
PRODID:-//jEvents 2.0 for Joomla//EN
CALSCALE:GREGORIAN
METHOD:PUBLISH
BEGIN:VEVENT
UID:d16a28b1298b24238283da1935cdb92f
CATEGORIES:Polar Conferences, Meetings and Events
CREATED:20160422T140421
SUMMARY:International Symposium on The Cryosphere in a Changing Climate
LOCATION:Wellington\, New Zealand
DESCRIPTION:The International Glaciological Society, the International Association of C
 ryospheric Sciences and the WCRP Climate and Cryosphere Project invite you 
 to attend the ‘International Symposium on The Cryosphere in a Changing Clim
 ate', due to be held from 12–17 February 2017, in Wellington, New Zealand.\
 nWe strongly encourage you to visit http://www.igsoc.org/symposia/2017/newz
 ealand/ and register your interest to attend. That way you will ensure you'
 ll receive all communications relating to the symposium. You can access the
  first circular at the same location.\nThe Local Organiser’s website is als
 o now up and running. It will be the place to visit to obtain more detailed
  information about the symposium.\nPlease see <a href="http://www.climate-c
 ryosphere.org/meetings/upcoming-clic/2017-cryosphere-in-a-changing-climate-
 conference/about">http://www.climate-cryosphere.org/meetings/upcoming-clic/
 2017-cryosphere-in-a-changing-climate-conference/about</a>\nWe look forward
  to seeing you in New Zealand in 2017\nMagnús Már Magnússon, Secretary Gene
 ral of the International Glaciological Society\nAndrew Mackintosh, Chair of
  Local Organizing Committee and Secretary General of IACS\nGwen Hamon, Exec
 utive Officer of CliC\n
X-ALT-DESC;FMTTYPE=text/html:<p>The International Glaciological Society, the International Association o
 f Cryospheric Sciences and the WCRP Climate and Cryosphere Project invite y
 ou to attend the ‘International Symposium on The Cryosphere in a Changing C
 limate', due to be held from 12–17 February 2017, in Wellington, New Zealan
 d.</p><p>We strongly encourage you to visit <a href="http://www.igsoc.org/s
 ymposia/2017/newzealand/">http://www.igsoc.org/symposia/2017/newzealand/</a
 > and register your interest to attend. That way you will ensure you'll rec
 eive all communications relating to the symposium. You can access the first
  circular at the same location.</p><p>The Local Organiser’s website is also
  now up and running. It will be the place to visit to obtain more detailed 
 information about the symposium.<br />Please see <a href="http://www.climat
 e-cryosphere.org/meetings/upcoming-clic/2017-cryosphere-in-a-changing-clima
 te-conference/about">http://www.climate-cryosphere.org/meetings/upcoming-cl
 ic/2017-cryosphere-in-a-changing-climate-conference/about</a></p><p>We look
  forward to seeing you in New Zealand in 2017</p><p>Magnús Már Magnússon, S
 ecretary General of the International Glaciological Society<br />Andrew Mac
 kintosh, Chair of Local Organizing Committee and Secretary General of IACS<
 br />Gwen Hamon, Executive Officer of CliC</p>
DTSTAMP:20260424T070728Z
DTSTART;TZID=UTC;VALUE=DATE:20170212
DTEND;TZID=UTC;VALUE=DATE:20170218
SEQUENCE:0
TRANSP:OPAQUE
END:VEVENT
END:VCALENDAR