BEGIN:VCALENDAR
VERSION:2.0
PRODID:-//jEvents 2.0 for Joomla//EN
CALSCALE:GREGORIAN
METHOD:PUBLISH
BEGIN:VEVENT
UID:e35cb068d65b62a97e286aae4ee727be
CATEGORIES:Polar Conferences, Meetings and Events
CREATED:20170315T105553
SUMMARY:Quantarctica User Workshop at EGU2017
LOCATION:EGU2017\, Vienna\, Austria
DESCRIPTION:The Norwegian Polar Institute is offering a workshop/short course for Quant
 arctica (http://quantarctica.npolar.no/, a free GIS/mapping package for the
  Antarctic community, at the upcoming EGU 2017 conference in Vienna, Austri
 a, co-organized with the EGU Cryosphere Division. The workshop is open to a
 ll interested EGU 2017 attendees.\nSC32/CR6.15 Quantarctica User Workshop\n
 Mon, 24 Apr, 13:30–15:00 / Room -2.31\nRegistration survey (required): <a h
 ref="https://tinyurl.com/quantarcticaegu">https://tinyurl.com/quantarcticae
 gu</a>\nWe’ll be using a case study approach, leading attendees through the
  process of importing real Antarctic field data, analyzing it and deriving 
 new information and insights with Quantarctica’s included data package, and
  producing a publication-quality figure or map. To take full advantage of t
 his approach, we encourage attendees to have an understanding of basic GIS 
 skills and concepts.\nPlease email me directly if you have any questions or
  concerns about the User Workshop or any other Quantarctica topics. We also
  encourage you to share this announcement with your Antarctic colleagues ou
 tside the cryosphere community. The Quantarctica project strongly supports 
 attendance by students and early-career researchers – by far our most numer
 ous and enthusiastic users!\nMore information about Quantarctica and the Us
 er Workshop at EGU 2017 can be found in a recent article on the EGU Cryosph
 ere Blog:\nhttp://blogs.egu.eu/divisions/cr/2017/03/08/quantarctica-mapping
 -antarctica-has-never-been-so-easy/\n \nHappy mapping,\nGeorge Roth, Anders
  Skoglund, and Kenny Matsuoka\nQuantarctica Project Team\nNorwegian Polar I
 nstitute\nThis email address is being protected from spambots. You need Jav
 aScript enabled to view it.
				document.getElementById('cloak292de6bd1b87f
 6ce40f5d8b95e003567').innerHTML = '';
				var prefix = '&#109;a' + 'i&#108;
 ' + '&#116;o';
				var path = 'hr' + 'ef' + '=';
				var addy292de6bd1b87f6
 ce40f5d8b95e003567 = 'g&#101;&#111;rg&#101;.r&#111;th' + '&#64;';
				addy2
 92de6bd1b87f6ce40f5d8b95e003567 = addy292de6bd1b87f6ce40f5d8b95e003567 + 'n
 p&#111;l&#97;r' + '&#46;' + 'n&#111;';
				var addy_text292de6bd1b87f6ce40f
 5d8b95e003567 = 'g&#101;&#111;rg&#101;.r&#111;th' + '&#64;' + 'np&#111;l&#9
 7;r' + '&#46;' + 'n&#111;';document.getElementById('cloak292de6bd1b87f6ce40
 f5d8b95e003567').innerHTML += '<a ' + path + '\'' + prefix + ':' + addy292d
 e6bd1b87f6ce40f5d8b95e003567 + '\'>'+addy_text292de6bd1b87f6ce40f5d8b95e003
 567+'';
		\n
X-ALT-DESC;FMTTYPE=text/html:<p>The Norwegian Polar Institute is offering a workshop/short course for Qu
 antarctica (<a href="http://quantarctica.npolar.no/">http://quantarctica.np
 olar.no/</a>, a free GIS/mapping package for the Antarctic community, at th
 e upcoming EGU 2017 conference in Vienna, Austria, co-organized with the EG
 U Cryosphere Division. The workshop is open to all interested EGU 2017 atte
 ndees.</p><p><strong>SC32/CR6.15 Quantarctica User Workshop</strong></p><p>
 <strong>Mon, 24 Apr, 13:30–15:00 / Room -2.31</strong></p><p>Registration s
 urvey (required): <a href="https://tinyurl.com/quantarcticaegu">https://tin
 yurl.com/quantarcticaegu</a></p><p>We’ll be using a case study approach, le
 ading attendees through the process of importing real Antarctic field data,
  analyzing it and deriving new information and insights with Quantarctica’s
  included data package, and producing a publication-quality figure or map. 
 To take full advantage of this approach, we encourage attendees to have an 
 understanding of basic GIS skills and concepts.</p><p>Please email me direc
 tly if you have any questions or concerns about the User Workshop or any ot
 her Quantarctica topics. We also encourage you to share this announcement w
 ith your Antarctic colleagues outside the cryosphere community. The Quantar
 ctica project strongly supports attendance by students and early-career res
 earchers – by far our most numerous and enthusiastic users!</p><p>More info
 rmation about Quantarctica and the User Workshop at EGU 2017 can be found i
 n a recent article on the EGU Cryosphere Blog:</p><p><a href="http://blogs.
 egu.eu/divisions/cr/2017/03/08/quantarctica-mapping-antarctica-has-never-be
 en-so-easy/">http://blogs.egu.eu/divisions/cr/2017/03/08/quantarctica-mappi
 ng-antarctica-has-never-been-so-easy/</a></p><p> </p><p>Happy mapping,</p><
 p>George Roth, Anders Skoglund, and Kenny Matsuoka</p><p>Quantarctica Proje
 ct Team</p><p>Norwegian Polar Institute</p><p><span id="cloak292de6bd1b87f6
 ce40f5d8b95e003567">This email address is being protected from spambots. Yo
 u need JavaScript enabled to view it.</span><script type='text/javascript'>
 
				document.getElementById('cloak292de6bd1b87f6ce40f5d8b95e003567').inner
 HTML = '';
				var prefix = '&#109;a' + 'i&#108;' + '&#116;o';
				var path
  = 'hr' + 'ef' + '=';
				var addy292de6bd1b87f6ce40f5d8b95e003567 = 'g&#10
 1;&#111;rg&#101;.r&#111;th' + '&#64;';
				addy292de6bd1b87f6ce40f5d8b95e00
 3567 = addy292de6bd1b87f6ce40f5d8b95e003567 + 'np&#111;l&#97;r' + '&#46;' +
  'n&#111;';
				var addy_text292de6bd1b87f6ce40f5d8b95e003567 = 'g&#101;&#1
 11;rg&#101;.r&#111;th' + '&#64;' + 'np&#111;l&#97;r' + '&#46;' + 'n&#111;';
 document.getElementById('cloak292de6bd1b87f6ce40f5d8b95e003567').innerHTML 
 += '<a ' + path + '\'' + prefix + ':' + addy292de6bd1b87f6ce40f5d8b95e00356
 7 + '\'>'+addy_text292de6bd1b87f6ce40f5d8b95e003567+'<\/a>';
		</script></p
 >
DTSTAMP:20260424T034352Z
DTSTART;TZID=UTC:20170424T133000
DTEND;TZID=UTC:20170424T150000
SEQUENCE:0
TRANSP:OPAQUE
END:VEVENT
END:VCALENDAR