BEGIN:VCALENDAR
VERSION:2.0
PRODID:-//jEvents 2.0 for Joomla//EN
CALSCALE:GREGORIAN
METHOD:PUBLISH
BEGIN:VEVENT
UID:60a12711501f9597961a48409797d256
CATEGORIES:Polar Conferences, Meetings and Events
CREATED:20170315T104447
SUMMARY:PHD COURSE: Community based methods for sustainable development in the north
LOCATION:Umeå University\, Umeå\, Sweden
DESCRIPTION:Subsequently to the International Congress of Arctic Social Sciences (ICASS
 ) ICASS IX conference, June 14, a PhD course in "Community based methods fo
 r sustainable development in the north" will be held at Umeå University.\n\
 nTIME: June 14 th, 9:00-18:00\nPLACE: Umeå university, Umeå, Sweden\nCOST: 
 20 Euro (lunch, coffee and snacks are included in this price)\nORGANIZERS: 
 Sylvie Blangy, CEFE, CNRS, France, Lena Maria Nilsson, Arcum, Umeå universi
 ty, Sweden, Miguel San Sebastian, Public Health and Clinical Medicine, Epid
 emiology and Global Health, Umeå university, Sweden\nIn this PhD course we 
 would like to present, discuss and practice research methodologies, which a
 re being used around the arctic and to co construct in a participatory appr
 oach the future scenarios of tomorrow research.\nGOAL: After the course par
 ticipants shall be able to:\n1. Describe and discuss IASSA guidelines for a
 ll researchers working in the North from an indigenous research methodology
  and research ethics perspective.\n2. Discuss how to address community conc
 erns and gather data that will inform decision making and help better prepa
 re their future.\n3. Discuss how to engage indigenous people in the researc
 h processes much further.\n4. Use the CBPR tool kit to build up and strengt
 hen a research capacity among the arctic communities in collaboration with 
 the Regional Governments and the Research Centers.\nRegistration is availab
 le at the link: https://websurvey.textalk.se/start.php?ID=104159\nDeadline 
 for registration April 15th!\n
X-ALT-DESC;FMTTYPE=text/html:<p><strong>Subsequently to the International Congress of Arctic Social Scie
 nces (ICASS) ICASS IX conference, June 14, a PhD course in "Community based
  methods for sustainable development in the north" will be held at Umeå Uni
 versity.</strong></p><p><br /><strong>TIME:</strong> June 14 th, 9:00-18:00
 <br /><strong>PLACE:</strong> Umeå university, Umeå, Sweden<br /><strong>CO
 ST:</strong> 20 Euro (lunch, coffee and snacks are included in this price)<
 /p><p><strong>ORGANIZERS:</strong> Sylvie Blangy, CEFE, CNRS, France, Lena 
 Maria Nilsson, Arcum, Umeå university, Sweden, Miguel San Sebastian, Public
  Health and Clinical Medicine, Epidemiology and Global Health, Umeå univers
 ity, Sweden</p><p>In this PhD course we would like to present, discuss and 
 practice research methodologies, which are being used around the arctic and
  to co construct in a participatory approach the future scenarios of tomorr
 ow research.</p><p><strong>GOAL:</strong> After the course participants sha
 ll be able to:<br />1. Describe and discuss IASSA guidelines for all resear
 chers working in the North from an indigenous research methodology and rese
 arch ethics perspective.<br />2. Discuss how to address community concerns 
 and gather data that will inform decision making and help better prepare th
 eir future.<br />3. Discuss how to engage indigenous people in the research
  processes much further.<br />4. Use the CBPR tool kit to build up and stre
 ngthen a research capacity among the arctic communities in collaboration wi
 th the Regional Governments and the Research Centers.</p><p><strong>Registr
 ation</strong> is available at the link: <a href="https://websurvey.textalk
 .se/start.php?ID=104159">https://websurvey.textalk.se/start.php?ID=104159</
 a></p><p><strong>Deadline for registration April 15th!</strong></p>
DTSTAMP:20260424T034248Z
DTSTART;TZID=UTC:20170614T090000
DTEND;TZID=UTC:20170614T180000
SEQUENCE:0
TRANSP:OPAQUE
END:VEVENT
END:VCALENDAR