BEGIN:VCALENDAR
VERSION:2.0
PRODID:-//jEvents 2.0 for Joomla//EN
CALSCALE:GREGORIAN
METHOD:PUBLISH
BEGIN:VEVENT
UID:a881dc6a79ac7ce6a99cdd87bc96b3f9
CATEGORIES:Polar Conferences, Meetings and Events
CREATED:20170303T095243
SUMMARY:International conference “The Arctic Region XXI Century: Politics, Economy, and Ecology
LOCATION:Krasnoyarsk\, Russia
DESCRIPTION:International conference “The Arctic Region XXI Century: Politics, Economy,
  and Ecology”, April 19-20, 2017\nWe are pleased to invite representatives 
 of academia, business and government with professional interests to partici
 pate in the Conference in order to discuss future development in the High N
 orth as well as create a firmer foundation for decision-making and sustaina
 ble economic development in the Arctic.\nThe conference will take place at 
 Siberian Federal University (http://www.uarctic.org/member-profiles/russia/
 11219/siberian-federal-university) (Russia, Krasnoyarsk) within the framewo
 rk of Congress “Siberian Platform: Time For New DInternational ecisions" on
  April 17-20, 2017\nThe main topics of the Conference:\nArctic exploration:
  international law and national interests\nEconomic potential of the Arctic
  region and exploration strategies\nTransport and logistics infrastructure 
 of the Arctic region\nThe Arctic region: global climate and ecology\nFuture
  of the Arctic region: flagship projects, successful precedents\nNorthern S
 ea Route: development strategy\nStaff for the Arctic region: competences, m
 obility, training system\nConference languages: Russian, English\nConferenc
 e Web-site: <a href="http://conf.sfu-kras.ru/en/955" target="_blank">http:/
 /conf.sfu-kras.ru/en/955</a>\nAfter the Congress, the regular issue of SibF
 U’s scientific journal will be published with Conference proceedings includ
 ed.\nInformation on Abstracts Submission, Accommodation and Conference Prog
 ram shall be available for the participants in the next information letter.
 \nFor further inquiries, please contact:\nTatiana Shashkova, Member of the 
 Conference Steering Committee\n
X-ALT-DESC;FMTTYPE=text/html:<p><strong>International conference “The Arctic Region XXI Century: Politic
 s, Economy, and Ecology”, April 19-20, 2017</strong></p><p>We are pleased t
 o invite representatives of academia, business and government with professi
 onal interests to participate in the Conference in order to discuss future 
 development in the High North as well as create a firmer foundation for dec
 ision-making and sustainable economic development in the Arctic.</p><p>The 
 conference will take place at <a href="http://www.uarctic.org/member-profil
 es/russia/11219/siberian-federal-university" target="_blank">Siberian Feder
 al University</a> (Russia, Krasnoyarsk) within the framework of Congress “S
 iberian Platform: Time For New DInternational ecisions" on April 17-20, 201
 7</p><p><strong>The main topics of the Conference:</strong></p><p>Arctic ex
 ploration: international law and national interests<br />Economic potential
  of the Arctic region and exploration strategies<br />Transport and logisti
 cs infrastructure of the Arctic region<br />The Arctic region: global clima
 te and ecology<br />Future of the Arctic region: flagship projects, success
 ful precedents<br />Northern Sea Route: development strategy<br />Staff for
  the Arctic region: competences, mobility, training system</p><p><strong>Co
 nference languages:</strong> Russian, English</p><p><strong>Conference Web-
 site:</strong> <a href="http://conf.sfu-kras.ru/en/955" target="_blank">htt
 p://conf.sfu-kras.ru/en/955</a></p><p><em>After the Congress, the regular i
 ssue of SibFU’s scientific journal will be published with Conference procee
 dings included.</em></p><p><em>Information on Abstracts Submission, Accommo
 dation and Conference Program shall be available for the participants in th
 e next information letter.</em></p><p>For further inquiries, please contact
 :</p><p>Tatiana Shashkova, Member of the Conference Steering Committee</p>
CONTACT:Tatiana Shashkova: This email address is being protected from spambots. You need JavaScript enabled to view it.
				document.getElementById('cloakb8061f0f9fe851d3a6a639d44bee6c07').innerHTML = '';
				var prefix = '&#109;a' + 'i&#108;' + '&#116;o';
				var path = 'hr' + 'ef' + '=';
				var addyb8061f0f9fe851d3a6a639d44bee6c07 = 'tsh&#97;shk&#111;v&#97;' + '&#64;';
				addyb8061f0f9fe851d3a6a639d44bee6c07 = addyb8061f0f9fe851d3a6a639d44bee6c07 + 'sf&#117;-kr&#97;s' + '&#46;' + 'r&#117;';
				var addy_textb8061f0f9fe851d3a6a639d44bee6c07 = 'tsh&#97;shk&#111;v&#97;' + '&#64;' + 'sf&#117;-kr&#97;s' + '&#46;' + 'r&#117;';document.getElementById('cloakb8061f0f9fe851d3a6a639d44bee6c07').innerHTML += '<a ' + path + '\'' + prefix + ':' + addyb8061f0f9fe851d3a6a639d44bee6c07 + '\'>'+addy_textb8061f0f9fe851d3a6a639d44bee6c07+'';
		
DTSTAMP:20260424T021908Z
DTSTART;TZID=UTC:20170419T070000
DTEND;TZID=UTC:20170420T070000
SEQUENCE:0
TRANSP:OPAQUE
END:VEVENT
END:VCALENDAR