BEGIN:VCALENDAR
VERSION:2.0
PRODID:-//jEvents 2.0 for Joomla//EN
CALSCALE:GREGORIAN
METHOD:PUBLISH
BEGIN:VEVENT
UID:e97669d8d3a7955ffca3f4c23542fd79
CATEGORIES:Polar Conferences, Meetings and Events
CREATED:20170303T094526
SUMMARY:High Altitudes meet High Latitudes: Globalizing Polar Issues
LOCATION:Switzerland\, Crans-Montana
DESCRIPTION:The organizing committee from Swiss Polar Institute calls for poster propos
 als by PhD and Early Career Researchers to "High Altitudes meet High Latitu
 des: Globalizing Polar Issues (http://polar.epfl.ch/page-140184-en.html)" C
 onference, September 11-12, 2017 Switzerland, Crans-Montana.\nWe invite con
 tributions expending upon the main topics addressed at the conference. We a
 re encouraging proposals that highlight the relations between High Altitude
 s and High Latitudes and are looking for a wide variety of disciplinary per
 spectives, including physical sciences, earth and bio sciences, as well as 
 social sciences and humanities. In addition to a conventional poster presen
 tation, all selected posters presentations will take part in flash-talk ses
 sions (120' for each session).\nIn order to mobilize PhD and Early career r
 esearchers from European and non-European research communities, we will pro
 vide partial travel and accommodation support (up to 1200 CHF). Participant
 s will be selected on the basis of an extended abstract (up to 600 words).\
 nApplication and deadline:\nDeadline for abstracts: April 30, 2017\nNotific
 ation of acceptance: May 29, 2017\nDeadline for a Flash-talk presentation: 
 September 5, 2017\nPlease, send abstracts to This email address is being pr
 otected from spambots. You need JavaScript enabled to view it.
				document
 .getElementById('cloak34eb550a48db568730ebb6d077c8a6bc').innerHTML = '';
		
 		var prefix = '&#109;a' + 'i&#108;' + '&#116;o';
				var path = 'hr' + 'ef
 ' + '=';
				var addy34eb550a48db568730ebb6d077c8a6bc = 'sp&#105;.cr&#97;ns
 m&#111;nt&#97;n&#97;' + '&#64;';
				addy34eb550a48db568730ebb6d077c8a6bc =
  addy34eb550a48db568730ebb6d077c8a6bc + '&#101;pfl' + '&#46;' + 'ch';
				v
 ar addy_text34eb550a48db568730ebb6d077c8a6bc = 'sp&#105;.cr&#97;nsm&#111;nt
 &#97;n&#97;@&#101;pfl.ch.';document.getElementById('cloak34eb550a48db568730
 ebb6d077c8a6bc').innerHTML += '<a ' + path + '\'' + prefix + ':' + addy34eb
 550a48db568730ebb6d077c8a6bc + '\' target="_blank">'+addy_text34eb550a48db5
 68730ebb6d077c8a6bc+'';
		\nYou can find more information <a href="http://w
 ww.uarctic.org/media/1597148/cransmontana2017cor.pdf" target="_blank">here<
 /a>.\n
X-ALT-DESC;FMTTYPE=text/html:<p>The organizing committee from Swiss Polar Institute calls for <strong>po
 ster proposals by PhD and Early Career Researchers to "<a href="http://pola
 r.epfl.ch/page-140184-en.html" target="_blank">High Altitudes meet High Lat
 itudes: Globalizing Polar Issues</a>" Conference, September 11-12, 2017 Swi
 tzerland, Crans-Montana.</strong></p><p>We invite contributions expending u
 pon the main topics addressed at the conference. We are encouraging proposa
 ls that highlight the relations between High Altitudes and High Latitudes a
 nd are looking for a wide variety of disciplinary perspectives, including p
 hysical sciences, earth and bio sciences, as well as social sciences and hu
 manities. In addition to a conventional poster presentation, all selected p
 osters presentations will take part in flash-talk sessions (120' for each s
 ession).</p><p>In order to mobilize PhD and Early career researchers from E
 uropean and non-European research communities, we will provide partial <str
 ong>travel and accommodation support (up to 1200 CHF).</strong> Participant
 s will be selected on the basis of an extended abstract (up to 600 words).<
 /p><p><strong>Application and deadline:</strong></p><p>Deadline for abstrac
 ts: April 30, 2017<br />Notification of acceptance: May 29, 2017<br />Deadl
 ine for a Flash-talk presentation: September 5, 2017</p><p>Please, send abs
 tracts to <span id="cloak34eb550a48db568730ebb6d077c8a6bc">This email addre
 ss is being protected from spambots. You need JavaScript enabled to view it
 .</span><script type='text/javascript'>
				document.getElementById('cloak3
 4eb550a48db568730ebb6d077c8a6bc').innerHTML = '';
				var prefix = '&#109;a
 ' + 'i&#108;' + '&#116;o';
				var path = 'hr' + 'ef' + '=';
				var addy34
 eb550a48db568730ebb6d077c8a6bc = 'sp&#105;.cr&#97;nsm&#111;nt&#97;n&#97;' +
  '&#64;';
				addy34eb550a48db568730ebb6d077c8a6bc = addy34eb550a48db568730
 ebb6d077c8a6bc + '&#101;pfl' + '&#46;' + 'ch';
				var addy_text34eb550a48d
 b568730ebb6d077c8a6bc = 'sp&#105;.cr&#97;nsm&#111;nt&#97;n&#97;@&#101;pfl.c
 h.';document.getElementById('cloak34eb550a48db568730ebb6d077c8a6bc').innerH
 TML += '<a ' + path + '\'' + prefix + ':' + addy34eb550a48db568730ebb6d077c
 8a6bc + '\' target="_blank">'+addy_text34eb550a48db568730ebb6d077c8a6bc+'<\
 /a>';
		</script></p><p>You can find more information <a href="http://www.u
 arctic.org/media/1597148/cransmontana2017cor.pdf" target="_blank">here</a>.
 </p>
CONTACT:This email address is being protected from spambots. You need JavaScript enabled to view it.
				document.getElementById('cloak18334821e7be46cf9b331799b22d8b4c').innerHTML = '';
				var prefix = '&#109;a' + 'i&#108;' + '&#116;o';
				var path = 'hr' + 'ef' + '=';
				var addy18334821e7be46cf9b331799b22d8b4c = 'sp&#105;.cr&#97;nsm&#111;nt&#97;n&#97;' + '&#64;';
				addy18334821e7be46cf9b331799b22d8b4c = addy18334821e7be46cf9b331799b22d8b4c + '&#101;pfl' + '&#46;' + 'ch';
				var addy_text18334821e7be46cf9b331799b22d8b4c = 'sp&#105;.cr&#97;nsm&#111;nt&#97;n&#97;' + '&#64;' + '&#101;pfl' + '&#46;' + 'ch';document.getElementById('cloak18334821e7be46cf9b331799b22d8b4c').innerHTML += '<a ' + path + '\'' + prefix + ':' + addy18334821e7be46cf9b331799b22d8b4c + '\'>'+addy_text18334821e7be46cf9b331799b22d8b4c+'';
		; This email address is being protected from spambots. You need JavaScript enabled to view it.
				document.getElementById('cloak28eee619fb5e206d12bd8f9d21684d78').innerHTML = '';
				var prefix = '&#109;a' + 'i&#108;' + '&#116;o';
				var path = 'hr' + 'ef' + '=';
				var addy28eee619fb5e206d12bd8f9d21684d78 = 'Ks&#101;n&#105;&#97;.T&#97;t&#97;rch&#101;nk&#111;' + '&#64;';
				addy28eee619fb5e206d12bd8f9d21684d78 = addy28eee619fb5e206d12bd8f9d21684d78 + '&#117;n&#105;g&#101;' + '&#46;' + 'ch';
				var addy_text28eee619fb5e206d12bd8f9d21684d78 = 'Ks&#101;n&#105;&#97;.T&#97;t&#97;rch&#101;nk&#111;' + '&#64;' + '&#117;n&#105;g&#101;' + '&#46;' + 'ch';document.getElementById('cloak28eee619fb5e206d12bd8f9d21684d78').innerHTML += '<a ' + path + '\'' + prefix + ':' + addy28eee619fb5e206d12bd8f9d21684d78 + '\'>'+addy_text28eee619fb5e206d12bd8f9d21684d78+'';
		
DTSTAMP:20260424T040740Z
DTSTART;TZID=UTC:20170911T020000
DTEND;TZID=UTC:20170912T020000
SEQUENCE:0
TRANSP:OPAQUE
END:VEVENT
END:VCALENDAR