BEGIN:VCALENDAR
VERSION:2.0
PRODID:-//jEvents 2.0 for Joomla//EN
CALSCALE:GREGORIAN
METHOD:PUBLISH
BEGIN:VEVENT
UID:d8fe5b3f67c54110161e01c55c29d3c9
CATEGORIES:Polar Conferences, Meetings and Events
CREATED:20240312T165435
SUMMARY:SCAR Open Science Conference 2024
DESCRIPTION:https://www.scar2024.org/\n
X-ALT-DESC;FMTTYPE=text/html:<p><a href="https://www.scar2024.org/">https://www.scar2024.org/</a></p>
DTSTAMP:20260423T014754Z
DTSTART;TZID=UTC;VALUE=DATE:20240819
DTEND;TZID=UTC;VALUE=DATE:20240824
SEQUENCE:0
TRANSP:OPAQUE
END:VEVENT
END:VCALENDAR