BEGIN:VCALENDAR
VERSION:2.0
PRODID:-//jEvents 2.0 for Joomla//EN
CALSCALE:GREGORIAN
METHOD:PUBLISH
BEGIN:VEVENT
UID:fdf54433fa4769ea26196207beb822a3
CATEGORIES:APECS Events
CREATED:20230918T192907
SUMMARY:APECS International Polar Week September 2023
DESCRIPTION:We're excited to announce the presenters and the official schedule for Sept
 ember Polar Week 2023. Read all the details here (https://apecs.is/news/ape
 cs-news/5187-apecs-international-polar-week-september-2023.html). \n
X-ALT-DESC;FMTTYPE=text/html:<p>We're excited to announce the presenters and the official schedule for S
 eptember&nbsp;<strong>Polar Week 2023</strong>. <a href="https://apecs.is/n
 ews/apecs-news/5187-apecs-international-polar-week-september-2023.html" tar
 get="_blank" rel="noopener">Read all the details here</a>.&nbsp;</p>
DTSTAMP:20260423T003832Z
DTSTART;TZID=UTC;VALUE=DATE:20230918
DTEND;TZID=UTC;VALUE=DATE:20230925
SEQUENCE:0
TRANSP:OPAQUE
END:VEVENT
END:VCALENDAR