BEGIN:VCALENDAR
VERSION:2.0
PRODID:-//jEvents 2.0 for Joomla//EN
CALSCALE:GREGORIAN
METHOD:PUBLISH
BEGIN:VEVENT
UID:9d5a564bb0bd6afa2f86a5abfc35a4fb
CATEGORIES:Polar Online Events
CREATED:20230629T090400
SUMMARY:Navigating the NSF & Office of Polar Programs Workshop
DESCRIPTION:What is NSF’s Office of Polar Programs (also known as OPP)? How do you make
  your polar science proposal as NSF-savvy as possible? How do you best desc
 ribe your broader impacts? What is cutting edge in data management? How do 
 you identify the best program for application? How do you access available 
 education and outreach funds? Where do you even start finding funding oppor
 tunities?\nLearn answers to these questions when you meet in small groups w
 ith Program Officers in this ‘Navigating the NSF &amp; the Office of Polar 
 Programs’ workshop supported by PSECCO (https://psecco.org/), taking place 
 on Thursday, July 13 from 11am to 12:30pm MT. Learn what they are looking f
 or, how to ask the right questions, give the right answers, and get funded!
  This workshop will include a presentation about NSF and the Office of Pola
 r Programs (45 min) and breakout rooms for small group discussions with dif
 ferent OPP program officers (45 min). The workshop is aimed at early-career
  to mid-career participants, especially graduate students, post-docs, resea
 rchers, and tenure-track faculty thinking about applying for NSF/OPP fundin
 g for the first time.\n<a href="https://www.eventbrite.com/e/navigating-nsf
 -the-office-of-polar-programs-tickets-654002427867" data-saferedirecturl="h
 ttps://www.google.com/url?q=https://www.eventbrite.com/e/navigating-nsf-the
 -office-of-polar-programs-tickets-654002427867&amp;source=gmail&amp;ust=168
 8115302823000&amp;usg=AOvVaw34fSfs0jfJUK3eKCTRLFaF">Register for the worksh
 op here!</a> Feel free to email  (mailto:psecco@colorado.edu)This email add
 ress is being protected from spambots. You need JavaScript enabled to view 
 it.
				document.getElementById('cloakc3dea8a52f9c2c386469e84a29302e00').in
 nerHTML = '';
				var prefix = '&#109;a' + 'i&#108;' + '&#116;o';
				var p
 ath = 'hr' + 'ef' + '=';
				var addyc3dea8a52f9c2c386469e84a29302e00 = 'ps
 &#101;cc&#111;' + '&#64;';
				addyc3dea8a52f9c2c386469e84a29302e00 = addyc
 3dea8a52f9c2c386469e84a29302e00 + 'c&#111;l&#111;r&#97;d&#111;' + '&#46;' +
  '&#101;d&#117;';
				var addy_textc3dea8a52f9c2c386469e84a29302e00 = 'ps&#
 101;cc&#111;' + '&#64;' + 'c&#111;l&#111;r&#97;d&#111;' + '&#46;' + '&#101;
 d&#117;';document.getElementById('cloakc3dea8a52f9c2c386469e84a29302e00').i
 nnerHTML += '<a ' + path + '\'' + prefix + ':' + addyc3dea8a52f9c2c386469e8
 4a29302e00 + '\'>'+addy_textc3dea8a52f9c2c386469e84a29302e00+'';
		 with an
 y questions you might have. \n
X-ALT-DESC;FMTTYPE=text/html:<p>What is NSF’s Office of Polar Programs (also known as OPP)? How do you m
 ake your polar science proposal as NSF-savvy as possible? How do you best d
 escribe your broader impacts? What is cutting edge in data management? How 
 do you identify the best program for application? How do you access availab
 le education and outreach funds? Where do you even start finding funding op
 portunities?</p><p><strong>Learn answers to these questions when you meet i
 n small groups with Program Officers in this ‘Navigating the NSF &amp; the 
 Office of Polar Programs’ workshop supported by&nbsp;<a href="https://psecc
 o.org/" data-saferedirecturl="https://www.google.com/url?q=https://psecco.o
 rg/&amp;source=gmail&amp;ust=1688115302823000&amp;usg=AOvVaw3cyEHumxt_wGws7
 Ga1tuwL">PSECCO</a>, taking place on Thursday, July 13 from 11am to 12:30pm
  MT.&nbsp;</strong>Learn what they are looking for, how to ask the right qu
 estions, give the right answers, and get funded! This workshop will include
  a presentation about NSF and the Office of Polar Programs (45 min) and bre
 akout rooms for small group discussions with different OPP program officers
  (45 min).&nbsp;<strong>The workshop is aimed at early-career to mid-career
  participants, especially graduate students, post-docs, researchers, and te
 nure-track faculty thinking about applying for NSF/OPP funding for the firs
 t time.</strong></p><p><a href="https://www.eventbrite.com/e/navigating-nsf
 -the-office-of-polar-programs-tickets-654002427867" data-saferedirecturl="h
 ttps://www.google.com/url?q=https://www.eventbrite.com/e/navigating-nsf-the
 -office-of-polar-programs-tickets-654002427867&amp;source=gmail&amp;ust=168
 8115302823000&amp;usg=AOvVaw34fSfs0jfJUK3eKCTRLFaF">Register for the worksh
 op here!</a>&nbsp;Feel free to email&nbsp;<a href="mailto:psecco@colorado.e
 du"></a><span id="cloakc3dea8a52f9c2c386469e84a29302e00">This email address
  is being protected from spambots. You need JavaScript enabled to view it.<
 /span><script type='text/javascript'>
				document.getElementById('cloakc3d
 ea8a52f9c2c386469e84a29302e00').innerHTML = '';
				var prefix = '&#109;a' 
 + 'i&#108;' + '&#116;o';
				var path = 'hr' + 'ef' + '=';
				var addyc3de
 a8a52f9c2c386469e84a29302e00 = 'ps&#101;cc&#111;' + '&#64;';
				addyc3dea8
 a52f9c2c386469e84a29302e00 = addyc3dea8a52f9c2c386469e84a29302e00 + 'c&#111
 ;l&#111;r&#97;d&#111;' + '&#46;' + '&#101;d&#117;';
				var addy_textc3dea8
 a52f9c2c386469e84a29302e00 = 'ps&#101;cc&#111;' + '&#64;' + 'c&#111;l&#111;
 r&#97;d&#111;' + '&#46;' + '&#101;d&#117;';document.getElementById('cloakc3
 dea8a52f9c2c386469e84a29302e00').innerHTML += '<a ' + path + '\'' + prefix 
 + ':' + addyc3dea8a52f9c2c386469e84a29302e00 + '\'>'+addy_textc3dea8a52f9c2
 c386469e84a29302e00+'<\/a>';
		</script>&nbsp;with any questions you might 
 have.&nbsp;</p>
CONTACT:This email address is being protected from spambots. You need JavaScript enabled to view it.
				document.getElementById('cloake7bdcc4d4ecbab0b94216fdae3908d74').innerHTML = '';
				var prefix = '&#109;a' + 'i&#108;' + '&#116;o';
				var path = 'hr' + 'ef' + '=';
				var addye7bdcc4d4ecbab0b94216fdae3908d74 = 'ps&#101;cc&#111;' + '&#64;';
				addye7bdcc4d4ecbab0b94216fdae3908d74 = addye7bdcc4d4ecbab0b94216fdae3908d74 + 'c&#111;l&#111;r&#97;d&#111;' + '&#46;' + '&#101;d&#117;';
				var addy_texte7bdcc4d4ecbab0b94216fdae3908d74 = 'ps&#101;cc&#111;' + '&#64;' + 'c&#111;l&#111;r&#97;d&#111;' + '&#46;' + '&#101;d&#117;';document.getElementById('cloake7bdcc4d4ecbab0b94216fdae3908d74').innerHTML += '<a ' + path + '\'' + prefix + ':' + addye7bdcc4d4ecbab0b94216fdae3908d74 + '\'>'+addy_texte7bdcc4d4ecbab0b94216fdae3908d74+'';
		
DTSTAMP:20260424T191059Z
DTSTART;TZID=UTC;VALUE=DATE:20230713
DTEND;TZID=UTC;VALUE=DATE:20230714
SEQUENCE:0
TRANSP:OPAQUE
END:VEVENT
END:VCALENDAR