BEGIN:VCALENDAR
VERSION:2.0
PRODID:-//jEvents 2.0 for Joomla//EN
CALSCALE:GREGORIAN
METHOD:PUBLISH
BEGIN:VEVENT
UID:11f92c86784d0795de9b3375d57a95a6
CATEGORIES:Polar Conferences, Meetings and Events
CREATED:20230403T104753
SUMMARY:ICYMARE 2023
LOCATION:Oldenburg\, Germany
DESCRIPTION:The International Conference for YOUNG Marine Researchers – ICYMARE is a bo
 ttom-up initiative completely organized by volunteers and offers a powerful
  and inspiring international set-up for an excellent network opportunity an
 d some first conference experience in your early career.\nWhat is special a
 bout ICYMARE:\n\n - ICYMARE is an annual on-site conference for young marin
 e researchers with changing locations and hosting support.\n - ICYMARE is a
  chance to present and discuss your research in the monthly Online Forum.\n
  - ICYMARE is an opportunity to build your network of young marine research
 ers in a professional as well as easy-to-talk-to atmosphere.\n - ICYMARE of
 fers you the chance to engage in our community to become a part of the ICYM
 ARE family.
X-ALT-DESC;FMTTYPE=text/html:<p>The<strong>&nbsp;I</strong>nternational&nbsp;<strong>C</strong>onference
  for&nbsp;<strong>Y</strong>OUNG&nbsp;<strong>Ma</strong>rine&nbsp;<strong>
 Re</strong>searchers – ICYMARE is a bottom-up initiative completely organiz
 ed by volunteers and offers a powerful and inspiring international set-up f
 or an excellent network opportunity and some first conference experience in
  your early career.</p><p>What is special about ICYMARE:</p><ul><li>ICYMARE
  is an annual on-site conference for young marine researchers with changing
  locations and hosting support.</li><li>ICYMARE is a chance to present and 
 discuss your research in the monthly Online Forum.</li><li>ICYMARE is an op
 portunity to build your network of young marine researchers in a profession
 al as well as easy-to-talk-to atmosphere.</li><li>ICYMARE offers you the ch
 ance to engage in our community to become a part of the ICYMARE family.</li
 ></ul>
CONTACT:https://www.icymare.com
DTSTAMP:20260423T041238Z
DTSTART;TZID=UTC;VALUE=DATE:20230918
DTEND;TZID=UTC;VALUE=DATE:20230923
SEQUENCE:0
TRANSP:OPAQUE
END:VEVENT
END:VCALENDAR