BEGIN:VCALENDAR
VERSION:2.0
PRODID:-//jEvents 2.0 for Joomla//EN
CALSCALE:GREGORIAN
METHOD:PUBLISH
BEGIN:VEVENT
UID:493d5668b3a851d80a3255eef8be7871
CATEGORIES:Polar Conferences, Meetings and Events
CREATED:20230321T151359
SUMMARY:Interdisciplinary Polar Studies 2023 (IPS-2023)
LOCATION:Longyearbyen\, Svalbard
DESCRIPTION:he Interdisciplinary Polar Studies 2023 () Modular Meeting will be held at 
 Svalbard in Longyearbyen, Hornsund and Isfjorden region between August 30 a
 nd September 4, 2023.\nIPS-2023 is open to ECRs &amp; Svalbard research com
 munity and Arctic-related topics.\nSUBMIT YOUR ABSTRACT THROUGH THE FORM <a
  href="https://forms.gle/g7rnQXXZ9WYE6rSq7?fbclid=IwAR3_L65HyqT9YDwsV5kpD2h
 kphZoFN7EFErrwSH2RUdDWNl7lI_cCJxjsHE" target="_blank" rel="noopener" data-s
 aferedirecturl="https://www.google.com/url?q=https://forms.gle/g7rnQXXZ9WYE
 6rSq7?fbclid%3DIwAR3_L65HyqT9YDwsV5kpD2hkphZoFN7EFErrwSH2RUdDWNl7lI_cCJxjsH
 E&amp;source=gmail&amp;ust=1679497938135000&amp;usg=AOvVaw1x0xUC5rYhln3-bDw
 up2e-"></a>https://forms.gle/g7rnQXXZ9WYE6rSq7\nThe abstract deadline is 14
  April.\nTo read more about the IPS-2023 conference and field workshop, see
  the website here:<a href="https://www.polarknow.us.edu.pl/ips-2022/?fbclid
 =IwAR3I6jWDiKbfc9W46SaIWBUbKn_PD4gALZ5OOfstTdFO_hoCB7Z1Cc_gMPo" target="_bl
 ank" rel="noopener" data-saferedirecturl="https://www.google.com/url?q=http
 s://www.polarknow.us.edu.pl/ips-2022/?fbclid%3DIwAR3I6jWDiKbfc9W46SaIWBUbKn
 _PD4gALZ5OOfstTdFO_hoCB7Z1Cc_gMPo&amp;source=gmail&amp;ust=1679497938135000
 &amp;usg=AOvVaw31L60D5siZfl-U7tO4Z3AW"> </a>https://www.polarknow.us.edu.pl
 /ips-2022/ and join our event on FB:<a href="https://fb.me/e/2ic1fhbo4" tar
 get="_blank" rel="noopener" data-saferedirecturl="https://www.google.com/ur
 l?q=https://fb.me/e/2ic1fhbo4&amp;source=gmail&amp;ust=1679497938135000&amp
 ;usg=AOvVaw1jfaF1dbMSfmjc_DN00Try"> </a>https://fb.me/e/2ic1fhbo4\nPlease d
 o not hesitate to contact us if you have questions: <a href="mailto:polarkn
 ow@us.edu.pl" target="_blank"></a>This email address is being protected fro
 m spambots. You need JavaScript enabled to view it.
				document.getElement
 ById('cloak542a345c5526aa31ffd6773561d83e24').innerHTML = '';
				var prefi
 x = '&#109;a' + 'i&#108;' + '&#116;o';
				var path = 'hr' + 'ef' + '=';
		
 		var addy542a345c5526aa31ffd6773561d83e24 = 'p&#111;l&#97;rkn&#111;w' + '&
 #64;';
				addy542a345c5526aa31ffd6773561d83e24 = addy542a345c5526aa31ffd67
 73561d83e24 + '&#117;s' + '&#46;' + '&#101;d&#117;' + '&#46;' + 'pl';
				v
 ar addy_text542a345c5526aa31ffd6773561d83e24 = 'p&#111;l&#97;rkn&#111;w' + 
 '&#64;' + '&#117;s' + '&#46;' + '&#101;d&#117;' + '&#46;' + 'pl';document.g
 etElementById('cloak542a345c5526aa31ffd6773561d83e24').innerHTML += '<a ' +
  path + '\'' + prefix + ':' + addy542a345c5526aa31ffd6773561d83e24 + '\'>'+
 addy_text542a345c5526aa31ffd6773561d83e24+'';
		\n
X-ALT-DESC;FMTTYPE=text/html:<p dir="ltr">he Interdisciplinary Polar Studies 2023 (<a href="https://www.
 facebook.com/events/1584629621967692/?__cft__[0]=AZXio-Ps7K2RDD-qyCVTrErRmT
 32fQzWkzIoIe437rSjny5QnC2MwmW7Oapp0DGpooUOfGs4WEjRLUFbI4r2-b8SLycAWTB6CIwZX
 e7zlgqUIx9de4diI23KmL0Sutm7Q4U&amp;__tn__=-UK-R" target="_blank" rel="noope
 ner" data-saferedirecturl="https://www.google.com/url?q=https://www.faceboo
 k.com/events/1584629621967692/?__cft__%5B0%5D%3DAZXio-Ps7K2RDD-qyCVTrErRmT3
 2fQzWkzIoIe437rSjny5QnC2MwmW7Oapp0DGpooUOfGs4WEjRLUFbI4r2-b8SLycAWTB6CIwZXe
 7zlgqUIx9de4diI23KmL0Sutm7Q4U%26__tn__%3D-UK-R&amp;source=gmail&amp;ust=167
 9497938135000&amp;usg=AOvVaw0ktl_MrvcZrRyz2X8uKXf_">IPS-2023</a>) Modular M
 eeting will be held at Svalbard in Longyearbyen, Hornsund and Isfjorden reg
 ion between August 30 and September 4, 2023.</p><p dir="ltr">IPS-2023 is op
 en to ECRs &amp; Svalbard research community and Arctic-related topics.</p>
 <p dir="ltr">SUBMIT YOUR ABSTRACT THROUGH THE FORM <a href="https://forms.g
 le/g7rnQXXZ9WYE6rSq7?fbclid=IwAR3_L65HyqT9YDwsV5kpD2hkphZoFN7EFErrwSH2RUdDW
 Nl7lI_cCJxjsHE" target="_blank" rel="noopener" data-saferedirecturl="https:
 //www.google.com/url?q=https://forms.gle/g7rnQXXZ9WYE6rSq7?fbclid%3DIwAR3_L
 65HyqT9YDwsV5kpD2hkphZoFN7EFErrwSH2RUdDWNl7lI_cCJxjsHE&amp;source=gmail&amp
 ;ust=1679497938135000&amp;usg=AOvVaw1x0xUC5rYhln3-bDwup2e-"></a><a href="ht
 tps://forms.gle/g7rnQXXZ9WYE6rSq7">https://forms.gle/g7rnQXXZ9WYE6rSq7</a><
 /p><p dir="ltr">The abstract deadline is 14 April.</p><p dir="ltr">To read 
 more about the IPS-2023 conference and field workshop, see the website here
 :<a href="https://www.polarknow.us.edu.pl/ips-2022/?fbclid=IwAR3I6jWDiKbfc9
 W46SaIWBUbKn_PD4gALZ5OOfstTdFO_hoCB7Z1Cc_gMPo" target="_blank" rel="noopene
 r" data-saferedirecturl="https://www.google.com/url?q=https://www.polarknow
 .us.edu.pl/ips-2022/?fbclid%3DIwAR3I6jWDiKbfc9W46SaIWBUbKn_PD4gALZ5OOfstTdF
 O_hoCB7Z1Cc_gMPo&amp;source=gmail&amp;ust=1679497938135000&amp;usg=AOvVaw31
 L60D5siZfl-U7tO4Z3AW"> </a><a href="https://www.polarknow.us.edu.pl/ips-202
 2/">https://www.polarknow.us.edu.pl/ips-2022/</a> and join our event on FB:
 <a href="https://fb.me/e/2ic1fhbo4" target="_blank" rel="noopener" data-saf
 eredirecturl="https://www.google.com/url?q=https://fb.me/e/2ic1fhbo4&amp;so
 urce=gmail&amp;ust=1679497938135000&amp;usg=AOvVaw1jfaF1dbMSfmjc_DN00Try"> 
 </a><a href="https://fb.me/e/2ic1fhbo4">https://fb.me/e/2ic1fhbo4</a></p><p
  dir="ltr">Please do not hesitate to contact us if you have questions: <a h
 ref="mailto:polarknow@us.edu.pl" target="_blank"></a><span id="cloak542a345
 c5526aa31ffd6773561d83e24">This email address is being protected from spamb
 ots. You need JavaScript enabled to view it.</span><script type='text/javas
 cript'>
				document.getElementById('cloak542a345c5526aa31ffd6773561d83e24'
 ).innerHTML = '';
				var prefix = '&#109;a' + 'i&#108;' + '&#116;o';
				v
 ar path = 'hr' + 'ef' + '=';
				var addy542a345c5526aa31ffd6773561d83e24 =
  'p&#111;l&#97;rkn&#111;w' + '&#64;';
				addy542a345c5526aa31ffd6773561d83
 e24 = addy542a345c5526aa31ffd6773561d83e24 + '&#117;s' + '&#46;' + '&#101;d
 &#117;' + '&#46;' + 'pl';
				var addy_text542a345c5526aa31ffd6773561d83e24
  = 'p&#111;l&#97;rkn&#111;w' + '&#64;' + '&#117;s' + '&#46;' + '&#101;d&#11
 7;' + '&#46;' + 'pl';document.getElementById('cloak542a345c5526aa31ffd67735
 61d83e24').innerHTML += '<a ' + path + '\'' + prefix + ':' + addy542a345c55
 26aa31ffd6773561d83e24 + '\'>'+addy_text542a345c5526aa31ffd6773561d83e24+'<
 \/a>';
		</script></p>
DTSTAMP:20260422T221227Z
DTSTART;TZID=UTC;VALUE=DATE:20230830
DTEND;TZID=UTC;VALUE=DATE:20230905
SEQUENCE:0
TRANSP:OPAQUE
END:VEVENT
END:VCALENDAR