BEGIN:VCALENDAR
VERSION:2.0
PRODID:-//jEvents 2.0 for Joomla//EN
CALSCALE:GREGORIAN
METHOD:PUBLISH
BEGIN:VEVENT
UID:f619abd66d8a3d06d6ec80ede635979d
CATEGORIES:Polar Conferences, Meetings and Events
CREATED:20170224T074607
SUMMARY:21st Northern Research Basins Symposium and Workshop
LOCATION:Yakutsk\, Russia
DESCRIPTION:The 21st Northern Research Basins (NRB) Symposium and Workshop "Cold-region
  hydrology in non-stationary world" will be held in Yakutsk, Russia, from 6
  to 12 August 2017.\nThis workshop will address the issues of hydrological 
 research in cold regions, both in fundamental scientific and applied aspect
 s, including the studies of snow, glaciers, permafrost, frozen ground, grou
 ndwater, seasonally frozen rivers, and lakes.\nThe workshop program will in
 clude scientific sessions, field trip to research sites, local excursions a
 nd the Lena River cruise.\nAbstract are encouraged from research topics inc
 luding:\n- Observational evidences of change in coupled permafrost-hydrolog
 y system\n- Present state and future projections of local, regional and pan
 -Arctic hydrology\n- Modelling studies representing landscape evolution, dy
 namics of water storages and permafrost degradation\n- Impacts of permafros
 t hydrology changes on local communities and any other abstracts regarding 
 hydrology, water resources and water engineering in snow-dominated and perm
 afrost regions.\nAbstract submission deadline: Tuesday, 28 February 2017.\n
  \n To submit an abstract and register for the workshop, please go to: http
 ://nrb2017.ru/registration/.\n \n For more information about the workshop, 
 please go to: <a href="http://nrb2017.ru/" target="_blank" rel="noopener no
 referrer" data-saferedirecturl="https://www.google.com/url?hl=en&amp;q=http
 ://nrb2017.ru/&amp;source=gmail&amp;ust=1488263872247000&amp;usg=AFQjCNHkQx
 V1W8jZ4bK9SLsKZyN_jw2lQg">http://nrb2017.ru/</a>.\n
X-ALT-DESC;FMTTYPE=text/html:<p>The <strong>21st Northern Research Basins (NRB) Symposium and Workshop "
 Cold-region hydrology in non-stationary world"</strong> will be held in <st
 rong>Yakutsk, Russia, from 6 to 12 August 2017</strong>.</p><p>This worksho
 p will address the issues of hydrological research in cold regions, both in
  fundamental scientific and applied aspects, including the studies of snow,
  glaciers, permafrost, frozen ground, groundwater, seasonally frozen rivers
 , and lakes.</p><p>The workshop program will include scientific sessions, f
 ield trip to research sites, local excursions and the Lena River cruise.</p
 ><p>Abstract are encouraged from research topics including:</p><p>- Observa
 tional evidences of change in coupled permafrost-hydrology system<br />- Pr
 esent state and future projections of local, regional and pan-Arctic hydrol
 ogy<br />- Modelling studies representing landscape evolution, dynamics of 
 water storages and permafrost degradation<br />- Impacts of permafrost hydr
 ology changes on local communities and any other abstracts regarding hydrol
 ogy, water resources and water engineering in snow-dominated and permafrost
  regions.</p><p>Abstract submission deadline: <strong><span class="aBn" tab
 index="0" data-term="goog_2094609962"><span class="aQJ">Tuesday, 28 Februar
 y 2017</span></span>.</strong><br /> <br /> To submit an abstract and regis
 ter for the workshop, please go to: <a href="http://nrb2017.ru/registration
 /" target="_blank" rel="noopener noreferrer" data-saferedirecturl="https://
 www.google.com/url?hl=en&amp;q=http://nrb2017.ru/registration/&amp;source=g
 mail&amp;ust=1488263872247000&amp;usg=AFQjCNHvYFRQZ8XDRlcEEzX0RWl_ff9hlQ">h
 ttp://nrb2017.ru/registration/</a>.<br /> <br /> For more information about
  the workshop, please go to: <a href="http://nrb2017.ru/" target="_blank" r
 el="noopener noreferrer" data-saferedirecturl="https://www.google.com/url?h
 l=en&amp;q=http://nrb2017.ru/&amp;source=gmail&amp;ust=1488263872247000&amp
 ;usg=AFQjCNHkQxV1W8jZ4bK9SLsKZyN_jw2lQg">http://nrb2017.ru/</a>.</p>
CONTACT:This email address is being protected from spambots. You need JavaScript enabled to view it.
				document.getElementById('cloakbe84fe21fd07a57ca2406cce88ca6add').innerHTML = '';
				var prefix = '&#109;a' + 'i&#108;' + '&#116;o';
				var path = 'hr' + 'ef' + '=';
				var addybe84fe21fd07a57ca2406cce88ca6add = '&#105;nf&#111;' + '&#64;';
				addybe84fe21fd07a57ca2406cce88ca6add = addybe84fe21fd07a57ca2406cce88ca6add + 'nrb2017' + '&#46;' + 'r&#117;';
				var addy_textbe84fe21fd07a57ca2406cce88ca6add = '&#105;nf&#111;' + '&#64;' + 'nrb2017' + '&#46;' + 'r&#117;';document.getElementById('cloakbe84fe21fd07a57ca2406cce88ca6add').innerHTML += '<a ' + path + '\'' + prefix + ':' + addybe84fe21fd07a57ca2406cce88ca6add + '\'>'+addy_textbe84fe21fd07a57ca2406cce88ca6add+'';
		, Liudmila Lebedeva: This email address is being protected from spambots. You need JavaScript enabled to view it.
				document.getElementById('cloake11c5048df3d9cfece76654fd7246392').innerHTML = '';
				var prefix = '&#109;a' + 'i&#108;' + '&#116;o';
				var path = 'hr' + 'ef' + '=';
				var addye11c5048df3d9cfece76654fd7246392 = 'ly&#117;dm&#105;l&#97;sl&#101;b&#101;d&#101;v&#97;' + '&#64;';
				addye11c5048df3d9cfece76654fd7246392 = addye11c5048df3d9cfece76654fd7246392 + 'gm&#97;&#105;l' + '&#46;' + 'c&#111;m';
				var addy_texte11c5048df3d9cfece76654fd7246392 = 'ly&#117;dm&#105;l&#97;sl&#101;b&#101;d&#101;v&#97;' + '&#64;' + 'gm&#97;&#105;l' + '&#46;' + 'c&#111;m';document.getElementById('cloake11c5048df3d9cfece76654fd7246392').innerHTML += '<a ' + path + '\'' + prefix + ':' + addye11c5048df3d9cfece76654fd7246392 + '\'>'+addy_texte11c5048df3d9cfece76654fd7246392+'';
		
DTSTAMP:20260424T072851Z
DTSTART;TZID=UTC;VALUE=DATE:20170806
DTEND;TZID=UTC;VALUE=DATE:20170813
SEQUENCE:0
TRANSP:OPAQUE
END:VEVENT
END:VCALENDAR