BEGIN:VCALENDAR
VERSION:2.0
PRODID:-//jEvents 2.0 for Joomla//EN
CALSCALE:GREGORIAN
METHOD:PUBLISH
BEGIN:VEVENT
UID:baa965bd39b35d0106c2f7d21fac49e2
CATEGORIES:Polar Conferences, Meetings and Events
CREATED:20230316T141314
SUMMARY:IGS symposium on "Edges of Glaciology"
LOCATION:Limerick\, Ireland
DESCRIPTION:The 'Early bird' registration is now open for the IGS symposium on ‘Edges o
 f Glaciology Edges of Glaciology’being held at the meeting will be held 2–7
  July 2023, at the Kemmy Business School at the University of Limerick, Lim
 erick, Ireland 2–7 July 2023.\nYou can also book a place on one of the mid-
 week excursions on Wednesday 7 June will be a mid-week excursion through th
 e drumlin landscape of south County Clare to the Loop Head peninsula. You c
 an also register your interest in attending both the pre- and post-symposiu
 m excursions.\nHere is the link to the registration and booking page (https
 ://bit.ly/3xWD3nU) (<a href="https://bit.ly/3xWD3nU" data-saferedirecturl="
 https://www.google.com/url?q=https://bit.ly/3xWD3nU&amp;source=gmail&amp;us
 t=1679059022650000&amp;usg=AOvVaw21VmLapa3JQCbP3ViSWRXa"></a>https://bit.ly
 /3xWD3nU)\n
X-ALT-DESC;FMTTYPE=text/html:<p>The 'Early bird' registration is now open for the IGS symposium on ‘<str
 ong>Edges of Glaciology</strong>&nbsp;<strong>Edges of Glaciology</strong>’
 being held at the&nbsp;meeting will be held 2–7 July 2023, at the Kemmy Bus
 iness School at the University of Limerick, Limerick, Ireland 2–7 July 2023
 .</p><p>You can also book a place on one of the mid-week excursions on&nbsp
 ;Wednesday 7 June will be a mid-week excursion through the drumlin landscap
 e of south County Clare to the Loop Head peninsula. You can also register y
 our interest in attending both the pre- and post-symposium excursions.</p><
 p>Here is the link to the&nbsp;<strong><a href="https://bit.ly/3xWD3nU" dat
 a-saferedirecturl="https://www.google.com/url?q=https://bit.ly/3xWD3nU&amp;
 source=gmail&amp;ust=1679059022650000&amp;usg=AOvVaw21VmLapa3JQCbP3ViSWRXa"
 >registration and booking page</a></strong>&nbsp;(<a href="https://bit.ly/3
 xWD3nU" data-saferedirecturl="https://www.google.com/url?q=https://bit.ly/3
 xWD3nU&amp;source=gmail&amp;ust=1679059022650000&amp;usg=AOvVaw21VmLapa3JQC
 bP3ViSWRXa"></a><a href="https://bit.ly/3xWD3nU">https://bit.ly/3xWD3nU</a>
 )</p>
X-EXTRAINFO:https://www.igsoc.org/event/limerick_2023
DTSTAMP:20260422T190725Z
DTSTART;TZID=UTC;VALUE=DATE:20230702
DTEND;TZID=UTC;VALUE=DATE:20230708
SEQUENCE:0
TRANSP:OPAQUE
END:VEVENT
END:VCALENDAR