BEGIN:VCALENDAR
VERSION:2.0
PRODID:-//jEvents 2.0 for Joomla//EN
CALSCALE:GREGORIAN
METHOD:PUBLISH
BEGIN:VEVENT
UID:8c12d97d0c8b367956183ca8d5514bf5
CATEGORIES:Polar Conferences, Meetings and Events
CREATED:20230316T135355
SUMMARY:11th International Workshop on Sea Ice Modelling, Assimilation, Observations, Predictions and Verification (IICWG-DA-11)
LOCATION:Oslo\, Norway
DESCRIPTION:The 11th International Workshop on Sea Ice Modelling, Assimilation, Observa
 tions, Predictions and Verification (IICWG-DA-11) will take place from 21 t
 o 23 March 2023 in Oslo (Norway).\nGeneral topics (sessions) include: \n* S
 ea ice data assimilation (methods and results) \n* Sea ice observations and
  uncertainties \n* Sea ice model parameterizations and coupling to ocean an
 d atmosphere models \n* Verification approaches for sea ice analyses and fo
 recasts\n* Recent research to sea ice operation transfer—Automated predicti
 on systems\n The scientific programme and book of abstracts are online: (ht
 tps://iicwg-da-11.met.no/programme)<a href="https://iicwg-da-11.met.no/prog
 ramme">https://iicwg-da-11.met.no/programme</a> We invite you to register f
 or online attendance : the oral presentations will be streamed.
X-ALT-DESC;FMTTYPE=text/html:<div>The&nbsp;11th International Workshop on Sea Ice Modelling, Assimilatio
 n, Observations, Predictions and Verification (IICWG-DA-11) will take place
  from 21 to 23 March 2023 in Oslo (Norway).</div><p><br />General topics (s
 essions) include:&nbsp;<br />* Sea ice data assimilation (methods and resul
 ts)&nbsp;<br />* Sea ice observations and uncertainties&nbsp;<br />* Sea ic
 e model parameterizations and coupling to ocean and atmosphere models&nbsp;
 <br />* Verification approaches for sea ice analyses and forecasts<br />* R
 ecent research to sea ice operation transfer—Automated prediction systems</
 p><div>&nbsp;</div><div>The scientific programme and book of abstracts are 
 online:</div><div><a href="https://iicwg-da-11.met.no/programme" target="_b
 lank" rel="noopener" data-saferedirecturl="https://www.google.com/url?q=htt
 ps://iicwg-da-11.met.no/programme&amp;source=gmail&amp;ust=1679059021689000
 &amp;usg=AOvVaw0htAKUWU8BRBxH5LaQ82xk"></a><a href="https://iicwg-da-11.met
 .no/programme">https://iicwg-da-11.met.no/programme</a></div><div>&nbsp;</d
 iv><div>We invite you to register for online attendance : the oral presenta
 tions will be streamed.</div>
X-EXTRAINFO:https://iicwg-da-11.met.no/
DTSTAMP:20260424T191034Z
DTSTART;TZID=UTC;VALUE=DATE:20230321
DTEND;TZID=UTC;VALUE=DATE:20230324
SEQUENCE:0
TRANSP:OPAQUE
END:VEVENT
END:VCALENDAR