BEGIN:VCALENDAR
VERSION:2.0
PRODID:-//jEvents 2.0 for Joomla//EN
CALSCALE:GREGORIAN
METHOD:PUBLISH
BEGIN:VEVENT
UID:24994a1541c16511bd877552bd763f2b
CATEGORIES:Polar Conferences, Meetings and Events
CREATED:20230316T135218
SUMMARY:2nd US Ice Core Open Science Meeting
LOCATION:Seattle\, Washington\, USA
DESCRIPTION:The second annual US Ice Core Open Science Meeting will be held May 8-10, 2
 023, at the beautiful Center for Urban Horticulture (https://botanicgardens
 .uw.edu/center-for-urban-horticulture/) at the University of Washington in 
 Seattle, WA. <a href="https://herculesdome.org/us-ice-core-open-science-mee
 ting-2023#registration">Registration for the meeting</a> is now open.\nAbst
 ract Submission and Early Registration Deadline are March 15, 2023.\nThis m
 eeting is intended for anyone interested in ice core science or related fie
 lds, including ice-core analysis, ice or subglacial drilling, glacier geoph
 ysics that supports or depends on ice core records, paleoclimate, and conte
 mporary climate and ice sheet change.\nGoals of the meeting include 1) shar
 ing the latest science, 2) discussing future ice core science projects in b
 oth polar regions and in alpine environments, 3) providing career developme
 nt opportunities, and 4) improving communication about ice-core and related
  science both within and beyond the scientific community. We hope to attrac
 t a diverse group of participants, including those who may not have extensi
 ve experience working with ice cores.\nWhile this meeting is primarily orie
 nted at researchers in the US, international colleagues are welcome to atte
 nd.\nThe meeting will begin midday on Monday, May 8, and end in the late af
 ternoon of Wednesday, May 10. The meeting will be preceded by an ICECReW pr
 e-meeting workshop (https://herculesdome.org/icecrew-2023) for early career
  researchers focused on proposal development and intentional collaboration.
  The meeting will be followed by a COLDEX short course for early career sci
 entists.\nTo ensure you do not miss announcements, we recommend joining the
  <a href="https://mailchi.mp/62d67fbe76e1/hercules-dome-signup-form">Hercul
 es Dome mailing list</a>.\n
X-ALT-DESC;FMTTYPE=text/html:<p>The second annual US Ice Core Open Science Meeting will be held May 8-10
 , 2023, at the beautiful&nbsp;<a href="https://botanicgardens.uw.edu/center
 -for-urban-horticulture/"><strong>Center for Urban Horticulture</strong></a
 >&nbsp;at the University of Washington in Seattle, WA.&nbsp;<a href="https:
 //herculesdome.org/us-ice-core-open-science-meeting-2023#registration"><str
 ong>Registration for the meeting</strong></a>&nbsp;is now open.</p><p><stro
 ng>Abstract Submission and Early Registration Deadline are March 15, 2023.<
 /strong></p><p>This meeting is intended for anyone interested in ice core s
 cience or related fields, including ice-core analysis, ice or subglacial dr
 illing, glacier geophysics that supports or depends on ice core records, pa
 leoclimate, and contemporary climate and ice sheet change.</p><p>Goals of t
 he meeting include 1) sharing the latest science, 2) discussing future ice 
 core science projects in both polar regions and in alpine environments, 3) 
 providing career development opportunities, and 4) improving communication 
 about ice-core and related science both within and beyond the scientific co
 mmunity. We hope to attract a diverse group of participants, including thos
 e who may not have extensive experience working with ice cores.</p><p>While
  this meeting is primarily oriented at researchers in the US, international
  colleagues are welcome to attend.</p><p>The meeting will begin midday on M
 onday, May 8, and end in the late afternoon of Wednesday, May 10. The meeti
 ng will be preceded by an&nbsp;<a href="https://herculesdome.org/icecrew-20
 23">ICECReW pre-meeting workshop</a>&nbsp;for early career researchers focu
 sed on proposal development and intentional collaboration. The meeting will
  be followed by a COLDEX short course for early career scientists.</p><p>To
  ensure you do not miss announcements, we recommend joining the&nbsp;<a hre
 f="https://mailchi.mp/62d67fbe76e1/hercules-dome-signup-form"><strong>Hercu
 les Dome mailing list</strong></a>.</p>
X-EXTRAINFO:https://herculesdome.org/us-ice-core-open-science-meeting-2023
DTSTAMP:20260424T191103Z
DTSTART;TZID=UTC;VALUE=DATE:20230508
DTEND;TZID=UTC;VALUE=DATE:20230511
SEQUENCE:0
TRANSP:OPAQUE
END:VEVENT
END:VCALENDAR