BEGIN:VCALENDAR
VERSION:2.0
PRODID:-//jEvents 2.0 for Joomla//EN
CALSCALE:GREGORIAN
METHOD:PUBLISH
BEGIN:VEVENT
UID:c29a20345c40ad05b17e9c1a7f3a13ba
CATEGORIES:Polar Online Events
CREATED:20230316T134222
SUMMARY:Inclusive Environments and Navigating Power Imbalances in Arctic Fieldwork: A Discussion Panel
DESCRIPTION:The Polar Science Early Career Community Office () and the Interagency Arct
 ic Research Policy Committee (<a href="https://www.arcus.org/civicrm/mailin
 g/url?u=41699&amp;qid=7577147" target="_blank" rel="nofollow noopener" data
 -saferedirecturl="https://www.google.com/url?q=https://www.arcus.org/civicr
 m/mailing/url?u%3D41699%26qid%3D7577147&amp;source=gmail&amp;ust=1679059020
 617000&amp;usg=AOvVaw2GlQb_HCNxjIcAztKeauor">IARPC</a>) announce their upco
 ming discussion panel on inclusive environments and navigating power imbala
 nces in Arctic fieldwork. This online event will take place 28 March 2023, 
 9:00 a.m.-10:30 p.m. Alaska Daylight Time.\nThe discussion will cover how t
 o build an inclusive fieldwork environment and equip oneself for navigating
  potential power imbalances prior to heading to the Arctic this summer. Att
 endees will learn from an array of panelists who have ‘been there, done tha
 t’ and learned a lot along the way about what contributes to a positive fie
 ldwork experience, and how to work towards that prior to stepping foot in t
 he Arctic.\nCurrent panelists for the event include:\n\n - Darcy Peter\n - 
 Matthew Shupe\n - Melissa Ward Jones
X-ALT-DESC;FMTTYPE=text/html:<p>The Polar Science Early Career Community Office (<a href="https://www.ar
 cus.org/civicrm/mailing/url?u=41698&amp;qid=7577147" target="_blank" rel="n
 ofollow noopener" data-saferedirecturl="https://www.google.com/url?q=https:
 //www.arcus.org/civicrm/mailing/url?u%3D41698%26qid%3D7577147&amp;source=gm
 ail&amp;ust=1679059020617000&amp;usg=AOvVaw2E_p6JuQ6xfFGET8cAikJ_">PSECCO</
 a>) and the Interagency Arctic Research Policy Committee (<a href="https://
 www.arcus.org/civicrm/mailing/url?u=41699&amp;qid=7577147" target="_blank" 
 rel="nofollow noopener" data-saferedirecturl="https://www.google.com/url?q=
 https://www.arcus.org/civicrm/mailing/url?u%3D41699%26qid%3D7577147&amp;sou
 rce=gmail&amp;ust=1679059020617000&amp;usg=AOvVaw2GlQb_HCNxjIcAztKeauor">IA
 RPC</a>) announce their upcoming discussion panel on inclusive environments
  and navigating power imbalances in Arctic fieldwork. This online event wil
 l take place 28 March 2023, 9:00 a.m.-10:30 p.m. Alaska Daylight Time.</p><
 p>The discussion will cover how to build an inclusive fieldwork environment
  and equip oneself for navigating potential power imbalances prior to headi
 ng to the Arctic this summer. Attendees will learn from an array of panelis
 ts who have ‘been there, done that’ and learned a lot along the way about w
 hat contributes to a positive fieldwork experience, and how to work towards
  that prior to stepping foot in the Arctic.</p><p><strong>Current panelists
  for the event include:</strong></p><ul><li>Darcy Peter</li><li>Matthew Shu
 pe</li><li>Melissa Ward Jones</li></ul>
X-EXTRAINFO:https://www.arcus.org/civicrm/mailing/url?u=41697&amp;qid=7577147
DTSTAMP:20260424T190607Z
DTSTART;TZID=UTC;VALUE=DATE:20230328
DTEND;TZID=UTC;VALUE=DATE:20230329
SEQUENCE:0
TRANSP:OPAQUE
END:VEVENT
END:VCALENDAR