BEGIN:VCALENDAR
VERSION:2.0
PRODID:-//jEvents 2.0 for Joomla//EN
CALSCALE:GREGORIAN
METHOD:PUBLISH
BEGIN:VEVENT
UID:e61e84c00a4977df7fe9e4fa6fafc519
CATEGORIES:Field and Summer Schools
CREATED:20230316T134019
SUMMARY:Ice Core Analysis Techniques PhD school (ICAT) 
DESCRIPTION:The ice core analysis techniques PhD school (ICAT) will be running again fr
 om September 18th to 22nd, 2023 in Copenhagen, Denmark.\nThe ICAT PhD schoo
 l (2 ECTS) is aimed at PhD students and junior postdocs who conduct ice cor
 e analysis or are users of ice core data (glaciologists, oceanographers, cl
 imate modelers, and earth scientists). ICAT aims to educate a new generatio
 n of ice core researchers and foster a collaborative environment for future
  glaciological projects. This course will educate young scientists regardin
 g new methods developed for the analysis of ice cores with regard to climat
 e research, with dedicated theoretical and laboratory exercise sessions.\nT
 he application deadline is April 15th, 2023.\n
X-ALT-DESC;FMTTYPE=text/html:<p>The ice core analysis techniques PhD school (ICAT) will be running again
  from September 18<sup>th</sup>&nbsp;to 22<sup>nd</sup>, 2023 in Copenhagen
 , Denmark.</p><p>The ICAT PhD school (2 ECTS) is aimed at PhD students and 
 junior postdocs who conduct ice core analysis or are users of ice core data
  (glaciologists, oceanographers, climate modelers, and earth scientists). I
 CAT aims to educate a new generation of ice core researchers and foster a c
 ollaborative environment for future glaciological projects. This course wil
 l educate young scientists regarding new methods developed for the analysis
  of ice cores with regard to climate research, with dedicated theoretical a
 nd laboratory exercise sessions.</p><p>The application deadline is April 15
 <sup>th</sup>, 2023.</p>
X-EXTRAINFO:https://indico.nbi.ku.dk/event/1939
DTSTAMP:20260423T042254Z
DTSTART;TZID=UTC;VALUE=DATE:20230918
DTEND;TZID=UTC;VALUE=DATE:20230923
SEQUENCE:0
TRANSP:OPAQUE
END:VEVENT
END:VCALENDAR