BEGIN:VCALENDAR
VERSION:2.0
PRODID:-//jEvents 2.0 for Joomla//EN
CALSCALE:GREGORIAN
METHOD:PUBLISH
BEGIN:VEVENT
UID:3e1246f0c7dcb60df5e3728c50912ace
CATEGORIES:Polar Conferences, Meetings and Events
CREATED:20230313T151411
SUMMARY:SOOS Symposium 2023 - Southern Ocean in a Changing World
LOCATION:Hobart\, Australia
DESCRIPTION:The SOOS Symposium 2023, "Southern Ocean in a Changing World", is taking pl
 ace from 14-18 August in Hobart, Australia.\nEnjoy a stimulating science pr
 ogram, build networks with colleagues and friends, and experience the uniqu
 e charm of Tasmania.\n\nREGISTRATION\nThe registration is now open. To take
  advantage of our early bird rates, register until 30 April 2023:  (https:/
 /soossymposium2023.au/registration)<a href="https://soossymposium2023.au/re
 gistration">https://soossymposium2023.au/registration</a>\n\nABSTRACTS\nCon
 tributions to the symposium in form of oral or poster presentations are hig
 hly encouraged. Submit an abstract until 24 March 2023:  (https://soossympo
 sium2023.au/call-for-abstracts)<a href="https://soossymposium2023.au/call-f
 or-abstracts">https://soossymposium2023.au/call-for-abstracts</a>\n\nThe SO
 OS Symposium theme, "Southern Ocean in a Changing World", recognizes the im
 portant role of the Southern Ocean in the Earth system. The s  ymposium is 
 a forum for assessing our progress so far in providing observing systems, o
 bservations and regional programs that deliver timely and accessible inform
 ation for the Southern Ocean. The Symposium is also an opportunity to addre
 ss the challenges faced in providing long term observations that address po
 licy and societal issues as well as advancing our scientific understanding 
 of the Southern Ocean.\n
X-ALT-DESC;FMTTYPE=text/html:<p>The SOOS Symposium 2023, "Southern Ocean in a Changing World", is taking
  place from 14-18 August in Hobart, Australia.<br />Enjoy a stimulating sci
 ence program, build networks with colleagues and friends, and experience th
 e unique charm of Tasmania.<br /><br />REGISTRATION<br />The registration i
 s now open. To take advantage of our early bird rates, register until 30 Ap
 ril 2023:&nbsp;<a href="https://soossymposium2023.au/registration" target="
 _blank" rel="noopener noreferrer" data-saferedirecturl="https://www.google.
 com/url?q=https://soossymposium2023.au/registration&amp;source=gmail&amp;us
 t=1678805355507000&amp;usg=AOvVaw1n0rqNJ240Yfb-iTHLchcY"></a><a href="https
 ://soossymposium2023.au/registration">https://soossymposium2023.au/registra
 tion</a><br /><br />ABSTRACTS<br />Contributions to the symposium in form o
 f oral or poster presentations are highly encouraged. Submit an abstract un
 til 24 March 2023:&nbsp;<a href="https://soossymposium2023.au/call-for-abst
 racts" target="_blank" rel="noopener noreferrer" data-saferedirecturl="http
 s://www.google.com/url?q=https://soossymposium2023.au/call-for-abstracts&am
 p;source=gmail&amp;ust=1678805355508000&amp;usg=AOvVaw34rUgAcYmhPAi_bqBL9AN
 g"></a><a href="https://soossymposium2023.au/call-for-abstracts">https://so
 ossymposium2023.au/call-for-abstracts</a><br /><br />The SOOS Symposium the
 me, "Southern Ocean in a Changing World", recognizes the important role of 
 the Southern Ocean in the Earth system. The s&nbsp; ymposium is a forum for
  assessing our progress so far in providing observing systems, observations
  and regional programs that deliver timely and accessible information for t
 he Southern Ocean. The Symposium is also an opportunity to address the chal
 lenges faced in providing long term observations that address policy and so
 cietal issues as well as advancing our scientific understanding of the Sout
 hern Ocean.</p>
X-EXTRAINFO:https://soossymposium2023.au
DTSTAMP:20260423T025201Z
DTSTART;TZID=UTC;VALUE=DATE:20230814
DTEND;TZID=UTC;VALUE=DATE:20230819
SEQUENCE:0
TRANSP:OPAQUE
END:VEVENT
END:VCALENDAR