BEGIN:VCALENDAR
VERSION:2.0
PRODID:-//jEvents 2.0 for Joomla//EN
CALSCALE:GREGORIAN
METHOD:PUBLISH
BEGIN:VEVENT
UID:627ad4b35333760e61d22010db5e9f20
CATEGORIES:Polar Conferences, Meetings and Events
CREATED:20170221T094203
SUMMARY:Karthaus course 2017
LOCATION:Karthaus\, Italy
DESCRIPTION:Announcement of the next Karthaus course on\nICE SHEETS AND GLACIERS IN THE
  CLIMATE SYSTEM\n12-23 September 2017\nKarthaus, Italy\nSponsored by:\nThe 
 Institute for Marine and Atmospheric Research, Utrecht University\nNetherla
 nds Earth System Science Centre\nThe Descartes Prize (EPICA), EU\nThe cours
 e will provide a basic introduction to the dynamics of glaciers and ice she
 ets with a focus on ice-climate interactions. The course is meant for Ph.D.
  students that work on (or will soon start working on) a glaciology-related
  climate project. The registration fee will be € 700. This includes lodging
 , full board, course material and excursion.\nLecturers include: T. Blunier
 , O. Eisen, I. Hewitt, A. Jenkins,\nN. Karlsson, F. Pattyn, G. Spada, A. St
 roeven, C. Tijm-Reijmer,\nJ. Oerlemans (convenor).\nSend your application t
 o the convenor ( This email address is being protected from spambots. You n
 eed JavaScript enabled to view it.
				document.getElementById('cloak553f4f
 4f8e801d6fad6476192e031b7a').innerHTML = '';
				var prefix = '&#109;a' + '
 i&#108;' + '&#116;o';
				var path = 'hr' + 'ef' + '=';
				var addy553f4f4
 f8e801d6fad6476192e031b7a = 'j.&#111;&#101;rl&#101;m&#97;ns' + '&#64;';
			
 	addy553f4f4f8e801d6fad6476192e031b7a = addy553f4f4f8e801d6fad6476192e031b7
 a + '&#117;&#117;' + '&#46;' + 'nl';
				var addy_text553f4f4f8e801d6fad647
 6192e031b7a = 'j.&#111;&#101;rl&#101;m&#97;ns' + '&#64;' + '&#117;&#117;' +
  '&#46;' + 'nl';document.getElementById('cloak553f4f4f8e801d6fad6476192e031
 b7a').innerHTML += '<a ' + path + '\'' + prefix + ':' + addy553f4f4f8e801d6
 fad6476192e031b7a + '\'>'+addy_text553f4f4f8e801d6fad6476192e031b7a+'';
		 
 ), before 8 May 2017.\nYou will be notified about the decision of the Selec
 tion Committee by 7 June 2017.\nYour application should include:\n• A short
  statement why you want to partipate in this course\n• Affiliation and name
  of supervisor\n• A description of your research project (~200 words)\n• A 
 curriculum vitae\nPlease supply this information as a single PDF file.\nKar
 thaus course website:\nhttp://www.projects.science.uu.nl/iceclimate/karthau
 s/\nJohannes Oerlemans\nProfessor of Meteorology\nIMAU, Utrecht University\
 nThis email address is being protected from spambots. You need JavaScript e
 nabled to view it.
				document.getElementById('cloak0fd6d553fcc7ea3559430e
 fec8708ca0').innerHTML = '';
				var prefix = '&#109;a' + 'i&#108;' + '&#11
 6;o';
				var path = 'hr' + 'ef' + '=';
				var addy0fd6d553fcc7ea3559430ef
 ec8708ca0 = 'j.&#111;&#101;rl&#101;m&#97;ns' + '&#64;';
				addy0fd6d553fcc
 7ea3559430efec8708ca0 = addy0fd6d553fcc7ea3559430efec8708ca0 + '&#117;&#117
 ;' + '&#46;' + 'nl';
				var addy_text0fd6d553fcc7ea3559430efec8708ca0 = 'j
 .&#111;&#101;rl&#101;m&#97;ns' + '&#64;' + '&#117;&#117;' + '&#46;' + 'nl';
 document.getElementById('cloak0fd6d553fcc7ea3559430efec8708ca0').innerHTML 
 += '<a ' + path + '\'' + prefix + ':' + addy0fd6d553fcc7ea3559430efec8708ca
 0 + '\'>'+addy_text0fd6d553fcc7ea3559430efec8708ca0+'';
		 \n<a href="http:
 //www.staff.science.uu.nl/~oerle102/">http://www.staff.science.uu.nl/~oerle
 102/</a>\n
X-ALT-DESC;FMTTYPE=text/html:<p style="text-align: center;"><strong>Announcement of the next Karthaus co
 urse on</strong><br /><strong>ICE SHEETS AND GLACIERS IN THE CLIMATE SYSTEM
 </strong><br /><strong>12-23 September 2017</strong><br /><strong>Karthaus,
  Italy</strong></p><p><strong>Sponsored by:</strong><br />The Institute for
  Marine and Atmospheric Research, Utrecht University<br />Netherlands Earth
  System Science Centre<br />The Descartes Prize (EPICA), EU</p><p>The cours
 e will provide a basic introduction to the dynamics of glaciers and ice she
 ets with a focus on ice-climate interactions. The course is meant for Ph.D.
  students that work on (or will soon start working on) a glaciology-related
  climate project. The registration fee will be € 700. This includes lodging
 , full board, course material and excursion.</p><p>Lecturers include: T. Bl
 unier, O. Eisen, I. Hewitt, A. Jenkins,<br />N. Karlsson, F. Pattyn, G. Spa
 da, A. Stroeven, C. Tijm-Reijmer,<br />J. Oerlemans (convenor).</p><p><stro
 ng>Send your application to the convenor ( <span id="cloak553f4f4f8e801d6fa
 d6476192e031b7a">This email address is being protected from spambots. You n
 eed JavaScript enabled to view it.</span><script type='text/javascript'>
		
 		document.getElementById('cloak553f4f4f8e801d6fad6476192e031b7a').innerHTM
 L = '';
				var prefix = '&#109;a' + 'i&#108;' + '&#116;o';
				var path = 
 'hr' + 'ef' + '=';
				var addy553f4f4f8e801d6fad6476192e031b7a = 'j.&#111;
 &#101;rl&#101;m&#97;ns' + '&#64;';
				addy553f4f4f8e801d6fad6476192e031b7a
  = addy553f4f4f8e801d6fad6476192e031b7a + '&#117;&#117;' + '&#46;' + 'nl';

 				var addy_text553f4f4f8e801d6fad6476192e031b7a = 'j.&#111;&#101;rl&#101;
 m&#97;ns' + '&#64;' + '&#117;&#117;' + '&#46;' + 'nl';document.getElementBy
 Id('cloak553f4f4f8e801d6fad6476192e031b7a').innerHTML += '<a ' + path + '\'
 ' + prefix + ':' + addy553f4f4f8e801d6fad6476192e031b7a + '\'>'+addy_text55
 3f4f4f8e801d6fad6476192e031b7a+'<\/a>';
		</script> ), before 8 May 2017.</
 strong><br /><strong>You will be notified about the decision of the Selecti
 on Committee by 7 June 2017.</strong><br /><strong>Your application should 
 include:</strong><br />• A short statement why you want to partipate in thi
 s course<br />• Affiliation and name of supervisor<br />• A description of 
 your research project (~200 words)<br />• A curriculum vitae<br />Please su
 pply this information as a single PDF file.</p><p>Karthaus course website:<
 br /><a href="http://www.projects.science.uu.nl/iceclimate/karthaus/">http:
 //www.projects.science.uu.nl/iceclimate/karthaus/</a></p><p><strong>Johanne
 s Oerlemans</strong><br />Professor of Meteorology<br />IMAU, Utrecht Unive
 rsity<br /><span id="cloak0fd6d553fcc7ea3559430efec8708ca0">This email addr
 ess is being protected from spambots. You need JavaScript enabled to view i
 t.</span><script type='text/javascript'>
				document.getElementById('cloak
 0fd6d553fcc7ea3559430efec8708ca0').innerHTML = '';
				var prefix = '&#109;
 a' + 'i&#108;' + '&#116;o';
				var path = 'hr' + 'ef' + '=';
				var addy0
 fd6d553fcc7ea3559430efec8708ca0 = 'j.&#111;&#101;rl&#101;m&#97;ns' + '&#64;
 ';
				addy0fd6d553fcc7ea3559430efec8708ca0 = addy0fd6d553fcc7ea3559430efec
 8708ca0 + '&#117;&#117;' + '&#46;' + 'nl';
				var addy_text0fd6d553fcc7ea3
 559430efec8708ca0 = 'j.&#111;&#101;rl&#101;m&#97;ns' + '&#64;' + '&#117;&#1
 17;' + '&#46;' + 'nl';document.getElementById('cloak0fd6d553fcc7ea3559430ef
 ec8708ca0').innerHTML += '<a ' + path + '\'' + prefix + ':' + addy0fd6d553f
 cc7ea3559430efec8708ca0 + '\'>'+addy_text0fd6d553fcc7ea3559430efec8708ca0+'
 <\/a>';
		</script> <br /><a href="http://www.staff.science.uu.nl/~oerle102
 /">http://www.staff.science.uu.nl/~oerle102/</a></p>
DTSTAMP:20260424T074648Z
DTSTART;TZID=UTC;VALUE=DATE:20170912
DTEND;TZID=UTC;VALUE=DATE:20170924
SEQUENCE:0
TRANSP:OPAQUE
END:VEVENT
END:VCALENDAR