BEGIN:VCALENDAR
VERSION:2.0
PRODID:-//jEvents 2.0 for Joomla//EN
CALSCALE:GREGORIAN
METHOD:PUBLISH
BEGIN:VEVENT
UID:187c5b4ae6549541dc6d5f2a7907bd99
CATEGORIES:APECS Events
CREATED:20220909T095039
SUMMARY:APECS Art webinar: Monsters and Ghosts of the Far North: Collective cartographies
DESCRIPTION:On the 12th of September (National Video Game Day in the US) at 5PM (GMT), 
 APECS organizes a webinar in collaboration with Alterna on the use of carto
 graphy, mapping, and scientific data in creating a video game as an alterna
 tive way to visualize climate-driven changes in the Arctic to the wider pub
 lic. The project is called Monsters and Ghosts of the Far North: Collective
  cartographies. Read more and get access to the registration link here (new
 s/apecs-news/5078-webinar-alternative-view-on-the-arctic-arctic-video-game-
 that-challenges-our-human-centric-perspective-of-the-northern-regions.html)
 . \n
X-ALT-DESC;FMTTYPE=text/html:<p>On the 12<sup>th</sup>&nbsp;of September (National Video Game Day in the
  US) at 5PM (GMT), APECS organizes a webinar in collaboration with Alterna 
 on the use of cartography, mapping, and scientific data in creating a video
  game as an alternative way to visualize climate-driven changes in the Arct
 ic to the wider public. The project is called&nbsp;<em>Monsters and Ghosts 
 of the Far North: Collective cartographies</em><em>. </em>Read more and get
  access to the registration link&nbsp;<a href="news/apecs-news/5078-webinar
 -alternative-view-on-the-arctic-arctic-video-game-that-challenges-our-human
 -centric-perspective-of-the-northern-regions.html" target="_blank" rel="noo
 pener">here</a>.&nbsp;</p>
DTSTAMP:20260423T040745Z
DTSTART;TZID=UTC;VALUE=DATE:20220912
DTEND;TZID=UTC;VALUE=DATE:20220913
SEQUENCE:0
TRANSP:OPAQUE
END:VEVENT
END:VCALENDAR