BEGIN:VCALENDAR
VERSION:2.0
PRODID:-//jEvents 2.0 for Joomla//EN
CALSCALE:GREGORIAN
METHOD:PUBLISH
BEGIN:VEVENT
UID:58c437fbd954aabdacc08f129191a30b
CATEGORIES:Polar Conferences, Meetings and Events
CREATED:20220706T140637
SUMMARY:AMSI–AustMS Workshop on Mathematics of Sea Ice and Ice Shelves
DESCRIPTION:AMSI–AustMS Workshop on Mathematics of Sea Ice and Ice Shelves\n(AMSI – Aus
 tralian Mathematical Sciences Institute &amp; AustMS – Australian Mathemati
 cal Society)\nThe workshop is to be held from the 9th until 11th of Novembe
 r 2022 at the University of Adelaide (Australia).\nThe workshop aims to:\nb
 ring together world experts researching sea ice and ice shelves to discuss 
 and overcome the key mathematical challenges to advance the field.\nThe wor
 kshop will be comprised of presentations and are hoping to see many of you 
 there to achieve this goal.\nFollow the website for more updates -  (https:
 //mossi-conf.github.io/MOSSI-22/index.html)<a href="https://mossi-conf.gith
 ub.io/MOSSI-22/index.html">https://mossi-conf.github.io/MOSSI-22/index.html
 </a>\n \n
X-ALT-DESC;FMTTYPE=text/html:<p><strong>AMSI–AustMS Workshop on Mathematics of Sea Ice and Ice Shelves</
 strong></p><p>(AMSI – Australian Mathematical Sciences Institute &amp; Aust
 MS – Australian Mathematical Society)</p><p>The workshop is to be held from
  the 9<sup>th</sup>&nbsp;until 11<sup>th</sup>&nbsp;of November 2022 at the
  University of Adelaide (Australia).</p><p>The workshop aims to:</p><p><em>
 bring together world experts researching sea ice and ice shelves to discuss
  and overcome the key mathematical challenges to advance the field.</em></p
 ><p>The workshop will be comprised of presentations and are hoping to see m
 any of you there to achieve this goal.</p><p>Follow the website for more up
 dates -&nbsp;<a href="https://mossi-conf.github.io/MOSSI-22/index.html" dat
 a-saferedirecturl="https://www.google.com/url?q=https://mossi-conf.github.i
 o/MOSSI-22/index.html&amp;source=gmail&amp;ust=1657199145280000&amp;usg=AOv
 Vaw3BQD-qMF6IDzCMf3TGKfeH"></a><a href="https://mossi-conf.github.io/MOSSI-
 22/index.html">https://mossi-conf.github.io/MOSSI-22/index.html</a></p><p>&
 nbsp;</p>
DTSTAMP:20260423T202155Z
DTSTART;TZID=UTC;VALUE=DATE:20221109
DTEND;TZID=UTC;VALUE=DATE:20221112
SEQUENCE:0
TRANSP:OPAQUE
END:VEVENT
END:VCALENDAR