BEGIN:VCALENDAR
VERSION:2.0
PRODID:-//jEvents 2.0 for Joomla//EN
CALSCALE:GREGORIAN
METHOD:PUBLISH
BEGIN:VEVENT
UID:0e5da44847dd99a6da5a154846b4f8fd
CATEGORIES:Polar Conferences, Meetings and Events
CREATED:20220706T132506
SUMMARY:17th Workshop on Antarctic Meteorology and Climate (WAMC) and the 7th Year of Polar Prediction-Southern Hemisphere (YOPP-SH) workshop
DESCRIPTION:We are happy to announce the registration and abstract submission for the 1
 7th Workshop on Antarctic Meteorology and Climate (WAMC) and the 7th Year o
 f Polar Prediction-Southern Hemisphere (YOPP-SH) workshop that will be held
  in a hybrid format at the University of Wisconsin-Madison, Pyle Center, an
 d online via Zoom, Madison, Wisconsin, USA on August 4 through 6, 2022.   T
 he registration and abstract submission form can be found here:\n (http://a
 mrc.ssec.wisc.edu/meetings/meeting2022/before_registration.shtml)<a href="h
 ttp://amrc.ssec.wisc.edu/meetings/meeting2022/before_registration.shtml">ht
 tp://amrc.ssec.wisc.edu/meetings/meeting2022/before_registration.shtml</a>\
 nPlease note that we have the following deadlines:\n\n - Friday, July 15 — 
 Registration and short abstract submission deadline\n - Friday, July 22 — E
 xtended abstract submission deadlineExtended abstracts, which should follow
  the American Meteorological Society format (see here for an example on the
  second and third pages:  (https://www.ametsoc.org/ams/index.cfm/meetings-e
 vents/abstract-author-and-presenter-information/abstract-author-instruction
 s/extended-abstract-instructions/)<a href="https://www.ametsoc.org/ams/inde
 x.cfm/meetings-events/abstract-author-and-presenter-information/abstract-au
 thor-instructions/extended-abstract-instructions/">https://www.ametsoc.org/
 ams/index.cfm/meetings-events/abstract-author-and-presenter-information/abs
 tract-author-instructions/extended-abstract-instructions/</a>  ) and they c
 an be e-mailed to: Bella Onsi  (mailto:onsi@wisc.edu)This email address is 
 being protected from spambots. You need JavaScript enabled to view it.
				
 document.getElementById('cloak2689caf2f091c468d08d294dd5823eaa').innerHTML 
 = '';
				var prefix = '&#109;a' + 'i&#108;' + '&#116;o';
				var path = 'h
 r' + 'ef' + '=';
				var addy2689caf2f091c468d08d294dd5823eaa = '&#111;ns&#
 105;' + '&#64;';
				addy2689caf2f091c468d08d294dd5823eaa = addy2689caf2f09
 1c468d08d294dd5823eaa + 'w&#105;sc' + '&#46;' + '&#101;d&#117;';
				var ad
 dy_text2689caf2f091c468d08d294dd5823eaa = '&#111;ns&#105;' + '&#64;' + 'w&#
 105;sc' + '&#46;' + '&#101;d&#117;';document.getElementById('cloak2689caf2f
 091c468d08d294dd5823eaa').innerHTML += '<a ' + path + '\'' + prefix + ':' +
  addy2689caf2f091c468d08d294dd5823eaa + '\'>'+addy_text2689caf2f091c468d08d
 294dd5823eaa+'';
		 here at the University of Wisconsin-Madison by Friday J
 uly 22.\nYou can learn more about the meeting here:\n<a href="http://amrc.s
 sec.wisc.edu/meetings/meeting2022/" data-saferedirecturl="https://www.googl
 e.com/url?q=http://amrc.ssec.wisc.edu/meetings/meeting2022/&amp;source=gmai
 l&amp;ust=1657196931886000&amp;usg=AOvVaw0Bnr0TmxEOL0_83epycWEk"></a>http:/
 /amrc.ssec.wisc.edu/meetings/meeting2022/\nSee the above website for hotel 
 reservation information, which must be made by July 17.\nWe wish to denote 
 that this meeting has an emphasis on students and those in their early care
 er. Thank you to the International Association of Meteorology and Atmospher
 ic Sciences for their support of this workshop. Focus on weather forecastin
 g, numerical weather prediction, operational/logistical interests, and obse
 rvational network reports along with contributions from around the world ar
 e welcome on these topics. Note that the American Meteorological Society’s 
 Madison Collective meeting (including Polar Meteorology and Oceanography) w
 ill follow the WAMC/YOPP-SH meeting in Madison August 8 through 12, 2022.\n
X-ALT-DESC;FMTTYPE=text/html:<p>We are happy to announce the registration and abstract submission for th
 e 17th Workshop on Antarctic Meteorology and Climate (WAMC) and the 7th Yea
 r of Polar Prediction-Southern Hemisphere (YOPP-SH) workshop that will be h
 eld in a hybrid format at the University of Wisconsin-Madison, Pyle Center,
  and online via Zoom, Madison, Wisconsin, USA on August 4 through 6, 2022. 
 &nbsp;&nbsp;The registration and abstract submission form can be found here
 :</p><p><a href="http://amrc.ssec.wisc.edu/meetings/meeting2022/before_regi
 stration.shtml" data-saferedirecturl="https://www.google.com/url?q=http://a
 mrc.ssec.wisc.edu/meetings/meeting2022/before_registration.shtml&amp;source
 =gmail&amp;ust=1657196931886000&amp;usg=AOvVaw1N6nc3gfUCDK5j45LJw4Eo"></a><
 a href="http://amrc.ssec.wisc.edu/meetings/meeting2022/before_registration.
 shtml">http://amrc.ssec.wisc.edu/meetings/meeting2022/before_registration.s
 html</a></p><p>Please note that we have the following deadlines:</p><ul><li
 >Friday, July 15 — Registration and short abstract submission deadline</li>
 <li>Friday, July 22 — Extended abstract submission deadline</li></ul><p>Ext
 ended abstracts, which should follow the American Meteorological Society fo
 rmat (see here for an example on the second and third pages:&nbsp;<a href="
 https://www.ametsoc.org/ams/index.cfm/meetings-events/abstract-author-and-p
 resenter-information/abstract-author-instructions/extended-abstract-instruc
 tions/" data-saferedirecturl="https://www.google.com/url?q=https://www.amet
 soc.org/ams/index.cfm/meetings-events/abstract-author-and-presenter-informa
 tion/abstract-author-instructions/extended-abstract-instructions/&amp;sourc
 e=gmail&amp;ust=1657196931886000&amp;usg=AOvVaw3fLYX87J-1qmJ4RxjnItHJ"></a>
 <a href="https://www.ametsoc.org/ams/index.cfm/meetings-events/abstract-aut
 hor-and-presenter-information/abstract-author-instructions/extended-abstrac
 t-instructions/">https://www.ametsoc.org/ams/index.cfm/meetings-events/abst
 ract-author-and-presenter-information/abstract-author-instructions/extended
 -abstract-instructions/</a>&nbsp;&nbsp;) and they can be e-mailed to: Bella
  Onsi&nbsp;<a href="mailto:onsi@wisc.edu"></a><span id="cloak2689caf2f091c4
 68d08d294dd5823eaa">This email address is being protected from spambots. Yo
 u need JavaScript enabled to view it.</span><script type='text/javascript'>
 
				document.getElementById('cloak2689caf2f091c468d08d294dd5823eaa').inner
 HTML = '';
				var prefix = '&#109;a' + 'i&#108;' + '&#116;o';
				var path
  = 'hr' + 'ef' + '=';
				var addy2689caf2f091c468d08d294dd5823eaa = '&#111
 ;ns&#105;' + '&#64;';
				addy2689caf2f091c468d08d294dd5823eaa = addy2689ca
 f2f091c468d08d294dd5823eaa + 'w&#105;sc' + '&#46;' + '&#101;d&#117;';
				v
 ar addy_text2689caf2f091c468d08d294dd5823eaa = '&#111;ns&#105;' + '&#64;' +
  'w&#105;sc' + '&#46;' + '&#101;d&#117;';document.getElementById('cloak2689
 caf2f091c468d08d294dd5823eaa').innerHTML += '<a ' + path + '\'' + prefix + 
 ':' + addy2689caf2f091c468d08d294dd5823eaa + '\'>'+addy_text2689caf2f091c46
 8d08d294dd5823eaa+'<\/a>';
		</script>&nbsp;here at the University of Wisco
 nsin-Madison by Friday July 22.</p><p>You can learn more about the meeting 
 here:</p><p><a href="http://amrc.ssec.wisc.edu/meetings/meeting2022/" data-
 saferedirecturl="https://www.google.com/url?q=http://amrc.ssec.wisc.edu/mee
 tings/meeting2022/&amp;source=gmail&amp;ust=1657196931886000&amp;usg=AOvVaw
 0Bnr0TmxEOL0_83epycWEk"></a><a href="http://amrc.ssec.wisc.edu/meetings/mee
 ting2022/">http://amrc.ssec.wisc.edu/meetings/meeting2022/</a></p><p>See th
 e above website for hotel reservation information, which must be made by Ju
 ly 17.</p><p>We wish to denote that this meeting has an emphasis on student
 s and those in their early career. Thank you to the International Associati
 on of Meteorology and Atmospheric Sciences for their support of this worksh
 op.&nbsp;Focus on weather forecasting, numerical weather prediction, operat
 ional/logistical interests, and observational network reports along with co
 ntributions from around the world are welcome on these topics. Note that th
 e American Meteorological Society’s Madison Collective meeting (including P
 olar Meteorology and Oceanography) will follow the WAMC/YOPP-SH meeting in 
 Madison August 8 through 12, 2022.</p>
DTSTAMP:20260423T025156Z
DTSTART;TZID=UTC;VALUE=DATE:20220804
DTEND;TZID=UTC;VALUE=DATE:20220807
SEQUENCE:0
TRANSP:OPAQUE
END:VEVENT
END:VCALENDAR