BEGIN:VCALENDAR
VERSION:2.0
PRODID:-//jEvents 2.0 for Joomla//EN
CALSCALE:GREGORIAN
METHOD:PUBLISH
BEGIN:VEVENT
UID:b23a24954d1ebf6420d81c9b172cf2d5
CATEGORIES:Polar Conferences, Meetings and Events
CREATED:20220704T120313
SUMMARY:Invitation to the 3rd PalaeoArc International Conference
LOCATION:Rovaniemi\, Finland
DESCRIPTION:The 3rd PalaeoArc International Conference registration now open!\nWe are h
 appy to announce that the registration and abstract submission for the 3rd 
 PalaeoArc International Conference are opened. The conference will gather t
 ogether researcher who are interested in climatically-induced environmental
  changes in the Arctic during the Quaternary period and present day.\nThe C
 onference will be held in the Arctic Centre at the heart of the town Rovani
 emi, in northern Finland, at the end of August (23-26 Aug 2022). Rovaniemi 
 locates in the Arctic Circle, and it is the hometown of Santa Claus.\nRegis
 tration is open at the web pages of conference:  (https://www.oulu.fi/en/co
 nferences)<a href="https://www.oulu.fi/en/conferences" target="_blank" rel=
 "noopener">https://www.oulu.fi/en/conferences</a>. Registration will closin
 g on 31st July 2022. Registration fee for regular participants is 250 € and
  for students 150 €.\nAbstract submission is already open and template for 
 the abstracts are available in the registration page. Deadline for the abst
 racts is 8th July 2022. Notification of acceptance will be sent to authors 
 on 18th July latest.\nFurthermore, we are also organizing pre-Conference Fi
 eld course for students at 21-22 Aug. Focus of the field course is in glaci
 al geology and morphology as well as sedimentology in the central part of t
 he last Weichselian glaciation, in the southern Finnish Lapland. The maximu
 m number of places in the field course is 15 and PhD students are preferred
 . Places will be fulfilled according to the registration order. Field cours
 e will be free of charge for participants.  \nWe wish you warmly welcome to
  the Arctic Circle in August 2022!\n
X-ALT-DESC;FMTTYPE=text/html:<p>The 3rd PalaeoArc International Conference registration now open!</p><p>
 We are happy to announce that the registration and abstract submission for 
 the 3<sup>rd</sup> PalaeoArc International Conference are opened. The confe
 rence will gather together researcher who are interested in climatically-in
 duced environmental changes in the Arctic during the Quaternary period and 
 present day.</p><p>The Conference will be held in the Arctic Centre at the 
 heart of the town Rovaniemi, in northern Finland, at the end of August (23-
 26 Aug 2022). Rovaniemi locates in the Arctic Circle, and it is the hometow
 n of Santa Claus.</p><p>Registration is open at the web pages of conference
 : <a href="https://www.oulu.fi/en/conferences" data-saferedirecturl="https:
 //www.google.com/url?q=https://www.oulu.fi/en/conferences&amp;source=gmail&
 amp;ust=1657022059040000&amp;usg=AOvVaw1rGdt47B3M_fu8ofUmxFml"></a><a href=
 "https://www.oulu.fi/en/conferences" target="_blank" rel="noopener">https:/
 /www.oulu.fi/en/conferences</a>. Registration will closing on 31<sup>st</su
 p> July 2022. Registration fee for regular participants is 250 € and for st
 udents 150 €.</p><p>Abstract submission is already open and template for th
 e abstracts are available in the registration page. Deadline for the abstra
 cts is 8<sup>th</sup> July 2022. Notification of acceptance will be sent to
  authors on 18th July latest.</p><p>Furthermore, we are also organizing pre
 -Conference Field course for students at 21-22 Aug. Focus of the field cour
 se is in glacial geology and morphology as well as sedimentology in the cen
 tral part of the last Weichselian glaciation, in the southern Finnish Lapla
 nd. The maximum number of places in the field course is 15 and PhD students
  are preferred. Places will be fulfilled according to the registration orde
 r. Field course will be free of charge for participants. &nbsp;</p><p>We wi
 sh you warmly welcome to the Arctic Circle in August 2022!</p>
DTSTAMP:20260423T003832Z
DTSTART;TZID=UTC;VALUE=DATE:20220823
DTEND;TZID=UTC;VALUE=DATE:20220827
SEQUENCE:0
TRANSP:OPAQUE
END:VEVENT
END:VCALENDAR