BEGIN:VCALENDAR
VERSION:2.0
PRODID:-//jEvents 2.0 for Joomla//EN
CALSCALE:GREGORIAN
METHOD:PUBLISH
BEGIN:VEVENT
UID:e0f9d1b8af3d93218f2ef1d8c81cd90d
CATEGORIES:Polar Conferences, Meetings and Events
CREATED:20220516T081224
SUMMARY:OGGM - PyGEM Global Glacier Modeling Workshop 2022
LOCATION:Finse\, Norway
DESCRIPTION:The workshop is the sixth in a series that has brought together the communi
 ty of users and developers of the Open Global Glacier Model (OGGM (https://
 oggm.org/)). This year’s workshop is organized jointly with the Python Glac
 ier Evolution Model (<a href="https://github.com/drounce/PyGEM" target="_bl
 ank" rel="noopener" data-saferedirecturl="https://www.google.com/url?q=http
 s://github.com/drounce/PyGEM&amp;source=gmail&amp;ust=1652773648082000&amp;
 usg=AOvVaw2G8haBarqOWYNccSFZWo31">PyGEM</a>) community. It is open to anybo
 dy interested in global glacier modeling with a focus on active developers 
 and users of OGGM or PyGEM.\nThe primary goal is to discuss the challenges 
 and solutions in modeling glaciers on regional/global scales, to learn from
  each other, and to develop ideas and visions for the advancement of such m
 odels. The workshop will include scientific presentations, hands-on coding 
 sessions, discussion/brainstorming sessions, and (weather permitting) a hik
 e to a nearby glacier.\nPlease find more information here (https://oggm.org
 /2022/05/09/6th-workshop-announcement).\n
X-ALT-DESC;FMTTYPE=text/html:<p>The workshop is the sixth&nbsp;in a series that has brought together the
  community of users and developers of the Open Global Glacier Model (<a hre
 f="https://oggm.org/" target="_blank" rel="noopener" data-saferedirecturl="
 https://www.google.com/url?q=https://oggm.org/&amp;source=gmail&amp;ust=165
 2773648082000&amp;usg=AOvVaw0LkfRT3nbJIrYR_JoubcK_">OGGM</a>). This year’s 
 workshop is organized jointly with the Python Glacier Evolution Model (<a h
 ref="https://github.com/drounce/PyGEM" target="_blank" rel="noopener" data-
 saferedirecturl="https://www.google.com/url?q=https://github.com/drounce/Py
 GEM&amp;source=gmail&amp;ust=1652773648082000&amp;usg=AOvVaw2G8haBarqOWYNcc
 SFZWo31">PyGEM</a>) community. It is open to anybody interested in global g
 lacier modeling with a focus on active developers and users of OGGM or PyGE
 M.</p><p>The primary goal is to discuss the challenges and solutions in mod
 eling glaciers on regional/global scales, to learn from each other, and to 
 develop ideas and visions for the advancement of such models. The workshop 
 will include scientific presentations, hands-on coding sessions, discussion
 /brainstorming sessions, and (weather permitting) a hike to a nearby glacie
 r.</p><p>Please find more information&nbsp;<a href="https://oggm.org/2022/0
 5/09/6th-workshop-announcement" target="_blank" rel="noopener" data-safered
 irecturl="https://www.google.com/url?q=https://oggm.org/2022/05/09/6th-work
 shop-announcement&amp;source=gmail&amp;ust=1652773648082000&amp;usg=AOvVaw2
 aOXrm0pCioRFRaB3X3UYk">here</a>.</p>
DTSTAMP:20260423T040848Z
DTSTART;TZID=UTC;VALUE=DATE:20220916
DTEND;TZID=UTC;VALUE=DATE:20220922
SEQUENCE:0
TRANSP:OPAQUE
END:VEVENT
END:VCALENDAR