BEGIN:VCALENDAR
VERSION:2.0
PRODID:-//jEvents 2.0 for Joomla//EN
CALSCALE:GREGORIAN
METHOD:PUBLISH
BEGIN:VEVENT
UID:f8be9f4d6d7dcff0e2c351cf403e361d
CATEGORIES:Polar Conferences, Meetings and Events
CREATED:20220419T162145
SUMMARY:EMS2022 (European Meteorological Society annual meeting)
LOCATION:Bonn\, Germany
DESCRIPTION:The EMS2022 (https://www.ems2022.eu/home.html) is planned to be held as an 
 in-person meeting at the Poppelsdorf Campus of the University of Bonn, from
  4 to 9 September 2022. The conference will have an online component. For o
 nsite participation we will follow the then-valid regulations on travelling
  and access to large events and will update details here in due time. Natur
 ally, many details will still need to be discussed and decided, and technic
 al issues investigated. Some preliminary information on the hybrid format f
 or the session programme we aim at is provided on <a href="https://www.ems2
 022.eu/about/ems2022_format.html" target="_blank" rel="noopener">this page.
 </a>\nThe call for abstracts is now open. The deadline for submitting abstr
 acts is 26 April 2022.\n
X-ALT-DESC;FMTTYPE=text/html:<div id="cmsbox_131736" class="cmsbox"><p>The <a href="https://www.ems2022.
 eu/home.html" target="_blank" rel="noopener">EMS2022</a> is planned to be h
 eld as an in-person meeting at the Poppelsdorf Campus of the University of 
 Bonn, from 4 to 9 September 2022. The conference will have an online compon
 ent. For onsite participation we will follow the then-valid regulations on 
 travelling and access to large events and will update details here in due t
 ime. Naturally, many details will still need to be discussed and decided, a
 nd technical issues investigated. Some preliminary information on the hybri
 d format for the session programme we aim at is provided on&nbsp;<a href="h
 ttps://www.ems2022.eu/about/ems2022_format.html" target="_blank" rel="noope
 ner">this page.</a></p></div><div id="cmsbox_131844" class="cmsbox"><p>The 
 <strong>call for abstracts</strong> is now open. The deadline for submittin
 g abstracts is&nbsp;<strong>26 April 2022</strong>.</p></div>
DTSTAMP:20260423T035809Z
DTSTART;TZID=UTC;VALUE=DATE:20220904
DTEND;TZID=UTC;VALUE=DATE:20220910
SEQUENCE:0
TRANSP:OPAQUE
END:VEVENT
END:VCALENDAR