BEGIN:VCALENDAR
VERSION:2.0
PRODID:-//jEvents 2.0 for Joomla//EN
CALSCALE:GREGORIAN
METHOD:PUBLISH
BEGIN:VEVENT
UID:40275d7b1804cff2da320c38ffd0f78c
CATEGORIES:Polar Conferences, Meetings and Events
CREATED:20220321T112741
SUMMARY:51st International Arctic Workshop
LOCATION:Longyearbyen\, Svalbard\, Norway
DESCRIPTION:The 51st International Arctic Workshop – an interdisciplinary conference fo
 cusing on Arctic Quaternary geology, palaeoceanography, palaeoglaciology, c
 limatology, palaeoecology, geomorphology and related disciplines and with a
  strong student emphasis – will be held this year at the Svalbard Science C
 entre in Longyearbyen, Svalbard, Norway from the evening of June 19th to Th
 ursday June 23rd 2022 and with an optional two-day field excursion in Isfjo
 rden on Friday June 24th and Saturday June 25th.\nRegistration is now live 
 at the website (https://www.aw2022.org) with a deadline for registration an
 d abstract submission on May 16th 2022.\nThe conference includes a Sunday e
 vening reception at the Svalbard Museum, oral and poster sessions at UNIS, 
 a mid-conference excursion to local Quaternary sites, and a conference banq
 uet. For masters and PhD students there is an additional student night even
 t, prizes for best talk and poster, and an optional digital field technolog
 ies workshop (funded by iEarth). In addition, on June 24th and 25th there i
 s an optional post-conference excursion by fast open boat, visiting importa
 nt Quaternary locations in Isfjorden, Billefjorden, and Eckmanfjorden such 
 as Coraholmen and Kapp Ekholm.\nProfessional registration for the Arctic Wo
 rkshop costs 3000 NOK (Norwegian Kroner), student (masters and PhD) registr
 ation costs 1500 NOK, and the post-conference field excursion costs 2000 NO
 K.\nStudents are also eligible for a 3000 NOK travel/accommodation support 
 bursary on a first-come-first-served basis, funded by the Svalbard Science 
 Forum, and applied for during registration. \nIt is high seasons in June an
 d accommodation and flights will have limited availability. Please book soo
 n. Discounted flights are available to those under 26 years of age. A limit
 ed amount of discounted accommodation is also available through the <a href
 ="https://www.aw2022.org" target="_blank" rel="noopener">website </a>and du
 ring registration.\nThe 51st International Arctic Workshop is organised by 
 the University Centre in Svalbard - UNIS, the Norwegian Polar Institute, th
 e Svalbard Museum, and the Svalbard Integrated Arctic Earth Observing Syste
 m. \nFor more information, please visit the 51st Arctic Workshop website (h
 ttps://www.aw2022.org) and/or email <a href="mailto:organization@aw2022.org
 " target="_blank"> </a>This email address is being protected from spambots.
  You need JavaScript enabled to view it.
				document.getElementById('cloak
 c632c5fb3b18780b710b1039587a6dd1').innerHTML = '';
				var prefix = '&#109;
 a' + 'i&#108;' + '&#116;o';
				var path = 'hr' + 'ef' + '=';
				var addyc
 632c5fb3b18780b710b1039587a6dd1 = '&#111;rg&#97;n&#105;z&#97;t&#105;&#111;n
 ' + '&#64;';
				addyc632c5fb3b18780b710b1039587a6dd1 = addyc632c5fb3b18780
 b710b1039587a6dd1 + '&#97;w2022' + '&#46;' + '&#111;rg';
				var addy_textc
 632c5fb3b18780b710b1039587a6dd1 = '&#111;rg&#97;n&#105;z&#97;t&#105;&#111;n
 [&#97;t]&#97;w2022.&#111;rg';document.getElementById('cloakc632c5fb3b18780b
 710b1039587a6dd1').innerHTML += '<a ' + path + '\'' + prefix + ':' + addyc6
 32c5fb3b18780b710b1039587a6dd1 + '\'>'+addy_textc632c5fb3b18780b710b1039587
 a6dd1+'';
		.\n
X-ALT-DESC;FMTTYPE=text/html:<p><span lang="EN-US">The <strong>51<sup>st</sup> International Arctic Work
 shop </strong>– an interdisciplinary conference focusing on Arctic Quaterna
 ry geology, palaeoceanography, palaeoglaciology, climatology, palaeoecology
 , geomorphology and related disciplines and with a strong student emphasis 
 – will be held this year at the <strong>Svalbard Science Centre in Longyear
 byen, Svalbard</strong>, Norway from the evening of <strong>June 19<sup>th<
 /sup> to Thursday June 23<sup>rd</sup></strong> 2022 and with an optional t
 wo-day field excursion in Isfjorden on Friday June 24<sup>th</sup> and Satu
 rday June 25<sup>th</sup>.</span></p><p><span lang="EN-US">Registration is 
 now live at the <a href="https://www.aw2022.org" target="_blank" rel="noope
 ner">website</a> with a deadline for registration and abstract submission o
 n May 16<sup>th</sup> 2022.</span></p><p><span lang="EN-US">The conference 
 includes a Sunday evening reception at the Svalbard Museum, oral and poster
  sessions at UNIS, a mid-conference excursion to local Quaternary sites, an
 d a conference banquet. For masters and PhD students there is an additional
  student night event, prizes for best talk and poster, and an optional digi
 tal field technologies workshop (funded by iEarth). In addition, on June 24
 <sup>th</sup> and 25<sup>th</sup> there is an optional post-conference excu
 rsion by fast open boat, visiting important Quaternary locations in Isfjord
 en, Billefjorden, and Eckmanfjorden such as Coraholmen and Kapp Ekholm.</sp
 an></p><p><span lang="EN-US">Professional registration for the Arctic Works
 hop costs 3000 NOK (Norwegian Kroner), student (masters and PhD) registrati
 on costs 1500 NOK, and the post-conference field excursion costs 2000 NOK.<
 /span></p><p><span lang="EN-US">Students are also eligible for a 3000 NOK t
 ravel/accommodation support bursary on a first-come-first-served basis, fun
 ded by the Svalbard Science Forum, and applied for during registration. </s
 pan></p><p><span lang="EN-US">It is high seasons in June and accommodation 
 and flights will have limited availability. Please book soon. Discounted fl
 ights are available to those under 26 years of age. A limited amount of dis
 counted accommodation is also available through the <a href="https://www.aw
 2022.org" target="_blank" rel="noopener">website </a>and during registratio
 n.</span></p><p><span lang="EN-US">The 51<sup>st</sup> International Arctic
  Workshop is organised by the University Centre in Svalbard - UNIS, the Nor
 wegian Polar Institute, the Svalbard Museum, and the Svalbard Integrated Ar
 ctic Earth Observing System. </span></p><p><span lang="EN-US">For more info
 rmation, please visit the <a href="https://www.aw2022.org" target="_blank" 
 rel="noopener">51<sup>st</sup> Arctic Workshop website</a> and/or email <a 
 href="mailto:organization@aw2022.org" target="_blank"> </a><span id="cloakc
 632c5fb3b18780b710b1039587a6dd1">This email address is being protected from
  spambots. You need JavaScript enabled to view it.</span><script type='text
 /javascript'>
				document.getElementById('cloakc632c5fb3b18780b710b1039587
 a6dd1').innerHTML = '';
				var prefix = '&#109;a' + 'i&#108;' + '&#116;o';
 
				var path = 'hr' + 'ef' + '=';
				var addyc632c5fb3b18780b710b1039587a
 6dd1 = '&#111;rg&#97;n&#105;z&#97;t&#105;&#111;n' + '&#64;';
				addyc632c5
 fb3b18780b710b1039587a6dd1 = addyc632c5fb3b18780b710b1039587a6dd1 + '&#97;w
 2022' + '&#46;' + '&#111;rg';
				var addy_textc632c5fb3b18780b710b1039587a
 6dd1 = '&#111;rg&#97;n&#105;z&#97;t&#105;&#111;n[&#97;t]&#97;w2022.&#111;rg
 ';document.getElementById('cloakc632c5fb3b18780b710b1039587a6dd1').innerHTM
 L += '<a ' + path + '\'' + prefix + ':' + addyc632c5fb3b18780b710b1039587a6
 dd1 + '\'>'+addy_textc632c5fb3b18780b710b1039587a6dd1+'<\/a>';
		</script>.
 </span></p>
DTSTAMP:20260423T175801Z
DTSTART;TZID=UTC;VALUE=DATE:20220619
DTEND;TZID=UTC;VALUE=DATE:20220624
SEQUENCE:0
TRANSP:OPAQUE
END:VEVENT
END:VCALENDAR