BEGIN:VCALENDAR
VERSION:2.0
PRODID:-//jEvents 2.0 for Joomla//EN
CALSCALE:GREGORIAN
METHOD:PUBLISH
BEGIN:VEVENT
UID:e81992381429f13901eaf9ecfe0c397f
CATEGORIES:Polar Conferences, Meetings and Events
CREATED:20170213T090211
SUMMARY:Change, conformity and practices of resistance in the “cold world”
LOCATION:Berlin
DESCRIPTION:We would like to invite you to submit an abstract (by 15th of February) for
  the workshop of the DGV-RG Circumpolar Regions and Siberia at the Conferen
 ce of the German Association of Anthropologists in Berlin 4-7th of October 
 2017.\n\nChange, conformity and practices of resistance in the “cold world”
 \n(workshop in English language)\nArctic and subarctic societies have been 
 going through fundamental social and cultural transformations throughout th
 e last centuries. Colonialism, state encroachment, new spatial orders, econ
 omic development and imported technologies heavily affected circumpolar soc
 ieties, but similarly created opportunities for alternate forms of belongin
 g and identity. Cultural change produced a diversity of novel everyday prac
 tices that enmeshed indigenous as well as non-indigenous (newcomers) people
  of the North in trans-regional and international networks.\n\nThis worksho
 p invites to think about historic and contemporary cases, where socio-econo
 mic, infrastructural and cultural transformations evoked multiple forms of 
 belonging in the interconnected and complex landscape of collective politic
 al and cultural identities. We aim to provide a thematically broad insight 
 into the social realities of circumpolar societies, to theoretically addres
 s trans-regional commonalities and differences in the North.\n\nPossible to
 pics include, but are not limited to: colonial legacy, regional development
 , infrastructural change, informal networks, gender, art and cultural revit
 alization, indigenous and industrial economies, human-environment interacti
 on, multiple identities, and global interconnections.\nKeynote: Piers Viteb
 sky\nhttps://dgv-zirkumpolar-sibirien.jimdo.com/dgv-tagung-2017/\nAbstract 
 max 1200 characters (incl) PLUS short abstract max 300 characters (incl) to
  the workshop organisers. Note that you can only have one paper at the conf
 erence. Deadline 15th of Feb. 2017\n \nSubmit your abstract to:\nGertrude S
 axinger, This email address is being protected from spambots. You need Java
 Script enabled to view it.
				document.getElementById('cloak267bd02ae47bc4
 d69f4bf948aa3da95a').innerHTML = '';
				var prefix = '&#109;a' + 'i&#108;'
  + '&#116;o';
				var path = 'hr' + 'ef' + '=';
				var addy267bd02ae47bc4d
 69f4bf948aa3da95a = 'G&#101;rtr&#117;d&#101;.S&#97;x&#105;ng&#101;r' + '&#6
 4;';
				addy267bd02ae47bc4d69f4bf948aa3da95a = addy267bd02ae47bc4d69f4bf94
 8aa3da95a + '&#117;n&#105;v&#105;&#101;' + '&#46;' + '&#97;c' + '&#46;' + '
 &#97;t';
				var addy_text267bd02ae47bc4d69f4bf948aa3da95a = 'G&#101;rtr&#1
 17;d&#101;.S&#97;x&#105;ng&#101;r' + '&#64;' + '&#117;n&#105;v&#105;&#101;'
  + '&#46;' + '&#97;c' + '&#46;' + '&#97;t';document.getElementById('cloak26
 7bd02ae47bc4d69f4bf948aa3da95a').innerHTML += '<a ' + path + '\'' + prefix 
 + ':' + addy267bd02ae47bc4d69f4bf948aa3da95a + '\'>'+addy_text267bd02ae47bc
 4d69f4bf948aa3da95a+'';
		 \nOtto Habeck, This email address is being prote
 cted from spambots. You need JavaScript enabled to view it.
				document.ge
 tElementById('cloak88c6e753c140e3234d7396921ded6baf').innerHTML = '';
				v
 ar prefix = '&#109;a' + 'i&#108;' + '&#116;o';
				var path = 'hr' + 'ef' +
  '=';
				var addy88c6e753c140e3234d7396921ded6baf = '&#111;tt&#111;.h&#97;
 b&#101;ck' + '&#64;';
				addy88c6e753c140e3234d7396921ded6baf = addy88c6e7
 53c140e3234d7396921ded6baf + '&#117;n&#105;-h&#97;mb&#117;rg' + '&#46;' + '
 d&#101;';
				var addy_text88c6e753c140e3234d7396921ded6baf = '&#111;tt&#11
 1;.h&#97;b&#101;ck' + '&#64;' + '&#117;n&#105;-h&#97;mb&#117;rg' + '&#46;' 
 + 'd&#101;';document.getElementById('cloak88c6e753c140e3234d7396921ded6baf'
 ).innerHTML += '<a ' + path + '\'' + prefix + ':' + addy88c6e753c140e3234d7
 396921ded6baf + '\'>'+addy_text88c6e753c140e3234d7396921ded6baf+'';
		 \nTo
 bias Holzlehner, This email address is being protected from spambots. You n
 eed JavaScript enabled to view it.
				document.getElementById('cloak51563c
 5f2ce6ea03c40cb48749841e75').innerHTML = '';
				var prefix = '&#109;a' + '
 i&#108;' + '&#116;o';
				var path = 'hr' + 'ef' + '=';
				var addy51563c5
 f2ce6ea03c40cb48749841e75 = 't&#111;b&#105;&#97;s.h&#111;lzl&#101;hn&#101;r
 ' + '&#64;';
				addy51563c5f2ce6ea03c40cb48749841e75 = addy51563c5f2ce6ea0
 3c40cb48749841e75 + '&#101;thn&#111;l&#111;g&#105;&#101;' + '&#46;' + '&#11
 7;n&#105;-h&#97;ll&#101;' + '&#46;' + 'd&#101;';
				var addy_text51563c5f2
 ce6ea03c40cb48749841e75 = 't&#111;b&#105;&#97;s.h&#111;lzl&#101;hn&#101;r' 
 + '&#64;' + '&#101;thn&#111;l&#111;g&#105;&#101;' + '&#46;' + '&#117;n&#105
 ;-h&#97;ll&#101;' + '&#46;' + 'd&#101;';document.getElementById('cloak51563
 c5f2ce6ea03c40cb48749841e75').innerHTML += '<a ' + path + '\'' + prefix + '
 :' + addy51563c5f2ce6ea03c40cb48749841e75 + '\'>'+addy_text51563c5f2ce6ea03
 c40cb48749841e75+'';
		 \nVerena Traeger, This email address is being prote
 cted from spambots. You need JavaScript enabled to view it.
				document.ge
 tElementById('cloak09a2fa2b141d222392e1a55505947270').innerHTML = '';
				v
 ar prefix = '&#109;a' + 'i&#108;' + '&#116;o';
				var path = 'hr' + 'ef' +
  '=';
				var addy09a2fa2b141d222392e1a55505947270 = 'V&#101;r&#101;n&#97;.
 Tr&#97;&#101;g&#101;r' + '&#64;';
				addy09a2fa2b141d222392e1a55505947270 
 = addy09a2fa2b141d222392e1a55505947270 + '&#117;n&#105;v&#105;&#101;' + '&#
 46;' + '&#97;c' + '&#46;' + '&#97;t';
				var addy_text09a2fa2b141d222392e1
 a55505947270 = 'V&#101;r&#101;n&#97;.Tr&#97;&#101;g&#101;r' + '&#64;' + '&#
 117;n&#105;v&#105;&#101;' + '&#46;' + '&#97;c' + '&#46;' + '&#97;t';documen
 t.getElementById('cloak09a2fa2b141d222392e1a55505947270').innerHTML += '<a 
 ' + path + '\'' + prefix + ':' + addy09a2fa2b141d222392e1a55505947270 + '\'
 >'+addy_text09a2fa2b141d222392e1a55505947270+'';
		\n \n
X-ALT-DESC;FMTTYPE=text/html:<p style="text-align: justify;">We would like to invite you to submit an ab
 stract (<strong>by 15th of February</strong>) for <strong>the workshop of t
 he DGV-RG Circumpolar Regions and Siberia at the Conference of the German A
 ssociation of Anthropologists in Berlin 4-7th of October 2017.<br /></stron
 g></p><p style="text-align: justify;"><strong>Change, conformity and practi
 ces of resistance in the “cold world”</strong><br /><strong>(workshop in En
 glish language)</strong></p><p style="text-align: justify;">Arctic and suba
 rctic societies have been going through fundamental social and cultural tra
 nsformations throughout the last centuries. Colonialism, state encroachment
 , new spatial orders, economic development and imported technologies heavil
 y affected circumpolar societies, but similarly created opportunities for a
 lternate forms of belonging and identity. Cultural change produced a divers
 ity of novel everyday practices that enmeshed indigenous as well as non-ind
 igenous (newcomers) people of the North in trans-regional and international
  networks.</p><p style="text-align: justify;"><br />This workshop invites t
 o think about historic and contemporary cases, where socio-economic, infras
 tructural and cultural transformations evoked multiple forms of belonging i
 n the interconnected and complex landscape of collective political and cult
 ural identities. We aim to provide a thematically broad insight into the so
 cial realities of circumpolar societies, to theoretically address trans-reg
 ional commonalities and differences in the North.</p><p style="text-align: 
 justify;"><br /><strong>Possible topics include, but are not limited to:</s
 trong> colonial legacy, regional development, infrastructural change, infor
 mal networks, gender, art and cultural revitalization, indigenous and indus
 trial economies, human-environment interaction, multiple identities, and gl
 obal interconnections.</p><p style="text-align: justify;"><strong>Keynote: 
 Piers Vitebsky</strong></p><p style="text-align: justify;"><a href="https:/
 /dgv-zirkumpolar-sibirien.jimdo.com/dgv-tagung-2017/">https://dgv-zirkumpol
 ar-sibirien.jimdo.com/dgv-tagung-2017/</a></p><p style="text-align: justify
 ;">Abstract max 1200 characters (incl) PLUS short abstract max 300 characte
 rs (incl) to the workshop organisers. Note that you can only have one paper
  at the conference.<strong> Deadline 15th of Feb. 2017</strong></p><p> </p>
 <p style="text-align: justify;"><strong>Submit your abstract to:</strong><b
 r />Gertrude Saxinger, <span id="cloak267bd02ae47bc4d69f4bf948aa3da95a">Thi
 s email address is being protected from spambots. You need JavaScript enabl
 ed to view it.</span><script type='text/javascript'>
				document.getElemen
 tById('cloak267bd02ae47bc4d69f4bf948aa3da95a').innerHTML = '';
				var pref
 ix = '&#109;a' + 'i&#108;' + '&#116;o';
				var path = 'hr' + 'ef' + '=';
	
 			var addy267bd02ae47bc4d69f4bf948aa3da95a = 'G&#101;rtr&#117;d&#101;.S&#9
 7;x&#105;ng&#101;r' + '&#64;';
				addy267bd02ae47bc4d69f4bf948aa3da95a = a
 ddy267bd02ae47bc4d69f4bf948aa3da95a + '&#117;n&#105;v&#105;&#101;' + '&#46;
 ' + '&#97;c' + '&#46;' + '&#97;t';
				var addy_text267bd02ae47bc4d69f4bf94
 8aa3da95a = 'G&#101;rtr&#117;d&#101;.S&#97;x&#105;ng&#101;r' + '&#64;' + '&
 #117;n&#105;v&#105;&#101;' + '&#46;' + '&#97;c' + '&#46;' + '&#97;t';docume
 nt.getElementById('cloak267bd02ae47bc4d69f4bf948aa3da95a').innerHTML += '<a
  ' + path + '\'' + prefix + ':' + addy267bd02ae47bc4d69f4bf948aa3da95a + '\
 '>'+addy_text267bd02ae47bc4d69f4bf948aa3da95a+'<\/a>';
		</script> <br />Ot
 to Habeck, <span id="cloak88c6e753c140e3234d7396921ded6baf">This email addr
 ess is being protected from spambots. You need JavaScript enabled to view i
 t.</span><script type='text/javascript'>
				document.getElementById('cloak
 88c6e753c140e3234d7396921ded6baf').innerHTML = '';
				var prefix = '&#109;
 a' + 'i&#108;' + '&#116;o';
				var path = 'hr' + 'ef' + '=';
				var addy8
 8c6e753c140e3234d7396921ded6baf = '&#111;tt&#111;.h&#97;b&#101;ck' + '&#64;
 ';
				addy88c6e753c140e3234d7396921ded6baf = addy88c6e753c140e3234d7396921
 ded6baf + '&#117;n&#105;-h&#97;mb&#117;rg' + '&#46;' + 'd&#101;';
				var a
 ddy_text88c6e753c140e3234d7396921ded6baf = '&#111;tt&#111;.h&#97;b&#101;ck'
  + '&#64;' + '&#117;n&#105;-h&#97;mb&#117;rg' + '&#46;' + 'd&#101;';documen
 t.getElementById('cloak88c6e753c140e3234d7396921ded6baf').innerHTML += '<a 
 ' + path + '\'' + prefix + ':' + addy88c6e753c140e3234d7396921ded6baf + '\'
 >'+addy_text88c6e753c140e3234d7396921ded6baf+'<\/a>';
		</script> <br />Tob
 ias Holzlehner, <span id="cloak51563c5f2ce6ea03c40cb48749841e75">This email
  address is being protected from spambots. You need JavaScript enabled to v
 iew it.</span><script type='text/javascript'>
				document.getElementById('
 cloak51563c5f2ce6ea03c40cb48749841e75').innerHTML = '';
				var prefix = '&
 #109;a' + 'i&#108;' + '&#116;o';
				var path = 'hr' + 'ef' + '=';
				var 
 addy51563c5f2ce6ea03c40cb48749841e75 = 't&#111;b&#105;&#97;s.h&#111;lzl&#10
 1;hn&#101;r' + '&#64;';
				addy51563c5f2ce6ea03c40cb48749841e75 = addy5156
 3c5f2ce6ea03c40cb48749841e75 + '&#101;thn&#111;l&#111;g&#105;&#101;' + '&#4
 6;' + '&#117;n&#105;-h&#97;ll&#101;' + '&#46;' + 'd&#101;';
				var addy_te
 xt51563c5f2ce6ea03c40cb48749841e75 = 't&#111;b&#105;&#97;s.h&#111;lzl&#101;
 hn&#101;r' + '&#64;' + '&#101;thn&#111;l&#111;g&#105;&#101;' + '&#46;' + '&
 #117;n&#105;-h&#97;ll&#101;' + '&#46;' + 'd&#101;';document.getElementById(
 'cloak51563c5f2ce6ea03c40cb48749841e75').innerHTML += '<a ' + path + '\'' +
  prefix + ':' + addy51563c5f2ce6ea03c40cb48749841e75 + '\'>'+addy_text51563
 c5f2ce6ea03c40cb48749841e75+'<\/a>';
		</script> <br />Verena Traeger, <spa
 n id="cloak09a2fa2b141d222392e1a55505947270">This email address is being pr
 otected from spambots. You need JavaScript enabled to view it.</span><scrip
 t type='text/javascript'>
				document.getElementById('cloak09a2fa2b141d222
 392e1a55505947270').innerHTML = '';
				var prefix = '&#109;a' + 'i&#108;' 
 + '&#116;o';
				var path = 'hr' + 'ef' + '=';
				var addy09a2fa2b141d2223
 92e1a55505947270 = 'V&#101;r&#101;n&#97;.Tr&#97;&#101;g&#101;r' + '&#64;';

 				addy09a2fa2b141d222392e1a55505947270 = addy09a2fa2b141d222392e1a5550594
 7270 + '&#117;n&#105;v&#105;&#101;' + '&#46;' + '&#97;c' + '&#46;' + '&#97;
 t';
				var addy_text09a2fa2b141d222392e1a55505947270 = 'V&#101;r&#101;n&#9
 7;.Tr&#97;&#101;g&#101;r' + '&#64;' + '&#117;n&#105;v&#105;&#101;' + '&#46;
 ' + '&#97;c' + '&#46;' + '&#97;t';document.getElementById('cloak09a2fa2b141
 d222392e1a55505947270').innerHTML += '<a ' + path + '\'' + prefix + ':' + a
 ddy09a2fa2b141d222392e1a55505947270 + '\'>'+addy_text09a2fa2b141d222392e1a5
 5505947270+'<\/a>';
		</script></p><p style="text-align: justify;"> </p>
CONTACT:dgv-zirkumpolar-sibirien.jimdo.com
DTSTAMP:20260424T073403Z
DTSTART;TZID=UTC;VALUE=DATE:20171004
DTEND;TZID=UTC;VALUE=DATE:20171008
SEQUENCE:0
TRANSP:OPAQUE
END:VEVENT
END:VCALENDAR