BEGIN:VCALENDAR
VERSION:2.0
PRODID:-//jEvents 2.0 for Joomla//EN
CALSCALE:GREGORIAN
METHOD:PUBLISH
BEGIN:VEVENT
UID:c8803b6b9d203301365f0f6054742950
CATEGORIES:Polar Conferences, Meetings and Events
CREATED:20220304T111222
SUMMARY:3rd IPICS Open Science Conference - call for abstracts
LOCATION:Crans-Montana\, Switzerland
DESCRIPTION:3rd IPICS Open Science Conference\nIce Core Science at the three Poles\n (h
 ttps://indico.psi.ch/event/6697/)<a href="https://indico.psi.ch/event/6697/
 " target="_blank" rel="noopener">https://indico.psi.ch/event/6697/</a>\n2-7
  October 2022 in Crans-Montana, Switzerland\nAbstract submission, registrat
 ion, and travel support application is open since January 1st, 2022. Deadli
 ne for abstract submission is April, 30th, 2022.\n
X-ALT-DESC;FMTTYPE=text/html:<p class="m_5685445229137650198MsoPlainText"><strong><span lang="EN-US">3rd
  IPICS Open Science Conference<span style="text-decoration: underline;"></s
 pan><span style="text-decoration: underline;"></span></span></strong></p><p
  class="m_5685445229137650198MsoPlainText"><span lang="EN-US">Ice Core Scie
 nce at the three Poles<span style="text-decoration: underline;"></span><spa
 n style="text-decoration: underline;"></span></span></p><p class="m_5685445
 229137650198MsoPlainText"><a href="https://indico.psi.ch/event/6697/" targe
 t="_blank" rel="noopener" data-saferedirecturl="https://www.google.com/url?
 q=https://indico.psi.ch/event/6697/&amp;source=gmail&amp;ust=16464748046050
 00&amp;usg=AOvVaw0sMQFv2R9SR4WIh-9rFnQN"></a><a href="https://indico.psi.ch
 /event/6697/" target="_blank" rel="noopener">https://indico.psi.ch/event/66
 97/</a><span lang="EN-US"><span style="text-decoration: underline;"></span>
 <span style="text-decoration: underline;"></span></span></p><p class="m_568
 5445229137650198MsoPlainText"><strong><span lang="EN-US">2-7 October 2022 i
 n Crans-Montana, Switzerland<span style="text-decoration: underline;"></spa
 n><span style="text-decoration: underline;"></span></span></strong></p><p c
 lass="m_5685445229137650198MsoPlainText"><span lang="EN-US">Abstract submis
 sion, registration, and travel support application is open since January 1s
 t, 2022. Deadline for abstract submission is <strong>April, 30th</strong>, 
 2022.</span></p>
DTSTAMP:20260423T225910Z
DTSTART;TZID=UTC;VALUE=DATE:20221002
DTEND;TZID=UTC;VALUE=DATE:20221008
SEQUENCE:0
TRANSP:OPAQUE
END:VEVENT
END:VCALENDAR