BEGIN:VCALENDAR
VERSION:2.0
PRODID:-//jEvents 2.0 for Joomla//EN
CALSCALE:GREGORIAN
METHOD:PUBLISH
BEGIN:VEVENT
UID:d980ee24dc8ee3a74a6a61faa2045632
CATEGORIES:Polar Online Events
CREATED:20220221T142209
SUMMARY:10th SCAR Open Science Conference: Call for Abstracts and First Circular
LOCATION:Online
DESCRIPTION:Submit your Abstract to the 10th SCAR Open Science ConferenceWe are delight
 ed to announce that the abstract submission for the 10th SCAR Open Science 
 Conference (1-10 August 2022) is now open.\nAbstracts can be submitted elec
 tronically via the Abstract Submission Portal in English on the . There is 
 no abstract submission fee. Before entering your abstract, you will be aske
 d to choose a session. Take a look at the <a href="https://scar.us7.list-ma
 nage.com/track/click?u=a611f6f7c375923d8563a8821&amp;id=df8cbcd431&amp;e=06
 4f3761be" target="_blank" rel="noopener" data-saferedirecturl="https://www.
 google.com/url?q=https://scar.us7.list-manage.com/track/click?u%3Da611f6f7c
 375923d8563a8821%26id%3Ddf8cbcd431%26e%3D064f3761be&amp;source=gmail&amp;us
 t=1645521649595000&amp;usg=AOvVaw1OjLSp410vj0hJ1943Xn_K">full list of propo
 sed parallel sessions</a> to find the best match. Make sure to read the  be
 fore starting the submission process.\n The abstract submission deadline is
  1st June 2022.\nThe theme of the 10th SCAR Open Science Conference confere
 nce is "Antarctica in a Changing World". The conference will be held online
 .\n The National Centre for Polar and Ocean Research (NCPOR), an autonomous
  organization under the Ministry of Earth Sciences (MoES), Government of In
 dia, is hosting the SCAR Open Science Conference 2022. The 10th SCAR Open S
 cience Conference will feature a comprehensive schedule of meetings, sympos
 ia, virtual side events and social activities, daily plenary lectures and p
 oster sessions in an innovative online format.First CircularThe <a href="ht
 tps://scar.us7.list-manage.com/track/click?u=a611f6f7c375923d8563a8821&amp;
 id=e95871696c&amp;e=064f3761be" target="_blank" rel="noopener" data-safered
 irecturl="https://www.google.com/url?q=https://scar.us7.list-manage.com/tra
 ck/click?u%3Da611f6f7c375923d8563a8821%26id%3De95871696c%26e%3D064f3761be&a
 mp;source=gmail&amp;ust=1645521649595000&amp;usg=AOvVaw0FoW0KL9xZdVxwWl_Bg0
 v7">First Circular</a> for the 10th SCAR Open Science Conference is now ava
 ilable. The circular outlines some key pieces of information about conferen
 ce, including the opening of the  and more details on the content and progr
 am for the meetings. \n \nProgram overview and important dates15st February
  2022 - Abstract submission opens\n 1st June 2022 - Abstract submission clo
 ses\n 2nd June 2022 - Registration opens\n 27-29 July 2022 - SCAR Business 
 Meeting (online)\n 1st - 10th August 2022 - SCAR Open Science Conference (o
 nline)\n 5-7 September 2022 - SCAR Delegates Meeting (in-person with limite
 d online facilitation of reporting)\nPlease get in touch with us at This em
 ail address is being protected from spambots. You need JavaScript enabled t
 o view it.
				document.getElementById('cloakec9305d9f989e6c870d12504627d37
 dd').innerHTML = '';
				var prefix = '&#109;a' + 'i&#108;' + '&#116;o';
		
 		var path = 'hr' + 'ef' + '=';
				var addyec9305d9f989e6c870d12504627d37d
 d = '&#105;nf&#111;' + '&#64;';
				addyec9305d9f989e6c870d12504627d37dd = 
 addyec9305d9f989e6c870d12504627d37dd + 'sc&#97;r' + '&#46;' + '&#111;rg';
	
 			var addy_textec9305d9f989e6c870d12504627d37dd = '&#105;nf&#111;[&#97;t]s
 c&#97;r.&#111;rg';document.getElementById('cloakec9305d9f989e6c870d12504627
 d37dd').innerHTML += '<a ' + path + '\'' + prefix + ':' + addyec9305d9f989e
 6c870d12504627d37dd + '\'>'+addy_textec9305d9f989e6c870d12504627d37dd+'';
	
 	 for any questions on the Scientific Programme.\n For technical question p
 lease email This email address is being protected from spambots. You need J
 avaScript enabled to view it.
				document.getElementById('cloaka3183d46519
 348d747a677c07544677c').innerHTML = '';
				var prefix = '&#109;a' + 'i&#10
 8;' + '&#116;o';
				var path = 'hr' + 'ef' + '=';
				var addya3183d465193
 48d747a677c07544677c = 'sc&#97;r2022' + '&#64;';
				addya3183d46519348d747
 a677c07544677c = addya3183d46519348d747a677c07544677c + '&#101;lb&#111;nm&#
 101;&#101;t&#105;ngs' + '&#46;' + 'c&#111;m';
				var addy_texta3183d465193
 48d747a677c07544677c = 'sc&#97;r2022[&#97;t]&#101;lb&#111;nm&#101;&#101;t&#
 105;ngs.c&#111;m';document.getElementById('cloaka3183d46519348d747a677c0754
 4677c').innerHTML += '<a ' + path + '\'' + prefix + ':' + addya3183d4651934
 8d747a677c07544677c + '\'>'+addy_texta3183d46519348d747a677c07544677c+'';
	
 	.\n \n We look forward to seeing you at the 10th SCAR Open Science Confere
 nce!\n
X-ALT-DESC;FMTTYPE=text/html:<h3 style="text-align: justify;">Submit your Abstract to the 10th SCAR Open
  Science Conference</h3><p style="text-align: justify;">We are delighted to
  announce that the abstract submission for the&nbsp;<strong>10th SCAR Open 
 Science Conference</strong> <strong>(1-10 August 2022)</strong>&nbsp;is now
  open.</p><p style="text-align: justify;">Abstracts can be submitted electr
 onically via the Abstract Submission Portal in English on the <a href="http
 s://scar.us7.list-manage.com/track/click?u=a611f6f7c375923d8563a8821&amp;id
 =50d9bbc002&amp;e=064f3761be" target="_blank" rel="noopener" data-saferedir
 ecturl="https://www.google.com/url?q=https://scar.us7.list-manage.com/track
 /click?u%3Da611f6f7c375923d8563a8821%26id%3D50d9bbc002%26e%3D064f3761be&amp
 ;source=gmail&amp;ust=1645521649595000&amp;usg=AOvVaw38P2TQMcU1YVWiG2OzWI41
 ">SCAR 2022 Meetings website</a>. There is no abstract submission fee. Befo
 re entering your abstract, you will be asked to choose a session. Take a lo
 ok at the <a href="https://scar.us7.list-manage.com/track/click?u=a611f6f7c
 375923d8563a8821&amp;id=df8cbcd431&amp;e=064f3761be" target="_blank" rel="n
 oopener" data-saferedirecturl="https://www.google.com/url?q=https://scar.us
 7.list-manage.com/track/click?u%3Da611f6f7c375923d8563a8821%26id%3Ddf8cbcd4
 31%26e%3D064f3761be&amp;source=gmail&amp;ust=1645521649595000&amp;usg=AOvVa
 w1OjLSp410vj0hJ1943Xn_K">full list of proposed parallel sessions</a>&nbsp;t
 o find the best match. Make sure to read the <a href="https://scar.us7.list
 -manage.com/track/click?u=a611f6f7c375923d8563a8821&amp;id=25deb18ab7&amp;e
 =064f3761be" target="_blank" rel="noopener" data-saferedirecturl="https://w
 ww.google.com/url?q=https://scar.us7.list-manage.com/track/click?u%3Da611f6
 f7c375923d8563a8821%26id%3D25deb18ab7%26e%3D064f3761be&amp;source=gmail&amp
 ;ust=1645521649595000&amp;usg=AOvVaw05rk8rjuVVaG6ZD_vVrRN1">abstract submis
 sion instructions</a>&nbsp;before starting the submission process.<br /> Th
 e abstract submission deadline is <strong>1</strong><strong><sup>st</sup></
 strong><strong> June 2022.</strong></p><div style="text-align: justify;">Th
 e theme of the 10th SCAR Open Science Conference conference is "<strong>Ant
 arctica in a Changing World</strong>". The conference will be held online.<
 br /> The National Centre for Polar and Ocean Research (NCPOR), an autonomo
 us organization under the Ministry of Earth Sciences (MoES), Government of 
 India, is hosting the SCAR Open Science Conference 2022. The 10th SCAR Open
  Science Conference will feature a comprehensive schedule of meetings, symp
 osia, virtual side events and social activities, daily plenary lectures and
  poster sessions in an innovative online format.</div><h3 style="text-align
 : justify;"><strong>First Circular</strong></h3><p style="text-align: justi
 fy;">The <a href="https://scar.us7.list-manage.com/track/click?u=a611f6f7c3
 75923d8563a8821&amp;id=e95871696c&amp;e=064f3761be" target="_blank" rel="no
 opener" data-saferedirecturl="https://www.google.com/url?q=https://scar.us7
 .list-manage.com/track/click?u%3Da611f6f7c375923d8563a8821%26id%3De95871696
 c%26e%3D064f3761be&amp;source=gmail&amp;ust=1645521649595000&amp;usg=AOvVaw
 0FoW0KL9xZdVxwWl_Bg0v7">First Circular</a>&nbsp;for the&nbsp;10th SCAR Open
  Science Conference&nbsp;is now available. The circular outlines some key p
 ieces of information about conference, including the opening of the&nbsp;<a
  href="https://scar.us7.list-manage.com/track/click?u=a611f6f7c375923d8563a
 8821&amp;id=8350ed2547&amp;e=064f3761be" target="_blank" rel="noopener" dat
 a-saferedirecturl="https://www.google.com/url?q=https://scar.us7.list-manag
 e.com/track/click?u%3Da611f6f7c375923d8563a8821%26id%3D8350ed2547%26e%3D064
 f3761be&amp;source=gmail&amp;ust=1645521649595000&amp;usg=AOvVaw2N4HdjUp-Oq
 542LpTOHCF2">abstract submission system</a>&nbsp;and more details on the co
 ntent and program for the meetings.&nbsp;</p><p style="text-align: justify;
 ">&nbsp;</p><h3><strong>Program overview and important dates</strong></h3><
 p>15st February 2022 - Abstract submission opens<br /> 1st June 2022 - Abst
 ract submission closes<br /> 2nd June 2022 - Registration opens<br /> 27-29
  July 2022 - <strong>SCAR Business Meeting</strong> (online)<br /> 1st - 10
 th August 2022 - <strong>SCAR Open Science Conference</strong> (online)<br 
 /> 5-7 September 2022 - <strong>SCAR Delegates Meeting</strong> (in-person 
 with limited online facilitation of reporting)</p><p style="text-align: jus
 tify;">Please get in touch with us at <span id="cloakec9305d9f989e6c870d125
 04627d37dd">This email address is being protected from spambots. You need J
 avaScript enabled to view it.</span><script type='text/javascript'>
				doc
 ument.getElementById('cloakec9305d9f989e6c870d12504627d37dd').innerHTML = '
 ';
				var prefix = '&#109;a' + 'i&#108;' + '&#116;o';
				var path = 'hr' 
 + 'ef' + '=';
				var addyec9305d9f989e6c870d12504627d37dd = '&#105;nf&#111
 ;' + '&#64;';
				addyec9305d9f989e6c870d12504627d37dd = addyec9305d9f989e6
 c870d12504627d37dd + 'sc&#97;r' + '&#46;' + '&#111;rg';
				var addy_textec
 9305d9f989e6c870d12504627d37dd = '&#105;nf&#111;[&#97;t]sc&#97;r.&#111;rg';
 document.getElementById('cloakec9305d9f989e6c870d12504627d37dd').innerHTML 
 += '<a ' + path + '\'' + prefix + ':' + addyec9305d9f989e6c870d12504627d37d
 d + '\'>'+addy_textec9305d9f989e6c870d12504627d37dd+'<\/a>';
		</script> fo
 r any questions on the&nbsp;Scientific Programme.<br /> For technical quest
 ion please email&nbsp;<span id="cloaka3183d46519348d747a677c07544677c">This
  email address is being protected from spambots. You need JavaScript enable
 d to view it.</span><script type='text/javascript'>
				document.getElement
 ById('cloaka3183d46519348d747a677c07544677c').innerHTML = '';
				var prefi
 x = '&#109;a' + 'i&#108;' + '&#116;o';
				var path = 'hr' + 'ef' + '=';
		
 		var addya3183d46519348d747a677c07544677c = 'sc&#97;r2022' + '&#64;';
				
 addya3183d46519348d747a677c07544677c = addya3183d46519348d747a677c07544677c
  + '&#101;lb&#111;nm&#101;&#101;t&#105;ngs' + '&#46;' + 'c&#111;m';
				var
  addy_texta3183d46519348d747a677c07544677c = 'sc&#97;r2022[&#97;t]&#101;lb&
 #111;nm&#101;&#101;t&#105;ngs.c&#111;m';document.getElementById('cloaka3183
 d46519348d747a677c07544677c').innerHTML += '<a ' + path + '\'' + prefix + '
 :' + addya3183d46519348d747a677c07544677c + '\'>'+addy_texta3183d46519348d7
 47a677c07544677c+'<\/a>';
		</script>.<br /> <br /> We look forward to seei
 ng you at the&nbsp;10th SCAR Open Science Conference!</p>
DTSTAMP:20260423T003827Z
DTSTART;TZID=UTC;VALUE=DATE:20220801
DTEND;TZID=UTC;VALUE=DATE:20220811
SEQUENCE:0
TRANSP:OPAQUE
END:VEVENT
END:VCALENDAR