BEGIN:VCALENDAR
VERSION:2.0
PRODID:-//jEvents 2.0 for Joomla//EN
CALSCALE:GREGORIAN
METHOD:PUBLISH
BEGIN:VEVENT
UID:33edae71e43bb93551509ecf31658019
CATEGORIES:Polar Conferences, Meetings and Events
CREATED:20220207T084421
SUMMARY:WCRP sea-level conference - Abstract submission deadline 15 April
LOCATION:Singapore
DESCRIPTION:WCRP SEA LEVEL 2022 CONFERENCE Singapore | 12 – 16 July 2022 The call for p
 apers and registration is open for this conference ( (https://www.sealevelc
 onference.org/)<a href="https://www.sealevelconference.org/" target="_blank
 " rel="noopener">https://www.sealevelconference.org/</a>): submit abstracts
  by 15 April 2022. Early bird registration rates available on and before 1 
 April. Limited financial assistance is available for ECS and scientists fro
 m the Global South and practitioners a case-by-case basis. More information
  via the registration process. Advancing Science, Connecting SocietyCONFERE
 NCE THEMESPaleo sea-level and glacial isostatic adjustmentQuantifying the c
 ontribution of land ice to near-future sea level riseSea level budgetCoasta
 l sea level variabilityProgress and challenges for regional sea level, incl
 uding projections and applicationsCoastal risks and adaptationPractitioner 
 day with talks and panels on the use of science and translation on planning
 , risk management, adaptation action and practices in small island nations 
 and large cities The conference will be fully hybrid and is planning to be 
 carbon neutral. Linking sea-level science to practitioner concerns and need
 s is an essential step towards effective coastal adaptation. Talks and part
 icipation from all those interested in these issues is encouraged. There is
  one day for Paleo sea-level, GIA and the cryospheric contribution to sea-l
 evel. Five years after the WCRP sea level conference took place in New York
  in 2017, and one year after the last AR6 report provided a comprehensive s
 ummary of the state of climate related large scale sea level research, the 
 conference will address the existing challenges in describing and understan
 ding regional sea level changes. The conference will focus strongly on the 
 link from large-scale sea level information to coastal areas and societal i
 mplications of those changes to coastal communities. This will include dedi
 cated sessions devoted to practitioner interests and concerns, the science/
 practitioner interface, and the co-production between sea-level scientists 
 and practitioners of appropriate information to support coastal adaptation.
   The meeting is held in Singapore adjacent to south, south-east and east A
 sia where three quarters of the global population vulnerable to sea-level r
 ise live today. The meeting is hybrid allowing virtual or in-person partici
 pation. The WCRP SEA LEVEL 2022 CONFERENCE Organising CommitteeRobert Nicho
 lls, University of East Anglia. UKRoderik van de Wal, Utrecht University, N
 etherlandsKathy McInnes, CSIRO, AustraliaDavid Behar, San Francisco Public 
 Utilities Commission, USAAurel Moise, Meteorological Service Singapore, Sin
 gaporeBen Horton, Earth Observatory of Singapore, Singapore\n\n
X-ALT-DESC;FMTTYPE=text/html:<div><div style="text-align: justify;"><strong>WCRP SEA LEVEL 2022 CONFEREN
 CE Singapore | 12 – 16 July 2022</strong></div><div style="text-align: just
 ify;">&nbsp;</div><div style="text-align: justify;">The call for papers and
  registration is open for this conference (<a href="https://www.sealevelcon
 ference.org/" target="_blank" rel="noopener" data-saferedirecturl="https://
 www.google.com/url?q=https://www.sealevelconference.org/&amp;source=gmail&a
 mp;ust=1644307965215000&amp;usg=AOvVaw01lke318HgGyFuUBL9gsYN"></a><a href="
 https://www.sealevelconference.org/" target="_blank" rel="noopener">https:/
 /www.sealevelconference.org/</a>): <strong>submit abstracts by 15 April 202
 2</strong>. Early bird registration rates available on and before <strong>1
  April</strong>.&nbsp;Limited financial assistance is available for ECS and
  scientists from the Global South and practitioners a case-by-case basis. M
 ore information via the registration process.</div><div style="text-align: 
 justify;">&nbsp;</div><div style="text-align: justify;">Advancing Science, 
 Connecting Society</div><div><div>CONFERENCE THEMES</div><div><ul><li dir="
 ltr" aria-level="1"><div>Paleo sea-level and glacial isostatic adjustment</
 div></li><li dir="ltr" aria-level="1"><div>Quantifying the contribution of 
 land ice to near-future sea level rise</div></li><li dir="ltr" aria-level="
 1"><div>Sea level budget</div></li><li dir="ltr" aria-level="1"><div>Coasta
 l sea level variability</div></li><li dir="ltr" aria-level="1"><div>Progres
 s and challenges for regional sea level, including projections and applicat
 ions</div></li><li dir="ltr" aria-level="1"><div>Coastal risks and adaptati
 on</div></li><li dir="ltr" aria-level="1"><div>Practitioner day with talks 
 and panels on the use of science and translation on planning, risk manageme
 nt, adaptation action and practices in small island nations and large citie
 s</div></li></ul><div>&nbsp;</div></div><div><div>The conference will be fu
 lly hybrid and is planning to be carbon neutral.</div></div></div><div styl
 e="text-align: justify;">&nbsp;</div><div style="text-align: justify;">Link
 ing sea-level science to practitioner concerns and needs is an essential st
 ep towards effective coastal adaptation. Talks and participation from all t
 hose interested in these issues is encouraged. There is one day for Paleo s
 ea-level, GIA and the cryospheric contribution to sea-level.</div><div styl
 e="text-align: justify;">&nbsp;</div><div style="text-align: justify;">Five
  years after the WCRP sea level conference took place in New York in 2017, 
 and one year after the last AR6 report provided a comprehensive summary of 
 the state of climate related large scale sea level research, the conference
  will address the existing challenges in describing and understanding regio
 nal sea level changes. The conference will focus strongly on the link from 
 large-scale sea level information to coastal areas and societal implication
 s of those changes to coastal communities. This will include dedicated sess
 ions devoted to practitioner interests and concerns, the science/practition
 er interface, and the co-production between sea-level scientists and practi
 tioners of appropriate information to support coastal adaptation.&nbsp;</di
 v><div style="text-align: justify;">&nbsp;</div><div style="text-align: jus
 tify;">The meeting is held in Singapore adjacent to south, south-east and e
 ast Asia where three quarters of the global population vulnerable to sea-le
 vel rise live today. The meeting is hybrid allowing virtual or in-person pa
 rticipation.</div><div style="text-align: justify;">&nbsp;</div><div style=
 "text-align: justify;">The WCRP SEA LEVEL 2022 CONFERENCE Organising Commit
 tee</div><div style="text-align: justify;">Robert Nicholls, University of E
 ast Anglia. UK</div><div style="text-align: justify;">Roderik van de&nbsp;W
 al, Utrecht University, Netherlands</div><div style="text-align: justify;">
 Kathy McInnes, CSIRO, Australia</div><div style="text-align: justify;">Davi
 d Behar, San Francisco Public Utilities Commission, USA</div><div style="te
 xt-align: justify;">Aurel Moise, Meteorological Service Singapore, Singapor
 e</div><div style="text-align: justify;">Ben Horton, Earth Observatory of S
 ingapore, Singapore</div><div><br /><br /></div></div>
DTSTAMP:20260423T040826Z
DTSTART;TZID=UTC;VALUE=DATE:20220712
DTEND;TZID=UTC;VALUE=DATE:20220717
SEQUENCE:0
TRANSP:OPAQUE
END:VEVENT
END:VCALENDAR