BEGIN:VCALENDAR
VERSION:2.0
PRODID:-//jEvents 2.0 for Joomla//EN
CALSCALE:GREGORIAN
METHOD:PUBLISH
BEGIN:VEVENT
UID:82f0726af1935614a3cfe5d7e344910b
CATEGORIES:Polar Conferences, Meetings and Events
CREATED:20220201T130635
SUMMARY:"The Cold is Getting Hot!" Scientific Symposium: From Arctic to Antarctic
LOCATION:Monaco and Online
DESCRIPTION:The, Scientific Committee on Antarctic Research, and International Arctic S
 cience Committee (<a href="https://scar.us7.list-manage.com/track/click?u=a
 611f6f7c375923d8563a8821&amp;id=0755be8146&amp;e=064f3761be" target="_blank
 " rel="noopener" data-saferedirecturl="https://www.google.com/url?q=https:/
 /scar.us7.list-manage.com/track/click?u%3Da611f6f7c375923d8563a8821%26id%3D
 0755be8146%26e%3D064f3761be&amp;source=gmail&amp;ust=1643795107950000&amp;u
 sg=AOvVaw0XdGiHNg35IX0Y0RG1Ub54">IASC</a>) in collaboration with the Oceaog
 raphic Institute present ''.\nThis scientific symposium will convene leadin
 g scientists to discuss how, how fast, and in what ways changes in our plan
 et's polar regions are affecting Earth's climate, living and social systems
 , and how this affects us all. The event will be held on the 24th and 25th 
 February 2022 in person and online.\n
X-ALT-DESC;FMTTYPE=text/html:<p style="text-align: justify;">The<a href="https://scar.us7.list-manage.co
 m/track/click?u=a611f6f7c375923d8563a8821&amp;id=1db15b0021&amp;e=064f3761b
 e" target="_blank" rel="noopener" data-saferedirecturl="https://www.google.
 com/url?q=https://scar.us7.list-manage.com/track/click?u%3Da611f6f7c375923d
 8563a8821%26id%3D1db15b0021%26e%3D064f3761be&amp;source=gmail&amp;ust=16437
 95107950000&amp;usg=AOvVaw0w2K-ClLVLcoyhg1-oTQnY">&nbsp;Prince Albert II of
  Monaco Foundation</a>, Scientific Committee on Antarctic Research, and Int
 ernational Arctic Science Committee (<a href="https://scar.us7.list-manage.
 com/track/click?u=a611f6f7c375923d8563a8821&amp;id=0755be8146&amp;e=064f376
 1be" target="_blank" rel="noopener" data-saferedirecturl="https://www.googl
 e.com/url?q=https://scar.us7.list-manage.com/track/click?u%3Da611f6f7c37592
 3d8563a8821%26id%3D0755be8146%26e%3D064f3761be&amp;source=gmail&amp;ust=164
 3795107950000&amp;usg=AOvVaw0XdGiHNg35IX0Y0RG1Ub54">IASC</a>) in collaborat
 ion with the Oceaographic Institute present '<a href="https://scar.us7.list
 -manage.com/track/click?u=a611f6f7c375923d8563a8821&amp;id=594dde5194&amp;e
 =064f3761be" target="_blank" rel="noopener" data-saferedirecturl="https://w
 ww.google.com/url?q=https://scar.us7.list-manage.com/track/click?u%3Da611f6
 f7c375923d8563a8821%26id%3D594dde5194%26e%3D064f3761be&amp;source=gmail&amp
 ;ust=1643795107950000&amp;usg=AOvVaw1ja0DK98bd7_6NjnIuRsFR"><strong>The Col
 d is Getting Hot!</strong></a>'.</p><p style="text-align: justify;">This sc
 ientific symposium will convene leading scientists to discuss how, how fast
 , and in what ways changes in our planet's polar regions are affecting Eart
 h's climate, living and social systems, and how this affects us all. The ev
 ent will be held on the <strong>24th</strong> and <strong>25th February 202
 2</strong> in person and online.</p>
DTSTAMP:20260425T193411Z
DTSTART;TZID=UTC;VALUE=DATE:20220224
DTEND;TZID=UTC;VALUE=DATE:20220226
SEQUENCE:0
TRANSP:OPAQUE
END:VEVENT
END:VCALENDAR